{"text_format":"1","workbook":"xlsx","n_sheets":28,"sheets":["Recap Sheet","Instructions","Beef","Chicken","Turkey","Fish","Pork","Pizza ","Frozen Entrees","Dairy & Yogurt","Franks & Corn Dogs","Eggs","Frozen Potato ","Fruit","Shelf-stable Vegetables","Breakfast Products","Smart Snacks","Beverages","Condiments Portion Control","Frz Bread","Frz Juice","Groceries","Frz Vegetables","Spices- Flavorings","Special Diet Foods","Disposables","Chemicals","Sheet2"],"not_rendered":{"charts":0,"images":1,"macros":1,"external_links":0,"defined_names":79,"comments":5,"pivot_tables":0},"unopened":[],"bounds":{"document_bytes":16777216,"sheet_cells":100000,"rows_first":2000,"rows_last":500,"rows_between":2000,"halvings":0,"cell_chars":16384,"cell_head_chars":4096},"cells_cut":0,"cells_raw":0,"read":"whole","date_system":"1900"}

{"sheet":"Recap Sheet","index":0,"n_rows":32,"n_cols":2,"rows_kept":32,"cut":false,"hidden":false,"merged":[[4,0,4,1]]}
["South Carolina School Food Service Purchasing Alliance,Inc"]
["School Food Authority or Agency Name:","Marion County School District"]
["Bidder's Name:"]
["Firm Fixed Fee"]
["Bid Recap"]
["Categories","Subtotals"]
["Beef 100-2000",{"$f":"Beef!M97","v":18438.5}]
["Chicken 2001-4000",{"$f":"Chicken!M256","v":59073.55}]
["Turkey 4001-6000",{"$f":"Turkey!M83","v":19923.3}]
["Fish 6001-8000",{"$f":"Fish!M45","v":0}]
["Pork 8001-10000",{"$f":"Pork!M57","v":12071.48}]
["Pizza 10001-12000",{"$f":"'Pizza '!M183","v":7460}]
["Frozen Entrees 12001-14000",{"$f":"'Frozen Entrees'!M89","v":6876}]
["Dairy & Yogurt 14001-16000",{"$f":"'Dairy & Yogurt'!M95","v":4606}]
["Franks & Corn Dogs 16001-18000",{"$f":"'Franks & Corn Dogs'!M74","v":3385}]
["Eggs 18001-20000",{"$f":"Eggs!M57","v":3186.4}]
["Frozen Potato 20001-22000",{"$f":"'Frozen Potato '!M98","v":23461}]
["Fruit 22001-24000",{"$f":"Fruit!M128","v":26510.05}]
["Shelf-stable Vegetables 24001- 26000",{"$f":"'Shelf-stable Vegetables'!M102","v":6186.1799999999994}]
["Frozen Juice 26001-28000",{"$f":"'Frz Juice'!M77","v":0}]
["Breakfast Products 28001- 30000",{"$f":"'Breakfast Products'!M339","v":39375.130000000005}]
["Smart Snacks 30001 - 32000",{"$f":"'Smart Snacks'!M137","v":24670.41}]
["Beverages 32001 - 34000",{"$f":"Beverages!M78","v":2728.6}]
["Condiments Portion Control 34001- 36000",{"$f":"'Condiments Portion Control'!M169","v":20295.61}]
["Groceries 36001-38000",{"$f":"Groceries!M207","v":0}]
["Frozen Vegetables 38001- 40000",{"$f":"'Frz Vegetables'!M68","v":0}]
["Spices- Flavorings 40001 - 42000",{"$f":"'Spices- Flavorings'!M157","v":0}]
["Frozen Bread 42001- 44000",{"$f":"'Frz Bread'!M121","v":70511.099999999991}]
["Special Diet Foods 44001 - 46000",{"$f":"'Special Diet Foods'!M62","v":0}]
["Disposables 46001- 48000",{"$f":"Disposables!M233","v":0}]
["Chemicals 48001 - 50000",{"$f":"Chemicals!M17","v":0}]
["Lot A Total",{"$f":"SUM(B7:B31)","v":348758.31}]

{"sheet":"Instructions","index":1,"n_rows":38,"n_cols":12,"rows_kept":38,"cut":false,"hidden":true,"merged":[]}
["South Carolina School Food Service Purchasing Alliance, Inc."]
["Manufactured Direct/Commodity Processing Bid"]
["2021-2022"]
["Instructions for Manufacturers"]
[]
["The South Carolina School Food Service Purchasing Alliance, Inc. (hereafter SCSFSPA) is requesting guaranteed fixed delivered pricing for items listed in the eighteen (18) categories from August 1, 2021 -July 31, 2022.  Prices received shall be delivered pricing to all distributors specified."]
["The SCSFSPA does not guarantee the accuracy of estimates or continued use of products by SCSFSPA member districts. Pricing secured on this bid will be guaranteed to all SCSFSPA distributors for use on SCSFSPA bids only during the 2021-2022 school year.  Quantities entered are estimates of annual usage figures based on all distributor usage reports and commodity usage reports from tracking agencies."]
[null,null,null,null,"ABC Food Company"]
["Instructions:",null,null,null,"123 Apple Valley Road"]
["1.  In order to submit Manufactured Direct Commodity Processing pricing for Solicitation B00000002122, each manufacturer submitting pricing must follow the process described herein.  Failure to complete as specified may result in rejection of pricing.",null,null,null,"Ruraltown, South Carolina 123456"]
["2. CHECK product information and make any necessary corrections to code #, vendor pack size, servings per case, or DF for commodity processing. HIGHLIGHT any cells with CHANGES in RED. Corrections to specifications can only be made through release of an Amendment to all bidders. ",null,"Agency: ","South Carolina School Food Service Purchasing Alliance, Inc.",null,null,null,null,null,"Delivery Period and Delivered Price:"]
["3. Instructions for Submitting Bid Pricing (See Example on the right)",null,"Bid #","B00000001920",null,"Distributors:",null,"Gordon FS- Kannapolis NC, Merchants FS - Newberry SC, Sysco Foodservice of SC- Columbia SC, "]
["   a   On company letterhead, please include the following information:"," ",null,null,null,null,null,"US Foods Inc.-Fort Mill,SC, US Foods Inc.- Lexington, SC"]
["   b.  Company name, address,      "," "," "," "," "," ",null," "," "," "," "," "]
["   c.  Include Bid #B00000002122","Item #","Category","Product Description",null,"Brand ",null,"Vendor","Est. Bid","Delivered ","NOI ","Processing"]
["   d.  Include South Carolina School Food Service Purchasing Alliance, Inc. as \"Agency\" ",null,null,null,null,"Name",null,"Pack","Qty","Case","Eligible","Fee for "]
["   e.  Include names of authorized distributors:  Gordon Foodservice-Kannapolis, NC, Merchants Foodservice-Newberry. SC,          Sysco Food Services of SC-Columbia, SC, US Foods Inc.-Fort Mill, SC and US Foods Inc.-Lexington, SC",null,null,null,null,null,null,null,null,"Price",null,"Service"]
["   f.   Include \"Delivery Period and Price Guarantee:  08/01/21 - 07/31/22\"",1,"Beef","Beef Patties",null,"ABC",null,"200/2.4oz",500,25,"NO",52.5]
["   g. TAB TO CATEGORY and include Item # COLUMN A, Product Description COLUMN B, Manufacturer Commercial Product Code # COLUMN D, Vendor Pack COLUMN E, Estimated Bid Qty COLUMN I, ",2,"Beef","Beef Patties, No TVP",null,"ABC",null,"50/3.10oz",600,35,"YES","NO"]
["   h. Enter commerical case price for each product that you are bidding. Price quoted is delivered to all SCSFSA distributors listed in 3(e).",8,"Chicken","Chicken Patty",null,"Cluckin",null,"40/3.50z",2000,45,"NO",42.5]
["   i.  Only one price may be entered for each product unless otherwise specified. We will not accept bracketed pricing. "]
["   j.  NOI (Net Off Invoicing):  If product is eligible for NOI purchases, designate \"NOI YES OR NO\".  ",null,null,"I am authorized to submit pricing on behalf of the manufacturer and the products listed herein."]
["   k. FFS (Fee for Service):   If product is processed through Fee for Service, Include the dollar amount for \"Processing Fee for        Service\" "]
["   l.  Include the statement, \"I am authorized to submit pricing on behalf of the manufacturer and products listed herein\".  Print name and sign."]
["4. All PRODUCTS included in this bid sheet have been PREAPPROVED.  No products may be added to specifications unless issued through an amendment.",null,null,"John E. Doe"]
["5.  COMMODITY VALUES came from the SY22 Summary End Product Data Schedule (NPA SEPDS A).",null,null,"John E. Doe"]
["6.  The commodity draw per case (DF) has been entered in column \"S\" from the latest available information.  If corrections are "]
["made, highlight the cell in RED.  "]
["7.  Complete pricing for each item and email to Donnie Chavis at director@scpurchasingalliance.org no later than 11:59 pm (EST) Tuesday, February 5, 2021."]
[" "]
[]
["Method of Award"]
["Commercial Line Item:  Lowest Bidder:  Total Cost per Serving per Specification"]
["Award Formula:  Commercial Bid Price (COLUMN L) / Servings per Case (COLUMN G) Equals Total Gross Cost Per Serving "]
["(COLUMN N)"]
[]
["Commodity Line Item:  Lowest Bidder:  Total Cost per Serving per Specification"]
["Award Formula:  Processing Fee for Service (COLUMN R/Servings per Case (COLUMN Y) (If applicable)"]

{"sheet":"Beef","index":2,"n_rows":97,"n_cols":26,"rows_kept":97,"cut":false,"hidden":false,"merged":[[85,1,85,6],[2,16,4,16],[1,5,1,13],[2,6,2,10],[0,5,0,13],[2,15,4,15]]}
[null,{"$f":"'Recap Sheet'!A2","v":"School Food Authority or Agency Name:"},null,null,null,{"$f":"'Recap Sheet'!A3","v":"Bidder's Name:"}]
["100-",{"$f":"'Recap Sheet'!B2","v":"Marion County School District"},"Return to Recap Sheet",null,null,{"$f":"'Recap Sheet'!B3","v":0},null,null,null,null,null,null,null,null,null,null,null,null,"Commodity"]
[2000,"Description","Approved Brand Name",null,null,null,"Firm Fixed Fee",null,null,null,null,{"$f":"'Recap Sheet'!B4","v":0},null,null,"Manufacturer","Vendor Pack","Servings per case","Processing","Lbs of DF","Comm. $","Total Cost","NOI ?","NOI ","Net NOI ","Fee for Serivce","FFS + Comm."]
["SCPA",null,null,"Manufacturers","Distributor","Vendor","Svgs","Est.","Bid ","Bid","Unit","Unit Price","Total ","Cost per","USDA Product",null,null,"Fee  for","Needed/cs","Per Case","Proc Fee + ","Enter","Net","Cost Per","Cost Per Serv.","Value Cost/serv"]
[" Code",null,null,"Code","Code","Pack","per unit","Bid Qty","Qty","Unit","Price","plus Fee","Price","Serving","Code",null,null,"Service",null,null,"Comm Value","Y or N","Price","Serving","Processing Fee","U ÷ Q"]
[null,"Category: Beef  ",null,null,null,null,null,null,null,null,null,null,null,null,"Beef Coarse Grd 60#",null,100154,"Commodity Value per lb",null,null,2.6869999999999998]
[]
[100,"Beef Chili, (For Hot Dogs)","Chandler","65-464",null,"4/5 lbs",160,50,{"$f":"ROUND(H8*G8/G8,2)","v":50},"Cs",31.6,{"$f":"IF(OR(ISBLANK(K8),K8=0,H8=0,ISBLANK(H8)),,ROUND(K8+$L$3,2))","v":31.6},{"$f":"ROUND(I8*L8,2)","v":1580},{"$f":"ROUND(L8/G8,4)","v":0.19750000000000001},null,null,null,null,null," ",null,null," "," "]
[null,"Frozen, Fully cooked, No beans, 40-80 calories with no more than 1 g","JTM","5320CE",null,"6/5#",104,null,{"$f":"ROUND(H8*G8/G9,2)","v":76.92},"Cs",null,{"$f":"IF(OR(ISBLANK(K9),K9=0,H8=0,ISBLANK(H8)),,ROUND(K9+$L$3,2))","v":0},{"$f":"ROUND(I9*L9,2)","v":0},{"$f":"ROUND(L9/G9,4)","v":0},"CP5320","6/5 lbs",104,29.29,9.1199999999999992,{"$f":"ROUND($U$6*S9,2)","v":24.51},{"$f":"IF(ISBLANK(O9),,R9+T9)","v":53.8},"N",{"$f":"IF(ISNUMBER(R9),IF(V9=\"Y\",(K9-T9)))","v":false},{"$f":"W9/Q9","v":0},0.28163461538461537,0.51730769230769225]
[null,"saturated fat and 250 mg sodium per 2 oz. serving."," "]
[null,"Possible Allergens:  Soy, Wheat",null,null,null,null,null,null,null,null,null,null,null,null,null,null,null,null,null,null,null,null,null,null," "]
[101,"Beef Crumbles, Unseasoned","Don Lee Farms","CN1540L",null,"4/10 lbs",320,null,{"$f":"ROUND(H12*G12/G12,2)","v":0},"Cs",111.6,{"$f":"IF(OR(ISBLANK(K12),K12=0,H12=0,ISBLANK(H12)),,ROUND(K12+$L$3,2))","v":0},{"$f":"ROUND(I12*L12,2)","v":0},{"$f":"ROUND(L12/G12,4)","v":0},"CNQ15401","4/10#",320,29.6,64.52,{"$f":"ROUND($U$6*S12,2)","v":173.37},{"$f":"IF(ISBLANK(O12),,R12+T12)","v":202.97},"N",{"$f":"IF(ISNUMBER(R12),IF(V12=\"Y\",(K12-T12)))","v":false},{"$f":"W12/G12","v":0},9.2499999999999999E-2,0.63428125000000002]
[null,"Frozen, fully cooked ground beef, (no more than 20% fat), 100-150 ","Adv. Pierre ",10000019132,null,"236/2.03z",236,null,{"$f":"ROUND(H12*G12/G13,2)","v":0},"Cs",null,{"$f":"IF(OR(ISBLANK(K13),K13=0,H12=0,ISBLANK(H12)),,ROUND(K13+$L$3,2))","v":0},{"$f":"ROUND(I13*L13,2)","v":0},{"$f":"ROUND(L13/G13,4)","v":0},10000032041,"236/2.03 oz",236,null,47.72,{"$f":"ROUND($U$6*S13,2)","v":128.22},128.22,"N",{"$f":"IF(ISNUMBER(R13),IF(V13=\"Y\",(K13-T13)))","v":false},{"$f":"W13/G13","v":0}]
[null,"calories with no more  than 4 g saturated fat and 250 mg sodium per","Integrated ","N32000B",null,"316/2.02 z",316,null,{"$f":"ROUND(H12*G12/G14,2)","v":0},"Cs",null,{"$f":"IF(OR(ISBLANK(K14),K14=0,H12=0,ISBLANK(H12)),,ROUND(K14+$L$3,2))","v":0},{"$f":"ROUND(I14*L14,2)","v":0},{"$f":"ROUND(L14/G14,4)","v":0},"C32000B","316/2.02 oz.",316,null,53.19,{"$f":"ROUND($U$6*S14,2)","v":142.91999999999999},142.91999999999999,"N",{"$f":"IF(ISNUMBER(R14),IF(V14=\"Y\",(K14-T14)))","v":false},{"$f":"W14/G14","v":0}]
[null,"2 M/MA serving.  CN Labeled with serving size to provide min. 2 M/MA"]
[null,"Possible Allergens:  None ",null,null,null,null,null,null,null,null,null,null,null,null,null,null,null,null,null,null,null,null,null,null," "]
[102,"Beef, Meatball","Don Lee Farms ","CN28053VS",null,"240/2.0z",240,50,{"$f":"ROUND(H17*G22/G22,2)","v":50},"Cs",71.099999999999994,{"$f":"IF(OR(ISBLANK(K17),K17=0,H17=0,ISBLANK(H17)),,ROUND(K17+$L$3,2))","v":71.099999999999994},{"$f":"ROUND(I17*L17,2)","v":3555},{"$f":"ROUND(L17/G17,4)","v":0.29630000000000001},"CNQ28053VS","240/2.0z",240,23.7,28.06,{"$f":"ROUND($U$6*S17,2)","v":75.400000000000006},{"$f":"IF(ISBLANK(O17),,R17+T17)","v":99.100000000000009},"N",{"$f":"IF(ISNUMBER(R17),IF(V17=\"Y\",(K17-T17)))","v":false},{"$f":"W17/G17","v":0},9.8749999999999991E-2,0.41291666666666671]
[null,"Frozen, IQF, Fully cooked ground beef (no more than 30% fat)","Maid Rite","75156-04105",null,"960/.5z",192,null,{"$f":"ROUND(H17*G22/G18,2)","v":50},"Cs",null,{"$f":"IF(OR(ISBLANK(K18),K18=0,H17=0,ISBLANK(H17)),,ROUND(K18+$L$3,2))","v":0},0,0,"75156-94105","960/.5 oz",192,null,24.934999999999999,67,67,"N",false,0]
[null,"100-200 calories with no more than 6 g saturated fat and 300 mg ","Integrated ","N22050B",null,"1280/.5z",256,null,{"$f":"ROUND(H17*G22/G19,2)","v":37.5},"Cs",null,{"$f":"IF(OR(ISBLANK(K19),K19=0,H17=0,ISBLANK(H17)),,ROUND(K19+$L$3,2))","v":0},0,0,"C22050B","1280/.5 oz",256,null,34.340000000000003,92.27,92.27,"N",false,0]
[null,"sodium per serving.  CN Labeled for 5 meatballs to provide min 2 M/MA","JTM","5030CE",null,"171.2.80z",171,null,{"$f":"ROUND(H17*G22/G20,2)","v":56.14},"Cs",null,{"$f":"IF(OR(ISBLANK(K20),K20=0,H17=0,ISBLANK(H17)),,ROUND(K20+$L$3,2))","v":0},0,0,"CP5030","171/2.80 oz.",171,null,23.78,63.9,63.9,"N",false,0]
[null,"VPP allowed","Rich Products ",55668,null,"2/5 lb",64,null,{"$f":"ROUND(H17*G22/G21,2)","v":150},"Cs",null,{"$f":"IF(OR(ISBLANK(K21),K21=0,H17=0,ISBLANK(H17)),,ROUND(K21+$L$3,2))","v":0},0,0]
[null,"Possible Allergens: Wheat, Soy and Milk","Adv. Pierre",10000097726,null,"960/.5z",192,null,{"$f":"ROUND(H17*G22/G17,2)","v":40},"Cs",null,{"$f":"IF(OR(ISBLANK(K22),K22=0,H17=0,ISBLANK(H17)),,ROUND(K22+$L$3,2))","v":0},0,0,"10000011750","192/2.5 oz",192,null,23.4,62.88,{"$f":"IF(ISBLANK(O22),,R22+T22)","v":62.88},"N",false,0]
[]
[103,"Beef Nugget, Teriyaki","Don Lee Farms  ","CNTDO753",null,"160/3.0z",160,null,{"$f":"ROUND(H24*G24/G24,2)","v":0},"Cs",64.8,{"$f":"IF(OR(ISBLANK(K24),K24=0,H24=0,ISBLANK(H24)),,ROUND(K24+$L$3,2))","v":0},{"$f":"ROUND(I24*L24,2)","v":0},{"$f":"ROUND(L24/G24,4)","v":0},"CNQTDO753","160/3.0z",160,22.5,29.41,{"$f":"ROUND($U$6*S24,2)","v":79.02},{"$f":"IF(ISBLANK(O24),,R24+T24)","v":101.52},"N",{"$f":"IF(ISNUMBER(K24),IF(V24=\"Y\",(K24-T24)))","v":false},0,0.140625,0.63449999999999995]
[null,"Frozen, Fully cooked ground beef (no more than 30% fat)","Advance Pierre",10000003940,null,"143/2.80z",143,null,{"$f":"ROUND(H24*G24/G25,2)","v":0},"Cs",null,{"$f":"IF(OR(ISBLANK(K25),K25=0,H24=0,ISBLANK(H24)),,ROUND(K25+$L$3,2))","v":0},{"$f":"ROUND(I25*L25,2)","v":0},{"$f":"ROUND(L25/G25,4)","v":0},"10000013740","143/2.8z",143,null,22.85,{"$f":"ROUND($U$6*S25,2)","v":61.4},{"$f":"IF(ISBLANK(O25),,R25+T25)","v":61.4},"N",{"$f":"IF(ISNUMBER(K25),IF(V25=\"Y\",(K25-T25)))","v":false},0]
[null,"100-200 calories with no more than 4g saturated fat and 450 mg ","AFG ",90927,null,"143/2.80z 143",143,null,{"$f":"ROUND(H24*G24/G26,2)","v":0},"Cs",null,{"$f":"IF(OR(ISBLANK(K26),K26=0,H24=0,ISBLANK(H24)),,ROUND(K26+$L$3,2))","v":0},{"$f":"ROUND(I26*L26,2)","v":0},{"$f":"ROUND(L26/G26,4)","v":0}]
[null,"sodium per serving. CN Labeled for  4 nuggets to provide 2 M/MA VPP"]
[null,"Possible Allergens:  Wheat, Soy",null,null,null,null,null,null,null,null,null,null,null,null,null,null,null,null,null,null,null,null,null,null," "]
[104,"Beef Steak Patties, Breaded","Advanced Pierre",10000068131,null,"85/3.80z",85,50,{"$f":"ROUND(H29*G29/G29,2)","v":50},"Cs",68.98,{"$f":"IF(OR(ISBLANK(K29),K29=0,H29=0,ISBLANK(H29)),,ROUND(K29+$L$3,2))","v":68.98},{"$f":"ROUND(I29*L29,2)","v":3449},{"$f":"ROUND(L29/G29,4)","v":0.8115},10000069035,"85/3.8z",85,28.04,15.71,{"$f":"ROUND($U$6*S29,2)","v":42.21},{"$f":"IF(ISBLANK(O29),,R29+T29)","v":70.25},"N",{"$f":"IF(ISNUMBER(R29),IF(V29=\"Y\",(K29-T29)))","v":false},{"$f":"W29/G29","v":0},0.32988235294117646,0.82647058823529407]
[null,"Frozen, Fully cooked, ground beef (no more than 20% fat) 100-200",null,null,null,null,null,null,null,null,null,null,null,null,null,null,null,null,null,null,null,null,null,null," "]
[null,"calories with no more than  5 g saturated fat and 300 mg sodium per"]
[null,"serving. CN Labeled for one portion to provide 2 M/MA. Pack in oven sle",null,null,null,null,null,null,null,null,null,null,null,null,null,null,null,null,null,null,null,null,null,null," "]
[null," Possible Allergens:  Soy",null,null,null,null,null,null,null,null,null,null,null,null,null,null,null,null,null,null,null,null,null,null," "]
[105,"Beef Patte, Flame or Charbroiled","Don Lee Farms ","CN202503",null,"198/2.50 z",198,50,{"$f":"ROUND(H34*G34/G34,2)","v":50},"Cs",54.15,{"$f":"IF(OR(ISBLANK(K34),K34=0,H34=0,ISBLANK(H34)),,ROUND(K34+$L$3,2))","v":54.15},{"$f":"ROUND(I34*L34,2)","v":2707.5},{"$f":"ROUND(L34/G34,4)","v":0.27350000000000002},"CNQ212503","200/2.50 oz",200,22.81,22.29,{"$f":"ROUND($U$6*S34,2)","v":59.89},{"$f":"IF(ISBLANK(O34),,R34+T34)","v":82.7},"N",{"$f":"IF(ISNUMBER(R34),IF(V34=\"Y\",(K34-T34)))","v":false},{"$f":"W34/G34","v":0},0.11405,0.41350000000000003]
[null,"Frozen, IQF, Fully cooked ground beef no more than 20% fat)","Advance ",10000015552,null,"200/2.5z",200,null,{"$f":"ROUND($H$34*$G$34/G35,2)","v":49.5},"Cs",null,{"$f":"IF(OR(ISBLANK(K35),K35=0,H34=0,ISBLANK(H34)),,ROUND(K35+$L$3,2))","v":0},{"$f":"ROUND(I35*L35,2)","v":0},{"$f":"ROUND(L35/G35,4)","v":0}]
[null,null,"Maid Rite ","75156-03427",null,"213/2.25z",213,null,{"$f":"ROUND($H$34*$G$34/G36,2)","v":46.48},"Cs",null,{"$f":"IF(OR(ISBLANK(K36),K36=0,H34=0,ISBLANK(H34)),,ROUND(K36+$L$3,2))","v":0},{"$f":"ROUND(I36*L36,2)","v":0},{"$f":"ROUND(L36/G36,4)","v":0},"75156-93427","213/2.25 oz.",213,null,35.06,{"$f":"ROUND($U$6*S36,2)","v":94.21},{"$f":"IF(ISBLANK(O36),,R36+T36)","v":94.21},"N",{"$f":"IF(ISNUMBER(R36),IF(V36=\"Y\",(K36-T36)))","v":false},{"$f":"W36/G36","v":0}]
[null,"Alternate protein products must meet the requirements in Apendix A ",null,null,null,null,null,null,null,null,null," ","  "," "]
[null,"of 7 CFR 210.  Sodium content is not more than 250 mg per serving",null,null,null,null,null,null,null,null,null," ","  "," "]
[null,"Product  provides 2 oz. M/MA per serving.",null,null,null,null,null,null,null,null,null,null,null,null,null,null,null,null,null,null,null,null,null,null," "]
[null,"Possible Allergens:  Soy",null,null,null,null,null,null,null,null,null,null,null,null,null,null,null,null,null,null,null,null,null,null," "]
[106,"Beef Patties, No TVP","Integrated ","N32300B-NF",null,"90/3.0z",90,null,{"$f":"ROUND(H41*G41/G41,2)","v":0},"Cs",63.8,{"$f":"IF(OR(ISBLANK(K41),K41=0,H41=0,ISBLANK(H41)),,ROUND(K41+$L$3,2))","v":0},{"$f":"ROUND(I41*L41,2)","v":0},{"$f":"ROUND(L41/G41,4)","v":0},"C32300B-NF","90/3.0 0z.",90,24.47,22.58,{"$f":"ROUND($U$6*S41,2)","v":60.67},{"$f":"IF(ISBLANK(O41),,R41+T41)","v":85.14},"N",{"$f":"IF(ISNUMBER(R41),IF(V41=\"Y\",(K41-T41)))","v":false},{"$f":"W41/G41","v":0},0.2718888888888889,0.94599999999999995]
[null,"Frozen, IQF, Fully cooked ground beef, Not more than 20% fat Sodium ","Integrated ",null,null,null,null,null,null,null,null,null,null,null,"C32400B","90/4.0z",90,29.88,30.11,{"$f":"ROUND($U$6*S42,2)","v":80.91},{"$f":"IF(ISBLANK(O42),,R42+T42)","v":110.78999999999999},"N",{"$f":"IF(ISNUMBER(R42),IF(V42=\"Y\",(K42-T42)))","v":false},{"$f":"W42/Q42","v":0},0.33199999999999996,1.2309999999999999]
[null,"not to exceed 275 mg sodium per serving Must provide 2.0 oz. M/MA  ","Integrated ","N32225B",null,"140/2.25z",140,null,{"$f":"ROUND(H43*G43/G43,2)","v":0},"Cs",78.45,{"$f":"IF(OR(ISBLANK(K43),K43=0,H43=0,ISBLANK(H43)),,ROUND(K43+$L$3,2))","v":0},{"$f":"ROUND(I43*L43,2)","v":0},{"$f":"ROUND(L43/G43,4)","v":0},"C32225B","140/2.25z",140,29.05,26.34,{"$f":"ROUND($U$6*S43,2)","v":70.78},{"$f":"IF(ISBLANK(O43),,R43+T43)","v":99.83},"N",{"$f":"IF(ISNUMBER(R43),IF(V43=\"Y\",(K43-T43)))","v":false},{"$f":"W43/Q43","v":0},0.20750000000000002,0.71307142857142858]
[null,"Possible Allergens:  None Listed ",null,null,null,null,null,null,null,null,null,null,null,null,null,null,null,null,null,null,null,null,null,null," "]
[107,"Beef Pattie, Salisbury Steak","Don Lee Farms","CN752253 ",null,"200/2.25z",200,50,{"$f":"ROUND(H45*G45/G45,2)","v":50},"Cs",68.180000000000007,{"$f":"IF(OR(ISBLANK(K45),K45=0,H45=0,ISBLANK(H45)),,ROUND(K45+$L$3,2))","v":68.180000000000007},{"$f":"ROUND(I45*L45,2)","v":3409},{"$f":"ROUND(L45/G45,4)","v":0.34089999999999998},"CNQ752503","200/2.50 oz",200,22.19,33.200000000000003,{"$f":"ROUND($U$6*S45,2)","v":89.21},{"$f":"IF(ISBLANK(O45),,R45+T45)","v":111.39999999999999},"N",{"$f":"IF(ISNUMBER(R45),IF(V45=\"Y\",(K45-T45)))","v":false},{"$f":"W45/G45","v":0},0.11095000000000001,0.55699999999999994]
[null,"Frozen, fully cooked ground beef (no more than 30% fat) 100-200 calories","Advanced Pierre ",10000065300,null,"114/3z",114,null,{"$f":"ROUND(H45*G45/G46,2)","v":87.72},"cs",null,{"$f":"IF(OR(ISBLANK(K46),K46=0,H45=0,ISBLANK(H45)),,ROUND(K46+$L$3,2))","v":0},{"$f":"ROUND(I46*L46,2)","v":0},{"$f":"ROUND(L46/G46,4)","v":0},10000008443,"170/3z",170,null,24.25,{"$f":"ROUND($U$6*S46,2)","v":65.16},{"$f":"IF(ISBLANK(O46),,R46+T46)","v":65.16},"N",{"$f":"IF(ISNUMBER(R46),IF(V46=\"Y\",(K46-T46)))","v":false},{"$f":"W46/G46","v":0}]
[null,"with no more than 6 g sat fat and 450 mg sodium per serving.  ","JTM ","5632CE",null,"172/2.78z",172,null,{"$f":"ROUND(H45*G45/G47,2)","v":58.14},"Cs",null,{"$f":"IF(OR(ISBLANK(K47),K47=0,H45=0,ISBLANK(H45)),,ROUND(K47+$L$3,2))","v":0},{"$f":"ROUND(I47*L47,2)","v":0},{"$f":"ROUND(L47/G47,4)","v":0},"CP5632","172/2.78 oz.",172,null,25.38,{"$f":"ROUND($U$6*S47,2)","v":68.2},{"$f":"IF(ISBLANK(O47),,R47+T47)","v":68.2},"N",{"$f":"IF(ISNUMBER(R47),IF(V47=\"Y\",(K47-T47)))","v":false},{"$f":"W47/G47","v":0}]
[null,"CN labeled for one portion to provide min. 2.0 oz. M/MA. VPP Allowed","AFG ",90852,null,"208/2.30z",208,null,{"$f":"ROUND(H45*G45/G48,2)","v":48.08},"cs",null,{"$f":"IF(OR(ISBLANK(K48),K48=0,H45=0,ISBLANK(H45)),,ROUND(K48+$L$3,2))","v":0},{"$f":"ROUND(I48*L48,2)","v":0},{"$f":"ROUND(L48/G48,4)","v":0},null,null,null,null,null,null,null,null,null,null,0]
[null,null,null,null,null,null,null,null,null,null,null,null,null,null,null,null,null,null,null,null,null,null,null,null,0]
[]
[null,"Possible Allergens: Wheat, Soy, Milk"]
[108,"Beef Steak Burger (Mini Slider). Charbroiled","Don Lee Farms ","CN161203",null,"400/1.2z",400,20,{"$f":"ROUND(H52*G52/G52,2)","v":20},"Cs",77.7,{"$f":"IF(OR(ISBLANK(K52),K52=0,H52=0,ISBLANK(H52)),,ROUND(K52+$L$3,2))","v":77.7},{"$f":"ROUND(I52*L52,2)","v":1554},{"$f":"ROUND(L52/G52,4)","v":0.1943},"CNQ161203","400/1.2z",400,21.9,48.62,{"$f":"ROUND($U$6*S52,2)","v":130.63999999999999},{"$f":"IF(ISBLANK(O52),,R52+T52)","v":152.54},"N",{"$f":"IF(ISNUMBER(R52),IF(V52=\"Y\",(K52-T52)))","v":false},{"$f":"W52/G52","v":0},5.4749999999999993E-2,0.38134999999999997]
[null,"Frozen, Fully cooked, made from ground beef (no more than 30% fat)",null,null,null," "," ",null,null,null,null,null,null,null,null,null,null,null," "," ",null,null," "," "," "]
[null,"0-150 calories with not more than 4 g saturated fat and 200 mg of "]
[null,"sodium per serving. CN labeled for one portion to provide 1 M/MA"]
[]
[null,"Possible Allergens:  None Listed Gluten Free",null,null,null,null,null,null,null,null,null,null,null,null,null,null,null,null,null,null,null,null,null,null," "]
[109,"Meatloaf with Ketchup","Advanced Pierre CN",10000029300,null,"100/3.0z",100,50,{"$f":"ROUND(H58*G58/G58,2)","v":50},"Cs",43.68,{"$f":"IF(OR(ISBLANK(K58),K58=0,H58=0,ISBLANK(H58)),,ROUND(K58+$L$3,2))","v":43.68},{"$f":"ROUND(I58*L58,2)","v":2184},{"$f":"ROUND(L58/G58,4)","v":0.43680000000000002},null,null,null,null,null,{"$f":"ROUND($U$6*S58,2)","v":0},{"$f":"IF(ISBLANK(O58),,R58+T58)","v":0},"N",{"$f":"IF(ISNUMBER(R58),IF(V58=\"Y\",(K58-T58)))","v":false},{"$f":"W58/G58","v":0},false,{"$error":"#DIV/0!"}]
[null,"Made from ground beef (no more than 30% fat)  Fully cooked, may "," ",null,null," "," ",null,null,null,null,null,null,null,null,null,null,null," "," ",null,null," "," "," "]
[null,"contain VPP One portion to provide 2 oz. M/MA"]
[null,"Possible Allergens:  Soy",null,null,null,null,null,null,null,null,null,null,null,null,null,null,null,null,null,null,null,null,null,null," "]
[110,"Beef, Taco Filling Meat, Reduced Fat and Sodium","JTM ","5250CE",null,"6/5 lb",151,null,{"$f":"ROUND(H62*G62/G62,2)","v":0},"Cs",69.98,{"$f":"IF(OR(ISBLANK(K62),K62=0,H62=0,ISBLANK(H62)),,ROUND(K62+$L$3,2))","v":0},{"$f":"ROUND(I62*L62,2)","v":0},{"$f":"ROUND(L62/G62,4)","v":0},"CP5250 ","6/5 lbs",151,28.75,16.79,{"$f":"ROUND($U$6*S62,2)","v":45.11},{"$f":"IF(ISBLANK(O62),,R62+T62)","v":73.86},"N",{"$f":"IF(ISNUMBER(R62),IF(V62=\"Y\",(K62-T62)))","v":false},{"$f":"W62/G62","v":0},0.19039735099337748,0.4891390728476821]
[null,"Frozen, fully cooked ground beef, no more than 20% fat, Boilable bags,",null,null,null,null,null,null,null,null,null,null,null,null,null,null,null,null,null,null,null,null,null,null," "]
[null," 100-200 calories with no more than 2 g sat fat and 300 mg sodium  ",null,null,null,null,null,null,null,null,null,null,null,null,null,null,null,null,null,null,null,null,null,null," "]
[null," per svg. CN labeled with serving size to provide min. 2.0 oz. M/MA "]
[null,"and 1/8 cup Red/Orange Vegetable"]
[null,"Possible Allergens: Soy",null,null,null,null,null,null,null,null,null,null,null,null,null,null,null,null,null,null,null,null,null,null," "]
[111,"Steak Nugget      ","Advanced Pierre CN",10000009661,null,"133/3.6z",100,null,{"$f":"ROUND(H68*G68/G68,2)","v":0},"Cs",95.67,{"$f":"IF(OR(ISBLANK(K68),K68=0,H68=0,ISBLANK(H68)),,ROUND(K68+$L$3,2))","v":0},{"$f":"ROUND(I68*L68,2)","v":0},{"$f":"ROUND(L68/G68,4)","v":0},10000096694,"133/3.6oz",133,47.85,24.04,{"$f":"ROUND($U$6*S68,2)","v":64.599999999999994},{"$f":"IF(ISBLANK(O68),,R68+T68)","v":112.44999999999999},"N",{"$f":"IF(ISNUMBER(R68),IF(V68=\"Y\",(K68-T68)))","v":false},{"$f":"W68/G68","v":0},0.35977443609022558,0.84548872180451118]
[null,"WGR, Fully cooked, chopped and form, frozen, One serving provides "," ",null,null,null,null,null,null,null,null,null,null,null,null,null,null,null,null,null,null,null,null,null," "]
[null,"2 0 M/MA and 1 oz. OEG"]
[null,"Possible Allergens:  Soy",null,null,null,null,null,null,null,null,null,null,null,null,null,null,null,null,null,null,null,null,null,null," "]
[112,"Beef and Bean Burger","Advance Pierre Discontinued",68103,null,"110/3.5z",110,null,{"$f":"ROUND(H72*G72/G72,2)","v":0},"Cs",null,{"$f":"IF(OR(ISBLANK(K72),K72=0,H72=0,ISBLANK(H72)),,ROUND(K72+$L$3,2))","v":0},{"$f":"ROUND(I72*L72,2)","v":0},{"$f":"ROUND(L72/G72,4)","v":0},null,null,null,null,null,null,null,null," "," ","  "]
[null,"Beef patty with beans, Frozen, fully cooked, 3.5 oz. patty provides "," ",null,null,null,null,null,null,null,null,null,null,null,null,null,null,null,null,null,null,null,null,null," "]
[null,"2.0 oz. M/MA and not to exceed 200 calories and 190 mg of sodium ",null,null,null,null,null,null,null,null,null,null,null,null,null,null,null,null,null,null,null,null,null,null," "]
[null,"per serving. Possible Allergens: ",null,null,null,null,null,null,null,null,null,null,null,null,null,null,null,null,null,null,null,null,null,null," "]
[113,"Cheeseburger Meatloaf","Advanced Pierre ",10000036919,null,"100/2.90z",100,null,{"$f":"ROUND(H76*G76/G76,2)","v":0},"Cs",64.44,{"$f":"IF(OR(ISBLANK(K76),K76=0,H76=0,ISBLANK(H76)),,ROUND(K76+$L$3,2))","v":0},{"$f":"ROUND(I76*L76,2)","v":0},{"$f":"ROUND(L76/G76,4)","v":0},10000006919,"100/2.9 z",100,34.43,15.62,{"$f":"ROUND($U$6*S76,2)","v":41.97},{"$f":"IF(ISBLANK(O76),,R76+T76)","v":76.400000000000006},"N",{"$f":"IF(ISNUMBER(R76),IF(V76=\"Y\",(K76-T76)))","v":false},{"$f":"W76/G76","v":0},0.34429999999999999,0.76400000000000001]
[null,"Fully cooked, All beef with cheese One serving to meet 2.0 oz. M/MA"," ",null,null,null,null,null,null,null,null,null,null,null,null,null,null,null,null,null,null,null,null,null," "]
[null,"Possible Allergens: ",null,null,null,null,null,null,null,null,null,null,null,null,null,null,null,null,null,null,null,null,null,null," "]
[114,"Beef Brisket with BBQ Sauce","(18-19) Brookwood Farms ",11125,null,"2/5 lbs",44,null,{"$f":"ROUND(H79*G79/G79,2)","v":0},"Cs",49.2,{"$f":"IF(OR(ISBLANK(K79),K79=0,H79=0,ISBLANK(H79)),,ROUND(K79+$L$3,2))","v":0},{"$f":"ROUND(I79*L79,2)","v":0},{"$f":"ROUND(L79/G79,4)","v":0}]
[null,"Frozen, fully cooked, sodium must not exceed 300 mg and 350 calories"," ",null,null,null,null,null,null,null,null,null,null,null,null,null,null,null,null,null,null,null,null,null," "]
[null," per 2.0 oz. serving.  Must provide 2 oz. M/MA ",null,null,null,null,null,null,null,null,null,null,null,null,null,null,null,null,null,null,null,null,null,null," "]
[null,"Possible Allergens:  Soy",null,null,null,null,null,null,null,null,null,null,null,null,null,null,null,null,null,null,null,null,null,null," "]
[115,"WG Beef Steak Patty for Breakfast","Tyson/Advance Pierre",10000068033,null,"250/1.96z",250,null,{"$f":"ROUND(H83*G83/G83,2)","v":0},"Cs",80.69,{"$f":"IF(OR(ISBLANK(K83),K83=0,H83=0,ISBLANK(H83)),,ROUND(K83+$L$3,2))","v":0},{"$f":"ROUND(I83*L83,2)","v":0},{"$f":"ROUND(L83/G83,4)","v":0},10000069033,"250/1.97oz",250,56.06,22.29,{"$f":"ROUND($U$6*S83,2)","v":59.89},{"$f":"IF(ISBLANK(O83),,R83+T83)","v":115.95},"N",{"$f":"IF(ISNUMBER(R83),IF(V83=\"Y\",(K83-T83)))","v":false},{"$f":"W83/G83","v":0},0.22424000000000002,0.46379999999999999]
[null,"Fully cooked, breaded. Provides 1 oz M/MA and 0.50 oz OEG"]
[null,"CN Labeled  Allergens: Wheat"]
[null,"ITEMS BELOW THIS LINE ARE NOT DIRECT TO MANUFACTUER PRICED ITEMS."]
[116,"Beef Patties, Raw, 100% Beef IQF,  USDA inspected beef.","Distributor Choice",null,null,"50/3.2z",50,100,{"$f":"ROUND($H$87*$G$87/G87,2)","v":100},"Cs"]
[null,"One patty to meet 2 oz meat/meat alternate. ","Fillable txt box ",null,null,null,10,null,{"$f":"ROUND(H87*G87/G88,2)","v":500},"Cs",null,{"$f":"IF(OR(ISBLANK(H87),H87=0,ISBLANK(G88)),,ROUND(K88+$L$3,2))","v":0},{"$f":"ROUND(I88*L88,2)","v":0},{"$f":"ROUND(L88/G88,4)","v":0}]
[null,"Possible Allergens:  None Listed "," ",null,null,null,null,null," "," ",null," "," "," ",null,null,null,null,null,null,null,null,null,null," "]
[117,"Beef, Frozen Ground","Distributor Choice",null,null,"10Lb",10,50,{"$f":"ROUND($H$90*$G$90/G90,2)","v":50},"Cs",null,null,null,null,null,null,null," "]
[null,"USDA inspected bulk, raw fine ground, (no more than 20% fat)","Fillable txt box ",null,null,null,10,null,{"$f":"ROUND(H90*G90/G91,2)","v":50},"Cs",null,{"$f":"IF(OR(ISBLANK(H90),H90=0,ISBLANK(G91)),,ROUND(K91+$L$3,2))","v":0},{"$f":"ROUND(I91*L91,2)","v":0},{"$f":"ROUND(L91/G91,4)","v":0}]
[null,"MPS #136 Label statement required, \"Domestic Beef Only\"",null,null,null,null,null,null,null,null,null,null,null,null,null,null,null,null,null,null,null,null,null,null," "]
[null,"Possible Allergens:  None Listed ",null,null,null,null,null,null,null,null,null,null,null,null,null,null,null,null,null,null,null,null,null,null," "]
[]
[]
[]
[null,null,null,null,null,null,null,0,null,"Page Total",null,null,{"$f":"SUMIF(M8:M96,\">0\")","v":18438.5}]

{"sheet":"Chicken","index":3,"n_rows":256,"n_cols":25,"rows_kept":256,"cut":false,"hidden":false,"merged":[[0,5,0,13],[1,5,1,13],[2,6,2,10],[2,15,4,15],[2,16,4,16]]}
[null,{"$f":"'Recap Sheet'!A2","v":"School Food Authority or Agency Name:"},null,null,null,{"$f":"'Recap Sheet'!A3","v":"Bidder's Name:"}]
["2001-",{"$f":"'Recap Sheet'!B2","v":"Marion County School District"},"Return to Recap Sheet",null,null,{"$f":"'Recap Sheet'!B3","v":0},null,null,null,null,null,null,null,null,null,null,null,null,"Commodity"]
[4000,"Description","Approved",null,null,null,"Firm Fixed Fee",null,null,null,null,{"$f":"'Recap Sheet'!B4","v":0},null,null,"Manufacturer","Vendor Pack","Servings per case","Processing","Pounds of","USDA","Total Cost","NOI ?","NOI  Net","Net NOI","Fee for Serivce"]
["SCPA",null,"Brand Name ","Manufacturers","Distributor","Vendor","Svgs","Est.","Bid ","Bid","Unit","Unit Price","Total ","Cost per","USDA Product",null,null,"Fee for","DF Needed","Value","Proc Fee + ","Enter","Case","Cost Per","Cost Per Serv."]
[" Code",null," or Manufacturer","Code","Code","Pack","per unit","Bid Qty","Qty","Unit","Price","plus Fee","Price","Unit","Code",null,null,"Service","Per Case","Per Case","Comm Value","Y or N","Price","Serving","Fee+ Commodity"]
[null," Chicken, Whole Muscle (Muscle Intact)",null,null,null,null,null,null,null,null,null,null,null,null,"Chicken, Large",null,100103,"Value / lb",0.92700000000000005,null,"Chicken Leg",null,100113,"Value / lb",0.4526]
[null,null,null,null,null,null,null,null,null,null,null,null,null,null,"Chicken, Small",null,100100,"Value / lb",0.92269999999999996]
[2001,"Chicken Fillet, Breaded, chicken breast meat only.                ","Gold Kist ",7516,null,"120/4.0z",120,null,{"$f":"ROUND(H8*G8/G8,2)","v":0},"Cs",null,{"$f":"IF(OR(ISBLANK(K8),K8=0,H8=0,ISBLANK(H8)),,ROUND(K8+$L$3,2))","v":0},{"$f":"ROUND(I8*L8,2)","v":0},{"$f":"ROUND(L8/G8,4)","v":0},7516,"120/4.0 oz.",120,null,24.76,{"$f":"ROUND($S$6*S8,2)","v":22.95},{"$f":"IF(ISBLANK(O8),,R8+T8)","v":22.95},"Y"]
[null,"Solid Whole muscle meat; fully cooked, IQF.   Each portion must provide ","Gold Creek",792421,null,"128/4 oz.",128,null,{"$f":"ROUND(H8*G8/G9,2)","v":0},"Cs",90.33,{"$f":"IF(OR(ISBLANK(K9),K9=0,H8=0,ISBLANK(H8)),,ROUND(K9+$L$3,2))","v":0},{"$f":"ROUND(I9*L9,2)","v":0},{"$f":"ROUND(L9/G9,4)","v":0},792421,"128/4 oz.",128,60.96,31.68,{"$f":"ROUND($S$6*S9,2)","v":29.37},{"$f":"IF(ISBLANK(O9),,R9+T9)","v":90.33},"Y",60.959999999999994,0.4763,false]
[null,"a min to meet 2 M/MA and 1 OEG.  Breading must meet Whole Grain ",null,null,null,null,null,null,null,null,null,null,null,null,null,null,null,null,null,null,null,null,null,null," "]
[null,"Rich requirements. Batter/breading not to exceed 30% of the weight of ",null,null,null,null,null,null,null,null,null,null,null,null,null,null,null,null,null,null,null,null,null,null," "]
[null,"the finished product. Sodium must not exceed 580mg per serving. ",null,null,null,null,null,null,null,null,null,null,null,null,null,null,null,null," ",null,null,null,null,null," "]
[null,"No Egg, No Alternate Protein Product Domestic birds only"]
[null," No bags included"]
[null,"Possible Allergens:  None Listed",null,null,null,null,null,null,null,null,null,null,null,null,null,null,null,null,null,null,null,null,null,null," "]
[2002,"Chicken Fillet, Breaded, Spicy, chicken breast meat only,                  ","Gold Kist ",7517,null,"120/4.0z",120,50,{"$f":"ROUND(H16*G16/G16,2)","v":50},"Cs",null,{"$f":"IF(OR(ISBLANK(K16),K16=0,H16=0,ISBLANK(H16)),,ROUND(K16+$L$3,2))","v":0},{"$f":"ROUND(I16*L16,2)","v":0},{"$f":"ROUND(L16/G16,4)","v":0},7517,"120/4.0 oz.",120,null,24.76,{"$f":"ROUND($S$6*S16,2)","v":22.95},{"$f":"IF(ISBLANK(O16),,R16+T16)","v":22.95},"Y"]
[null,"Solid Whole muscle meat, fully cooked, IQF.  Each portion must provide ","Gold Creek",792431,null,"128/4 oz.",128,null,{"$f":"ROUND(H16*G16/G17,2)","v":46.88},"Cs",null,{"$f":"IF(OR(ISBLANK(K17),K17=0,H16=0,ISBLANK(H16)),,ROUND(K17+$L$3,2))","v":0},{"$f":"ROUND(I17*L17,2)","v":0},{"$f":"ROUND(L17/G17,4)","v":0},792431,"128/4z",128,63.84,31.68,{"$f":"ROUND($S$6*S17,2)","v":29.37},{"$f":"IF(ISBLANK(O17),,R17+T17)","v":93.210000000000008},"Y",63.839999999999989,0.49880000000000002,false]
[null,"a min to meet 2 M/MA and 1 OEG.  Breading must meet Whole Grain  ","Proview /John Soules","60325-WG",null,"80/4 oz",80,null,{"$f":"ROUND(H16*G16/G18,2)","v":75},"Cs",52,{"$f":"IF(OR(ISBLANK(K18),K18=0,H16=0,ISBLANK(H16)),,ROUND(K18+$L$3,2))","v":52},{"$f":"ROUND(I18*L18,2)","v":3900},{"$f":"ROUND(L18/G18,4)","v":0.65},null,null,null,null,null,null,null,null,null,null," "]
[null,"Rich requirements. Batter / breading not to exceed 30% of the weight of",null,null,null,null,null,null,null,null,null,null,null,null,null,null,null,null,null,null,null,null,null,null," "]
[null,"the finished product. Sodium must not exceed 580mg per serving. ",null,null,null,null,null,null,null,null,null,null,null,null,null,null,null,null,null,null,null,null,null,null," "]
[null,"No Egg, No Alternate Protein Product Domestic birds only"]
[null,"Possible Allergens: None Listed ",null,null,null,null,null,null,null,null,null,null,null,null,null,null,null,null,null,null,null,null,null,null," "]
[2003,"Chicken Chunks, breaded, chicken breast with rib meat only;              ","Gold Kist ",7518,null,"32 lbs",128,50,{"$f":"ROUND(H23*G23/G23,2)","v":50},"Cs",77.442999999999998,{"$f":"IF(OR(ISBLANK(K23),K23=0,H23=0,ISBLANK(H23)),,ROUND(K23+$L$3,2))","v":77.44},{"$f":"ROUND(I23*L23,2)","v":3872},{"$f":"ROUND(L23/G23,4)","v":0.60499999999999998},7518," 30 lbs",128,54.493000000000002,24.76,{"$f":"ROUND($S$6*S23,2)","v":22.95},{"$f":"IF(ISBLANK(O23),,R23+T23)","v":77.442999999999998},"Y",54.492999999999995,0.42570000000000002,false]
[null,"Solid Whole muscle meat, fully cooked, IQF.  Each portion must provide ","Gold Creek",792401,null,"32 lbs",128,null,{"$f":"ROUND(H23*G23/G24,2)","v":50},"Cs",null,{"$f":"IF(OR(ISBLANK(K24),K24=0,H23=0,ISBLANK(H23)),,ROUND(K24+$L$3,2))","v":0},{"$f":"ROUND(I24*L24,2)","v":0},{"$f":"ROUND(L24/G24,4)","v":0},792401,"128/4 oz.",128,null,31.68,{"$f":"ROUND($S$6*S24,2)","v":29.37},{"$f":"IF(ISBLANK(O24),,R24+T24)","v":29.37},"Y"]
[null,"a min to meet 2 M/MA and 1 OEG.  Breading must meet Whole Grain  ",null,null,null,null,null,null,null,null,null,null,null,null,null,null,null,null,null,null,null,null,null,null," "]
[null,"Rich requirements. Batter / breading not to exceed 30% of the weight of",null,null,null,null,null,null,null,null,null,null,null,null,null,null,null,null,null,null,null,null,null,null," "]
[null,"the finished product. Sodium must not exceed 580mg per serving. ",null,null,null,null,null,null,null,null,null,null,null,null,null,null,null,null,null,null,null,null,null,null," "]
[null,"No Egg, No Alternate Protein Product Domestic birds only"]
[null,"Possible Allergens: None Listed ",null,null,null,null,null,null,null,null,null,null,null,null,null,null,null,null,null,null,null,null,null,null," "]
[2004,"Chicken Tenders, Breaded, Chicken Breast Meat Only","Gold Creek",792441,null,32,113,10,{"$f":"ROUND(H30*G30/G30,2)","v":10},"Cs",78.97,{"$f":"IF(OR(ISBLANK(K30),K30=0,H30=0,ISBLANK(H30)),,ROUND(K30+$L$3,2))","v":78.97},{"$f":"ROUND(I30*L30,2)","v":789.7},{"$f":"ROUND(L30/G30,4)","v":0.69879999999999998},792441,"339/1.5oz",113,49.6,31.68,{"$f":"ROUND($S$6*S30,2)","v":29.37},{"$f":"IF(ISBLANK(O30),,R30+T30)","v":78.97},"Y",49.599999999999994,0.43890000000000001,false]
[null,"Solid Whole muscle meat, fully cooked, IQF.  Each serving must provide ","Proview ","63230WG",null,"4/5 lbs",61,null,{"$f":"ROUND(H30*G30/G31,2)","v":18.52},"Cs",null,{"$f":"IF(OR(ISBLANK(K31),K31=0,H30=0,ISBLANK(H30)),,ROUND(K31+$L$3,2))","v":0},{"$f":"ROUND(I31*L31,2)","v":0},{"$f":"ROUND(L31/G31,4)","v":0}]
[null,"a min to meet 2 M/MA and 1 OEG.  Breading must meet Whole Grain  ",null,null,null,null,null,null,null,null,null,null,null,null,null,null,null,null,null,null,null,null,null,null," "]
[null,"Rich requirements. Batter / breading not to exceed 30% of the weight of",null,null,null,null,null,null,null,null,null,null,null,null,null,null,null,null,null,null,null,null,null,null," "]
[null,"the finished product. Sodium must not exceed 580mg per serving. ",null,null,null,null,null,null,null,null,null,null,null,null,null,null,null,null,null,null,null,null,null,null," "]
[null,"No Egg, No Alternate Protein Product Domestic birds only"]
[null,"Possible Allergens: None Listed "]
[2005,"Chicken Fillet, Breaded, chicken breast meat only.                ","John Soules Foods",60438,null,"80/4.0z",80,100,{"$f":"ROUND(H37*G37/G37,2)","v":100},"Cs",56,{"$f":"IF(OR(ISBLANK(K37),H37=0,ISBLANK(H37)),,ROUND(K37+$L$3,2))","v":56},{"$f":"ROUND(I37*L37,2)","v":5600},{"$f":"ROUND(L37/G37,4)","v":0.7}]
[null,"Solid Whole muscle meat; fully cooked, IQF.Baked not fried."]
[null,"Each portion must provide a min to meet 2 M/MA. No soy products"]
[null,"Breading is not Whole Grain and is not credited towards meal rquirments"]
[null,"Possible Allergens: Wheat, Milk"]
[2006,"Chicken Chunks, Breaded Buffalo Style","(18-19) Proview ","64230WG",null,"20 lbs",75,null,{"$f":"ROUND(H42*G42/G42,2)","v":0},"Cs",52,{"$f":"IF(OR(ISBLANK(K42),K42=0,H42=0,ISBLANK(H42)),,ROUND(K42+$L$3,2))","v":0},{"$f":"ROUND(I42*L42,2)","v":0},{"$f":"ROUND(L42/G42,4)","v":0}]
[null,"Fully Cooked, chicken breast with rib meat, APP and egg allowed,",null,null,null,null,null,null,null,null,null,null,null,null,null,null,null,null,null,null,null,null,null,null," "]
[null,"Iin compliance with Apendix A of 7 CFR Part 210 CN label to provide 2 oz. ",null,null,null,null,null,null,null,null,null,null,null,null,null,null,null,null,null,null,null,null,null,null," "]
[null,"M/MA and 1.25 OEG, Breading must meet WGR requirements. Batter or ",null,null,null,null,null,null,null,null,null,null,null,null,null,null,null,null,null,null,null,null,null,null," "]
[null,"or breading not to exceed 30% of the weight of product, sodium not to ",null,null,null,null,null,null,null,null,null,null,null,null,null,null,null,null,null,null,null,null,null,null," "]
[null,"exceed 760 mg.  The label  must specify number of portions per case",null,null,null,null,null,null,null,null,null,null,null,null,null,null,null,null,null,null,null,null,null,null," "]
[2007,"Chicken Breast Bites (Dill Flavor) ","Proview ",64015,null,"4/5#",103,null,{"$f":"ROUND(H48*G48/G48,2)","v":0},"Cs",54,{"$f":"IF(OR(ISBLANK(K48),K48=0,H48=0,ISBLANK(H48)),,ROUND(K48+$L$3,2))","v":0},{"$f":"ROUND(I48*L48,2)","v":0},{"$f":"ROUND(L48/G48,4)","v":0}]
[null,"Fully cooked, chicken breast with rib meat only. App and egg allowed, in ",null,null,null,null,null,null,null,null,null,null,null,null,null,null,null,null,null,null,null,null,null,null," "]
[null,"compliance with Apendix A of 7 CFR Part 210 3.2 oz. serving to provide",null,null,null,null,null,null,null,null,null,null,null,null,null,null,null,null,null,null,null,null,null,null," "]
[null,"1.75 oz. M/MA and .5 OEG Batter and breading not to exceed 30% of the",null,null,null,null,null,null,null,null,null,null,null,null,null,null,null,null,null,null,null,null,null,null," "]
[null,"weight of product, 100-200 calories and not more than 1 g of sat fat and ",null,null,null,null,null,null,null,null,null,null,null,null,null,null,null,null,null,null,null,null,null,null," "]
[null,"350 mg of sodium per serving. Domestic birds only",null,null,null,null,null,null,null,null,null,null,null,null,null,null,null,null,null,null,null,null,null,null," "]
[2008,"Chicken Fillet, Breakfast, Breaded (Savory Flavor with Bags)","(18-19) Proview ","60415WG",null,"20 lbs",144,null,{"$f":"ROUND(H54*G54/G54,2)","v":0},"Cs",59.8,{"$f":"IF(OR(ISBLANK(K54),K54=0,H54=0,ISBLANK(H54)),,ROUND(K54+$L$3,2))","v":0},{"$f":"ROUND(I54*L54,2)","v":0},{"$f":"ROUND(L54/G54,4)","v":0}]
[null,"Fully cooked, chicken breast with rib meat only, APP and egg allowed, in ",null,null,null,null,null,null,null,null,null,null,null,null,null,null,null,null,null,null,null,null,null,null," "]
[null,"compliance with Apendix A of 7 CFR Part 210 CN label to provide 1 oz.",null,null,null,null,null,null,null,null,null,null,null,null,null,null,null,null,null,null,null,null,null,null," "]
[null,"M/MA and .5 OEG. Breading must meet WGR requirements.  Breading not ",null,null,null,null,null,null,null,null,null,null,null,null,null,null,null,null,null,null,null,null,null,null," "]
[null,"to exceed 30% of the weight  of product, Sodium not to exceed 300 mg "]
[null,"The label must specify number of portions per case",null,null,null,null,null,null,null,null,null,null,null,null,null,null,null,null,null,null,null,null,null,null," "]
[null,"Possible Allergens:  Wheat, Milk and Soy"]
[null,"Chicken, Made with whole muscle white meat pieces, ",null,null,null,null,null,null,null,null,null,null,null,null,"Chicken, Large",null,100103]
[2009,"Chicken Patty","Tyson ",1070302928,null,"132/3.75z",132,50,{"$f":"ROUND(H62*G62/G62,2)","v":50},"Cs",null,{"$f":"IF(OR(ISBLANK(K62),K62=0,H62=0,ISBLANK(H62)),,ROUND(K62+$L$3,2))","v":0},{"$f":"ROUND(I62*L62,2)","v":0},{"$f":"ROUND(L62/G62,4)","v":0},1070302928,"132./3.75",132,55.38,33.74,{"$f":"ROUND($S$6*S62,2)","v":31.28},{"$f":"IF(ISBLANK(O62),,R62+T62)","v":86.66},"Y",55.379999999999995,0.41949999999999998,false]
[null,"Fully Cooked, portioned, CN Labeled. Product is made with whole muscle ","Gold Kist ",7522,null,"113/4.25z",113,null,{"$f":"ROUND(H62*G62/G63,2)","v":58.41},"Cs",74.099999999999994,{"$f":"IF(OR(ISBLANK(K63),K63=0,H62=0,ISBLANK(H62)),,ROUND(K63+$L$3,2))","v":74.099999999999994},{"$f":"ROUND(I62*L63,2)","v":3705},{"$f":"ROUND(L63/G63,4)","v":0.65580000000000005},7522,"113/4.25 oz.",113,null,26.99,{"$f":"ROUND($S$6*S63,2)","v":25.02},{"$f":"IF(ISBLANK(O63),,R63+T63)","v":25.02},"Y"]
[null,"white meat chicken pieces. No ground Chicken. Each portion must ",null,null,null,null,null,null,null,null,null,null,null,null,null,null,null,null,null,null,null,null,null,null," "]
[null,"meet 2 M/MA and 1 OEG. No ground Chicken.  Breading must meet WGR ",null,null,null,null,null,null,null,null,null,null,null,null,null,null,null,null,null,null,null,null,null,null," "]
[null,"requirements. Batter / breading not to exceed 30% of weight of the ",null,null,null,null,null,null,null,null,null,null,null,null,null,null,null,null,null,null,null,null,null,null," "]
[null,"finished product Sodium not to exceed 400 mg per serving",null,null,null,null,null,null,null,null,null,null,null,null,null,null,null,null,null,null,null,null,null,null,"  "]
[null,"Domestic birds only",null,null,null,null,null,null,null,null,null,null,null,null,null,null,null,null,null,null,null,null,null,null," "]
[2010,"Chicken Tender","(18-19) Gold Kist/Pilgrims ",7572,null,"110/4.35z",110,50,{"$f":"ROUND(H69*G69/G69,2)","v":50},"Cs",72.97,{"$f":"IF(OR(ISBLANK(K69),K69=0,H69=0,ISBLANK(H69)),,ROUND(K69+$L$3,2))","v":72.97},{"$f":"ROUND(I69*L69,2)","v":3648.5},{"$f":"ROUND(L69/G69,4)","v":0.66339999999999999},7572,"106/4.35z",106,48.82,26.05,{"$f":"ROUND($S$6*S69,2)","v":24.15},{"$f":"IF(ISBLANK(O69),,R69+T69)","v":72.97},"Y",48.82,0.44379999999999997,false]
[null,"Fully Cooked, portioned, CN Labeled. Product is made with whole muscle "]
[null,"white meat chicken pieces. No ground chicken. Each portion must provide ",null,null,null,null,null,null,null,null,null,null,null,null,null,null,null,null,null,null,null,null,null,null," "]
[null,"a min. 2 M/MA and 1 OEG. Breading must meet WGR requirements",null,null,null,null,null,null,null,null,null,null,null,null,null,null,null,null,null,null,null,null,null,null," "]
[null,"Batter / breading not to exceed 30% of weight of the finished product.",null,null,null,null,null,null,null,null,null,null,null,null,null,null,null,null,null,null,null,null,null,null," "]
[null,"Sodium must not exceed 400mg per serving.  Domestic Birds only ",null,null,null,null,null,null,null,null,null,null,null,null,null,null,null,null,null,null,null,null,null,null," "]
[2011,"Chicken Bite","Tyson ",10703620928,null,"121/3.95z",121,null,{"$f":"ROUND(H75*G75/G75,2)","v":0},"Cs",87.35,{"$f":"IF(OR(ISBLANK(K75),K75=0,H75=0,ISBLANK(H75)),,ROUND(K75+$L$3,2))","v":0},{"$f":"ROUND(I75*L75,2)","v":0},{"$f":"ROUND(L75/G75,4)","v":0},10703620928,"121/3.95 oz.",121,57,32.74,{"$f":"ROUND($S$6*S75,2)","v":30.35},{"$f":"IF(ISBLANK(O75),,R75+T75)","v":87.35},"Y",56.999999999999993,0.47110000000000002,false]
[null,"Fully Cooked, portioned, CN Labeled. Product is made with whole muscle ",null,null,null,null,null,null,null,null,null,null,null,null,null,null,null,null,null,null,null,null,null,null," "]
[null,"white meat chicken pieces. No ground Chicken. Each portion must provide",null,null,null,null,null,null,null,null,null,null,null,null,null,null,null,null,null,null,null,null,null,null," "]
[null,"min. to meet 2 M/MA and 1 OEG. Breading must meet WGR requirements.",null,null,null,null,null,null,null,null,null,null,null,null,null,null,null,null,null,null,null,null,null,null," "]
[null,"Batter / breading not to exceed 30% of weightof the finished product.",null,null,null,null,null,null,null,null,null,null,null,null,null,null,null,null,null,null,null,null,null,null," "]
[null,"Sodium must not exceed 400mg per serving.  Domestic Birds only",null,null,null,null,null,null,null,null,null,null,null,null,null,null,null,null,null,null,null,null,null,null," "]
[null,"Chicken, chopped and formed",null,null,null,null,null,null,null,null,null,null,null,null,"Chicken, Large ",null,100103]
[2012,"Chicken Patty, Breakfast, Breaded.                                                   ","Discontinued Gold Kist",633100,null,"20Lb",192,null,{"$f":"ROUND(H82*G82/G82,2)","v":0},"Cs",null,{"$f":"IF(OR(ISBLANK(K82),K82=0,H82=0,ISBLANK(H82)),,ROUND(K82+$L$3,2))","v":0},{"$f":"ROUND(I82*L82,2)","v":0},{"$f":"ROUND(L82/G82,4)","v":0},null,null,null,null,null,{"$f":"ROUND($S$6*S82,2)","v":0},{"$f":"IF(ISBLANK(O82),,R82+T82)","v":0},"N"]
[null,"Fully cooked. Chicken breast with rib meat only; chopped and formed; ","King's Delight  ",66206,null,"20Lb",216,null,{"$f":"ROUND(H82*G82/G83,2)","v":0},"Cs",37.200000000000003,{"$f":"IF(OR(ISBLANK(K83),K83=0,H82=0,ISBLANK(H82)),,ROUND(K83+$L$3,2))","v":0},{"$f":"ROUND(I83*L83,2)","v":0},{"$f":"ROUND(L83/G83,4)","v":0},null,null,null,null,null,{"$f":"ROUND($S$6*S83,2)","v":0},{"$f":"IF(ISBLANK(O83),,R83+T83)","v":0},"N"]
[null,"APP and egg allowed, in compliance with Appendix A of 7 CFR Part 210","Rich Chicks 54411",54411,null,"20Lb",214,null,{"$f":"ROUND(H82*G82/G84,2)","v":0},"Cs",null,{"$f":"IF(OR(ISBLANK(K84),K84=0,H82=0,ISBLANK(H82)),,ROUND(K84+$L$3,2))","v":0},{"$f":"ROUND(I84*L84,2)","v":0},{"$f":"ROUND(L84/G84,4)","v":0},54411,"20 lbs",214,37.78,14.59,13.53,{"$f":"IF(ISBLANK(O84),,R84+T84)","v":51.31},"Y",37.78,0.17649999999999999,false]
[null,"CN label to provide 1 oz M/MA, and no more than 1 OEG. Breading","Gold Creek",79426,null,"256/2 oz.",256,null,{"$f":"ROUND(H82*G82/G85,2)","v":0},"Cs",null,{"$f":"IF(OR(ISBLANK(K85),K85=0,H82=0,ISBLANK(H82)),,ROUND(K85+$L$3,2))","v":0},0,{"$f":"ROUND(L85/G85,4)","v":0},792426," 256/2.0 oz ",256,null,32.97,{"$f":"ROUND($S$6*S85,2)","v":30.56},{"$f":"IF(ISBLANK(O85),,R85+T85)","v":30.56},"Y"]
[null,"must meet WGR requirements. Batter or breading not to exceed 30%",null,null,null,null,null,null,null,null,null,null,null,null,null,null,null,null,null,null,null,null,null,null," "]
[null,"of the weight of the product.  Sodium not to exceed 200mg.",null,null,null,null,null,null,null,null,null,null,null,null,null,null,null,null,null,null,null,null,null,null,"  "]
[null,"The label must specify the minimum number of pieces or portions per case.",null,null,null,null,null,null,null,null,null,null,null,null,null,null,null,null,null,null,null,null,null,null," "]
[2013,"Chicken Patty, Breaded, Spicy","Tyson",10703120928,null,"132/3.75z",132,null,{"$f":"ROUND(H89*G89/G89,2)","v":0},"Cs",89.99,{"$f":"IF(OR(ISBLANK(K89),K89=0,H89=0,ISBLANK(H89)),,ROUND(K89+$L$3,2))","v":0},{"$f":"ROUND(I89*L89,2)","v":0},{"$f":"ROUND(L89/G89,4)","v":0},10703120928,"132/3.75z",132,58.71,33.74,{"$f":"ROUND($S$6*S89,2)","v":31.28},{"$f":"IF(ISBLANK(O89),,R89+T89)","v":89.990000000000009},"Y",58.709999999999994,0.44479999999999997,false]
[null,"Fully cooked, Chicken breast with rib meat only; chopped and formed;"]
[null,"APP and egg allowed, in compliance with Appendix A of 7 CFR Part 210.",null,null,null,null,null,null,null,null,null,null,null,null,null,null,null,null,null,null,null,null,null,null," "]
[null,"CN label to provide 2 oz M/MA and a not more than 1 OEG. Breading must",null,null,null,null,null,null,null,null,null,null,null,null,null,null,null,null,null,null,null,null,null,null,"  "]
[null,"meet WGR requirements. Batter or breading not to exceed 30% of the ",null,null,null,null,null,null,null,null,null,null,null,null,null,null,null,null,null,null,null,null,null,null," "]
[null,"weight of the product, sodium not to exceed 480 mg.  The label must ",null,null,null,null,null,null,null,null,null,null,null,null,null,null,null,null,null,null,null,null,null,null,"  "]
[null,"specify the number of portions per case",null,null,null,null,null,null,null,null,null,null,null,null,null,null,null,null,null,null,null,null,null,null," "]
[null," ",null,null,null,null,null,null,null,null,null,null,null,null,null,null,null,null,null,null,null,null,null,null," "]
[2014,"Chicken Patty, Grilled,  ","Advance Pierre ",10000019989,null,"100/2.8z",100,50,{"$f":"ROUND(H97*G97/G97,2)","v":50},"Cs",null,{"$f":"IF(OR(ISBLANK(K97),K97=0,H97=0,ISBLANK(H97)),,ROUND(K97+$L$3,2))","v":0},{"$f":"ROUND(I97*L97,2)","v":0},{"$f":"ROUND(L97/G97,4)","v":0},null,null,null,null," ","  ",null,null," "," "," "]
[null,"Fully cooked. Unbreaded, breast with rib meat,chopped and formed; "," Proview  ",55000,null,"64/2.5z",64,null,{"$f":"ROUND(H97*G97/G98,2)","v":78.13},"Cs",22,{"$f":"IF(OR(ISBLANK(K98),K98=0,H97=0,ISBLANK(H97)),,ROUND(K98+$L$3,2))","v":22},{"$f":"ROUND(I98*L98,2)","v":1718.86},{"$f":"ROUND(L98/G98,4)","v":0.34379999999999999},null,null,null,null," ","  ",null,null," "," "," "]
[null,"APP and egg allowed, in compliance with Appendix A of 7 CFR Part 210",null,null,null,null,null,null,null,null,null,null,null,null,null,null,null,null,null,null,null,null,null,null," "]
[null,"CN label to provide 1 oz. M/MA and 1 OEG, Breading must meet WGR ",null,null,null,null,null,null,null,null,null,null,null,null,null,null,null,null,null,null,null,null,null,null," "]
[null,"requirements. Batter / breading not to exceed 30% of weight of the "]
[null,"product, sodium not to exceed 480 mg The label must specify number of "]
[null,"portions per case",null,null,null,null,null,null,null,null,null,null,null,null,null,null,null,null,null,null,null,null,null,null," "]
[2015,"Chicken Nugget, Breaded            ","Discontinued Gold Kist  ",613100,null,"20lb",104,200,{"$f":"ROUND(H104*G104/G104,2)","v":200},"Cs",null,{"$f":"IF(OR(ISBLANK(K104),K104=0,H104=0,ISBLANK(H104)),,ROUND(K104+$L$3,2))","v":0},{"$f":"ROUND(I104*L104,2)","v":0},{"$f":"ROUND(L104/G104,4)","v":0},null,null,null,null,null,{"$f":"ROUND($S$6*S104,2)","v":0},{"$f":"IF(ISBLANK(O104),,R104+T104)","v":0},"N"]
[null,"Fully Cooked.  Chopped and formed; chicken breast with rib meat only;  ","Proview ","40015-WG",null,"20Lb",106,null,{"$f":"ROUND(H104*G104/G105,2)","v":196.23},"Cs",28.2,{"$f":"IF(OR(ISBLANK(K105),K105=0,H104=0,ISBLANK(H104)),,ROUND(K105+$L$3,2))","v":28.2},{"$f":"ROUND(I105*L105,2)","v":5533.69},{"$f":"ROUND(L105/G105,4)","v":0.26600000000000001},null,null,null,null,29.43,{"$f":"ROUND($S$6*S105,2)","v":27.28},{"$f":"IF(ISBLANK(O105),,R105+T105)","v":0},"N"]
[null,"APP and egg allowed, in compliance with Appendix A of 7 CFR Part 210.  ","Rich Chicks ",54410,null,"20Lb",107,null,{"$f":"ROUND(H104*G104/G106,2)","v":194.39},"Cs",null,{"$f":"IF(OR(ISBLANK(K106),K106=0,H104=0,ISBLANK(H104)),,ROUND(K106+$L$3,2))","v":0},{"$f":"ROUND(I106*L106,2)","v":0},{"$f":"ROUND(L106/G106,4)","v":0},54410,"20lb",107,37.78,14.59,13.53,{"$f":"IF(ISBLANK(O106),,R106+T106)","v":51.31},"Y",37.78,0.35310000000000002,false]
[null,"One serving to contain no more than 54% of total calories from fat; ",null,null,null,null,null,null,null,null,null,null,null,null,null,null,null,null,null,null,null,null,null,null," "]
[null,"sat fat not to exceed 15% of calories per serving. Sodium not to exceed ",null,null,null,null,null,null,null,null,null,null,null,null,null,null,null,null,null,null,null,null,null,null," "]
[null,"480 mg per serving.  Batter or breading not to exceed 30% of the weight  ",null,null,null,null,null,null,null,null,null,null,null,null,null,null,null,null,null,null,null,null,null,null," "]
[null,"of the finished product. The label must specify the number of portions ",null,null,null,null,null,null,null,null,null,null,null,null,null,null,null,null,null,null,null,null,null,null," "]
[null,"per case.",null,null,null,null,null,null,null,null,null,null,null,null,null,null,null,null,null,null,null,null,null,null," "]
[2016,"Chicken Rings, Breaded                 ","Discontinued Gold Kist  ",499180,null,"30Lb",136,null,{"$f":"ROUND(H112*G112/G112,2)","v":0},"Cs",null,{"$f":"IF(OR(ISBLANK(K112),K112=0,H112=0,ISBLANK(H112)),,ROUND(K112+$L$3,2))","v":0},{"$f":"ROUND(I112*L112,2)","v":0},{"$f":"ROUND(L112/G112,4)","v":0},null,null,null,null,null,null,null,"N"]
[null,"Fully Cooked. Chicken breast with rib meat only, chopped and formed; ",null,null,null,null,null,null,null,null,null,null,null,null,null,null,null,null,null," "]
[null,"APP and egg allowed,in compliance with Appendix A of 7 CFR Part 210.",null,null,null," "," ",null," "," ",null," "," "," ",null,null,null,null," ","  ",null,null," "," "," "]
[null,"CN label to provide 2 oz M/MA and not more than 1.0 OEG. Breading must",null,null,null,null,null,null,null,null,null,null,null,null,null,null,null,null,null,null,null,null,null,null," "]
[null,"meet WGR requirements.  Batter or breading not to exceed 30% of the",null,null,null,null,null,null,null,null,null,null,null,null,null,null,null,null,null,null,null,null,null,null," "]
[null,"weight of the product. Sodium not to exceed 480 mg.  The label must "," ",null,null,null,null,null,null,null,null,null,null,null,null,null,null,null,null,null,null,null,null,null," "]
[null,"specify the number of portions per case",null,null,null,null,null,null,null,null,null,null,null,null,null,null,null,null,null,null,null,null,null,null," "]
[2017,"Chicken Tenders, Breaded                 ","King's Delight ",66203,null,"20Lb",106,50,{"$f":"ROUND(H119*G119/G119,2)","v":50},"Cs",null,{"$f":"IF(OR(ISBLANK(K119),K119=0,H119=0,ISBLANK(H119)),,ROUND(K119+$L$3,2))","v":0},{"$f":"ROUND(I119*L119,2)","v":0},{"$f":"ROUND(L119/G119,4)","v":0},null,null,null,null,null,null,null,"N"]
[null,"Fully cooked, chicken breast with rib meat only, chopped and formed, APP ","Proview ","46015WG",null,"20Lb",106,null,{"$f":"ROUND(H119*G119/G120,2)","v":50},"Cs",30.4,{"$f":"IF(OR(ISBLANK(K120),K120=0,H119=0,ISBLANK(H119)),,ROUND(K120+$L$3,2))","v":30.4},{"$f":"ROUND(I120*L120,2)","v":1520},{"$f":"ROUND(L120/G120,4)","v":0.2868},null,null,null,null,null,null,null,"N"]
[null,"and egg allowed, in compliance with Apendix A of 7 CFR Part 210 ",null,null,null,null,null,null,null,null,null,null,null,null,null,null,null,null," ","  ",null,null," "," "," "]
[null,"CN label to provide 1 oz. M/MA and 1 OEG, Breading must meet WGR "]
[null,"requirements. Batter / breading not to exceed 30% of weight of the ",null,null,null,null,null,null,null,null,null,null,null,null,null,null,null,null,null,null,null,null,null,null," "]
[null,"the product.  Sodium not ot exceed 480 mg.",null,null,null,null,null,null,null,null,null,null,null,null,null,null,null,null,null,null,null,null,null,null," "]
[2018,"Chicken, Popcorn Chicken, Breaded ","Proview ","43015-WG",null,"20Lb",106,null,{"$f":"ROUND(H125*G125/G125,2)","v":0},"Cs",30.4,{"$f":"IF(OR(ISBLANK(K125),K125=0,H125=0,ISBLANK(H125)),,ROUND(K125+$L$3,2))","v":0},{"$f":"ROUND(I125*L125,2)","v":0},{"$f":"ROUND(L125/G125,4)","v":0}]
[null,"Frozen, Fully Cooked; chicken breast with rib meat only chopped & formed","DISCONTINUED  Gold Kist ",698100,null,"20Lb",null,null,{"$f":"ROUND(H125*G125/G126,2)","v":{"$error":"#DIV/0!"}},"Cs",null,{"$f":"IF(OR(ISBLANK(K126),K126=0,H125=0,ISBLANK(H125)),,ROUND(K126+$L$3,2))","v":0},{"$f":"ROUND(I126*L126,2)","v":{"$error":"#DIV/0!"}},{"$f":"ROUND(L126/G126,4)","v":{"$error":"#DIV/0!"}}]
[null,"APP and egg allowed, in complaince with Appendix A of 7 CFR Part 210","DISCONTINUED Kings Delight ",66209,null,"20Lb",null,null,{"$f":"ROUND(H125*G125/G127,2)","v":{"$error":"#DIV/0!"}},"Cs",null,{"$f":"IF(OR(ISBLANK(K127),K127=0,H125=0,ISBLANK(H125)),,ROUND(K127+$L$3,2))","v":0},{"$f":"ROUND(I127*L127,2)","v":{"$error":"#DIV/0!"}},{"$f":"ROUND(L127/G127,4)","v":{"$error":"#DIV/0!"}}]
[null,"CN label to provide 1 oz. M/MA and 1 OEG, Breading must meet WGR ",null,null,null,null,null,null,null,null,null,null,null,null,null,null,null,null,null,null,null,null,null,null," "]
[null,"requirements. Batter / breading not to exceed 30% of weight of the ",null,null,null,null,null,null,null,null,null,null,null,null,null,null,null,null,null,null,null,null,null,null," "]
[null,"product, sodium not to exceed 480 mg The label must specify number of "]
[null,"portions per case",null,null,null,null,null,null,null,null,null,null,null,null,null,null,null,null,null,null,null,null,null,null," "]
[null,"Chicken Leg, 100113 Chicken, Dark Meat, Asian Entrée",null,null,null,null,null,null,null,null,null,null,null,null,"Chicken Leg 100113"]
[2019,"Teriyaki Chicken, ","Minh's ",69018,null,"240/2.80z",240,null,{"$f":"ROUND(H133*G133/G133,2)","v":0},"Cs",122.45,{"$f":"IF(OR(ISBLANK(K133),K133=0,H133=0,ISBLANK(H133)),,ROUND(K133+$L$3,2))","v":0},{"$f":"ROUND(I133*L133,2)","v":0},{"$f":"ROUND(L133/G133,4)","v":0},69018,"240/2.80 oz",240,0,45.06,{"$f":"ROUND($Y$6*S133,2)","v":20.39},{"$f":"IF(ISBLANK(O133),,R133+T133)","v":20.39},"Y",102.06,0.42530000000000001,false]
[null,"Frozen. Unbreaded, Cooked chicken leg meat, boneless, with Teriyaki ",null,null,null,null,null,null,null,null,null,null,null,null,null,null,null,null," "," ",null,null," "," "," "]
[null,"sauce No MSG. No Trans Fat. 100-200 calories with no more than 2g ",null,null,null,null,null,null,null,null,null,null,null,null,null,null,null,null," ","  ",null,null," "," "," "]
[null,"saturated fat and 450 mg sodium per serving. One portion to provide min.",null,null,null,null,null,null,null,null,null,null,null,null,null,null,null,null,null,null,null,null,null,null," "]
[null,"2 M.MA"]
[null,"Possible Allergens:  Egg, Wheat, and Soy",null,null,null,null,null,null,null,null,null,null,null,null,null,null,null,null,null,null,null,null,null,null," "]
[2020,"Spicy Chicken, WG","Yang's ","15556-2",null,"240/2.40z",240,null,{"$f":"ROUND(H139*G139/G139,2)","v":0},"Cs",109.59,{"$f":"IF(OR(ISBLANK(K139),K139=0,H139=0,ISBLANK(H139)),,ROUND(K139+$L$3,2))","v":0},{"$f":"ROUND(I139*L139,2)","v":0},{"$f":"ROUND(L139/G139,4)","v":0},"15556-2","240/2.40 oz.",240,88.81,45.92,{"$f":"ROUND($Y$6*S139,2)","v":20.78},{"$f":"IF(ISBLANK(O139),,R139+T139)","v":109.59},"Y",88.81,0.37,false]
[null,"Frozen. Unbreaded dark meat chicken strips in spicy sauce. ",null,null,null,null,null,null,null,null,null,null,null,null,null,null,null,null," "," ",null,null," "," "," "]
[null,"No MSG. No Trans Fat. 100-200 calories with no more than 2 g sat fat",null,null,null,null,null,null,null,null,null,null,null,null,null,null,null,null," ","  ",null,null," "," "," "]
[null,"and 450 mg sodium per serving. One portion to provide min. 2 M/MA. "]
[null,"Possible Allergens:   Soy, Wheat, and Citrus",null,null,null,null,null,null,null,null,null,null,null,null,null,null,null,null,null,null,null,null,null,null," "]
[2021,"Citrus Chicken, WG","Yang's ","15552-4",null,"192/3.60z",192,null,{"$f":"ROUND(H144*G144/G144,2)","v":0},"Cs",null,{"$f":"IF(OR(ISBLANK(K144),K144=0,H144=0,ISBLANK(H144)),,ROUND(K144+$L$3,2))","v":0},{"$f":"ROUND(I144*L144,2)","v":0},{"$f":"ROUND(L144/G144,4)","v":0},"15552-4","192/3.60 oz.",192,93.85,38.049999999999997,{"$f":"ROUND($Y$6*S144,2)","v":17.22},{"$f":"IF(ISBLANK(O144),,R144+T144)","v":111.07},"Y",91.26,0.4753,false]
[null,"Frozen. Lightly battered or breaded boneless dark meat chicken chunks ","Mihn (Schwan's)",69020,null,"240/2.80z",240,null,{"$f":"ROUND(H144*G144/G145,2)","v":0},"Cs",134.65,{"$f":"IF(OR(ISBLANK(K145),K145=0,H144=0,ISBLANK(H144)),,ROUND(K145+$L$3,2))","v":0},{"$f":"ROUND(I145*L145,2)","v":0},{"$f":"ROUND(L145/G145,4)","v":0},69020,"240/2.80z",240,null,40.36,{"$f":"ROUND($Y$6*S145,2)","v":18.27},{"$f":"IF(ISBLANK(O145),,R145+T145)","v":18.27},"Y"]
[null,"tossed with citrus flavored sauce. No MSG. No Trans Fat. 150-250 ",null,null,null,null,null,null,null,null,null,null,null,null,null,null,null,null," ","  ",null,null," "," "," "]
[null,"calories with no more than 2 g saturated fat and 450 mg sodium ",null,null,null,null,null,null,null,null,null,null,null,null,null,null,null,null,null,null,null,null,null,null," "]
[null,"per serving. One portion to provide min. 2 M/MA. ",null,null,null,null,null,null,null,null,null,null,null,null,null,null,null,null,null,null,null,null,null,null," "]
[null,"Possible Allergens:  Egg, Soy, Wheat, and Citrus",null,null,null,null,null,null,null,null,null,null,null,null,null,null,null,null,null,null,null,null,null,null," "]
[2022,"Cherry Blossom/Sweet and Sour Chicken, WG","Asian Solutions ",72005,null,"42.9 lbs",176,null,{"$f":"ROUND(H150*G150/G150,2)","v":0},"Cs",null,{"$f":"IF(OR(ISBLANK(K150),K150=0,H150=0,ISBLANK(H150)),,ROUND(K150+$L$3,2))","v":0},{"$f":"ROUND(I150*L150,2)","v":0},{"$f":"ROUND(L150/G150,4)","v":0},72005,"42.9 lbs.",176,null,34.65,{"$f":"ROUND($Y$6*S150,2)","v":15.68},{"$f":"IF(ISBLANK(O150),,R150+T150)","v":15.68},"Y"]
[null,"Frozen. Lightly battered or breaded boneless dark meat chicken chunks ","Chef's Corner ","COMWG-114",null,"42 lbs",171,null,{"$f":"ROUND(H150*G150/G151,2)","v":0},"Cs",null,{"$f":"IF(OR(ISBLANK(K151),K151=0,H150=0,ISBLANK(H150)),,ROUND(K151+$L$3,2))","v":0},{"$f":"ROUND(I151*L151,2)","v":0},{"$f":"ROUND(L151/G151,4)","v":0},"0114","42 lbs.",171,79,39.08,{"$f":"ROUND($Y$6*S151,2)","v":17.690000000000001},{"$f":"IF(ISBLANK(O151),,R151+T151)","v":96.69},"Y",79,0.46200000000000002,false]
[null,"tossed with sweet and sour sauce. No MSG. No Trans Fat. 140-250 ","Yang's ","15551-7",null,"192/3.60z",192,null,{"$f":"ROUND(H150*G150/G152,2)","v":0},"Cs",108.04,{"$f":"IF(OR(ISBLANK(K152),K152=0,H150=0,ISBLANK(H150)),,ROUND(K152+$L$3,2))","v":0},{"$f":"ROUND(I152*L152,2)","v":0},{"$f":"ROUND(L152/G152,4)","v":0},"15551-7","43.5 lbs.",192,null,38.049999999999997,{"$f":"ROUND($Y$6*S152,2)","v":17.22},{"$f":"IF(ISBLANK(O152),,R152+T152)","v":17.22},"Y"]
[null,"saturated fat and 400 mg sodium per serving.  One serving to provide min.","Mihn (Schwan's)",69016,null,"240/2.80z",240,null,{"$f":"ROUND(H150*G150/G153,2)","v":0},"Cs",null,{"$f":"IF(OR(ISBLANK(K153),K153=0,H150=0,ISBLANK(H150)),,ROUND(K153+$L$3,2))","v":0},{"$f":"ROUND(I153*L153,2)","v":0},{"$f":"ROUND(L153/G153,4)","v":0},69016,"42 lbs.",240,null,40.36,{"$f":"ROUND($Y$6*S153,2)","v":18.27},{"$f":"IF(ISBLANK(O153),,R153+T153)","v":18.27},"Y"]
[null,"2 M/MA"," ",null,null,null,null,null,null,null,null,null,null,null,null,null,null,null,null,null,null,null,null,null," "]
[null,"Possible Allergens:  Egg, Soy, Wheat, & Citrus"," ",null,null,null,null,null,null,null,null,null,null,null,null,null,null,null,null,null,null,null,null,null," "]
[2023,"General Tso's Chicken, Breaded, WG","Yang's ","15563-0",null,"43.5 lbs",192,60,{"$f":"ROUND(H156*G156/G156,2)","v":60},"Cs",119.13,{"$f":"IF(OR(ISBLANK(K156),K156=0,H156=0,ISBLANK(H156)),,ROUND(K156+$L$3,2))","v":119.13},{"$f":"ROUND(I156*L156,2)","v":7147.8},{"$f":"ROUND(L156/G156,4)","v":0.62050000000000005},"15563-0","43.5 lbs",192,101.91,38.049999999999997,{"$f":"ROUND($Y$6*S156,2)","v":17.22},{"$f":"IF(ISBLANK(O156),,R156+T156)","v":119.13},"Y",101.91,0.53080000000000005,false]
[null,"Frozen, Breaded chicken chunks in spicy sauce, NO MSG, 100-200 cals",null,null,null,null,null,null,null,null,null,null,null,null,null,null,null,null," "," ",null,null," "," "," "]
[null,"no more than 2 g saturated fat and 450 mg of sodium per serving.  ",null,null,null,null,null,null,null,null,null,null,null,null,null,null,null,null," ","  ",null,null," "," "," "]
[null,"One portion to provide 2 M/MA ",null,null,null,null,null,null,null,null,null,null,null,null,null,null,null,null,null,null,null,null,null,null," "]
[null," ",null,null,null,null,null,null,null,null,null,null,null,null,null,null,null,null,null,null,null,null,null,null," "]
[null,"Possible Allergens:  Egg, Soy, Wheat, and Citrus",null,null,null,null,null,null,null,null,null,null,null,null,null,null,null,null,null,null,null,null,null,null," "]
[2024,"Thai Sweet Chili Chicken, Unbreaded","Asian Solutions ",73004,null,"42.9 lbs",240,null,{"$f":"ROUND(H162*G162/G162,2)","v":0},"Cs",121.81,{"$f":"IF(OR(ISBLANK(K162),K162=0,H162=0,ISBLANK(H162)),,ROUND(K162+$L$3,2))","v":0},{"$f":"ROUND(I162*L162,2)","v":0},{"$f":"ROUND(L162/G162,4)","v":0},73004,"42.9 lbs",240,101,45.98,{"$f":"ROUND($Y$6*S162,2)","v":20.81},{"$f":"IF(ISBLANK(O162),,R162+T162)","v":121.81},"Y",101,0.42080000000000001,false]
[null,"Frozen, breaded chicken chunks in sweet and spicy chili sauce,",null,null,null,null,null,null,null,null,null,null,null,null,null,null,null,null," "," ",null,null," "," "," "]
[null," NO MSG, No Trans Fats 100-200 calories with no more than ",null,null,null,null,null,null,null,null,null,null,null,null,null,null,null,null," ","  ",null,null," "," "," "]
[null,"2 g saturated fat  and 350 mg of sodium per serving  ",null,null,null,null,null,null,null,null,null,null,null,null,null,null,null,null,null,null,null,null,null,null," "]
[null,"One 2.85 oz. portion to provide 2 oz. M/MA",null,null,null,null,null,null,null,null,null,null,null,null,null,null,null,null,null,null,null,null,null,null," "]
[null,"Possible Allergens:  Soy, Wheat",null,null,null,null,null,null,null,null,null,null,null,null,null,null,null,null,null,null,null,null,null,null," "]
[2025,"Chicken, BBQ Teriyaki","Yang's ","15554-8",null,"42 lbs",240,null,{"$f":"ROUND(H168*G168/G168,2)","v":0},"Cs",109.59,{"$f":"IF(OR(ISBLANK(K168),K168=0,H168=0,ISBLANK(H168)),,ROUND(K168+$L$3,2))","v":0},{"$f":"ROUND(I168*L168,2)","v":0},{"$f":"ROUND(L168/G168,4)","v":0},"15554-8","42 lbs",240,88.81,45.92,{"$f":"ROUND($Y$6*S168,2)","v":20.78},{"$f":"IF(ISBLANK(O168),,R168+T168)","v":109.59},"Y",88.81,0.37,false]
[null,"Frozen, chicken in sweet teriyaki sauce. No MSG No Trans fat ",null,null,null,null,null,null,null,null,null,null,null,null,null,null,null,null," "," ",null,null," "," "," "]
[null,"100-200 calories with nnot more than 2 g saturated fat and 500 mg of ",null,null,null,null,null,null,null,null,null,null,null,null,null,null,null,null," ","  ",null,null," "," "," "]
[null,"sodium per serving.  One portion to provide 2 M/MA ",null,null,null,null,null,null,null,null,null,null,null,null,null,null,null,null,null,null,null,null,null,null," "]
[null," ",null,null,null,null,null,null,null,null,null,null,null,null,null,null,null,null,null,null,null,null,null,null," "]
[null,"Possible Allergens:  Soy, Wheat, and Citrus",null,null,null,null,null,null,null,null,null,null,null,null,null,null,null,null,null,null,null,null,null,null," "]
[null,"Other Poultry Products"]
[2026,"Chicken Drumsticks, Sous-Vide Style","DISCONTINUED Perdue ",null,null,null,null,null,{"$f":"ROUND(H175*G175/G175,2)","v":{"$error":"#DIV/0!"}},"Cs",null,{"$f":"IF(OR(ISBLANK(K175),K175=0,H175=0,ISBLANK(H175)),,ROUND(K175+$L$3,2))","v":0},{"$f":"ROUND(I175*L175,2)","v":{"$error":"#DIV/0!"}},{"$f":"ROUND(L175/G175,4)","v":{"$error":"#DIV/0!"}}]
[null,"Frozen, 100-200 calories with no more than 3 g saturated fat and 400",null,null,null,null,null,null,null,null,null,null,null,null,null,null,null,null,null,null,null,null,null,null," "]
[null,"mg sodium per serving.  One portion to provide 2 M/MA"]
[null,"Possible Allergens: None Listed",null,null,null,null,null,null,null,null,null,null,null,null,null,null,null,null,null,null,null,null,null,null," "]
[2027,"Chicken, Drumsticks, Raw","Tyson",10009900928,null,"50/4.5oz",50,200,{"$f":"ROUND(H179*G179/G179,2)","v":200},"Cs",28.2,{"$f":"IF(OR(ISBLANK(K179),K179=0,H179=0,ISBLANK(H179)),,ROUND(K179+$L$3,2))","v":28.2},{"$f":"ROUND(I179*L179,2)","v":5640},{"$f":"ROUND(L179/G179,4)","v":0.56399999999999995}]
[null,"Must yield 1.5 oz. cooked meat, USDA inspected, Grade A, IQF"," ",null," ",null,null,null," "," ",null," "," "," ",null,null,null,null,null,null,null,null,null,null," "]
[null,"Possible Allergens:  None Listed",null,null,null,null,null,null,null,null,null,null,null,null,null,null,null,null,null,null,null,null,null,null," "]
[2028,"Chicken Thighs, Raw","Tyson ",10037830928,null,"98/5.11z",98,100,{"$f":"ROUND(H182*G182/G182,2)","v":100},"Cs",31.46,{"$f":"IF(OR(ISBLANK(K182),K182=0,H182=0,ISBLANK(H182)),,ROUND(K182+$L$3,2))","v":31.46},{"$f":"ROUND(I182*L182,2)","v":3146},{"$f":"ROUND(L182/G182,4)","v":0.32100000000000001}]
[null,"Minimum 4.9 oz must provide a minimum or 2 oz cooked"," ",null,null,null,null,null," "," ",null," "," ","  ",null,null,null,null,null,null,null,null,null,null," "]
[null,"meat. USDA inspected.  Grade A, fryer parts, IQF"]
[null,"Possible Allergens:  None Listed",null,null,null,null,null,null,null,null,null,null,null,null,null,null,null,null,null,null,null,null,null,null," "]
[2029,"Chicken, Eight Cut, Raw","Tyson ",10038820928,null,"90/4.0oz",90,100,{"$f":"ROUND(H186*G186/G186,2)","v":100},"Cs",40.619999999999997,{"$f":"IF(OR(ISBLANK(K186),K186=0,H186=0,ISBLANK(H186)),,ROUND(K186+$L$3,2))","v":40.619999999999997},{"$f":"ROUND(I186*L186,2)","v":4062},{"$f":"ROUND(L186/G186,4)","v":0.45129999999999998}]
[null,"USDA inspected, Grade A fryer parts"," ",null,null,null,null,null,"  "," ",null," "," "," ",null,null,null,null,null,null,null,null,null,null," "]
[null,"Equal parts of breast, leg, thigh and wings,",null,null,null,null,null,null,null,null,null,null,null,null,null,null,null,null,null,null,null,null,null,null," "]
[null,"Minimum 4 oz breast and thigh to meet 2 oz cooked",null,null,null,null,null,null,null,null,null,null,null,null,null,null,null,null,null,null,null,null,null,null,"  "]
[null,"meat, IQF"]
[null,"Possible Allergens: None Listed",null,null,null,null,null,null,null,null,null,null,null,null,null,null,null,null,null,null,null,null,null,null," "]
[2030,"Chicken Fajita Strips, Breast Meat w/ Grill marks","Perdue ",7325,null,"10lb",53,100,{"$f":"ROUND(H192*G192/G192,2)","v":100},"Cs",29.9,{"$f":"IF(OR(ISBLANK(K192),K192=0,H192=0,ISBLANK(H192)),,ROUND(K192+$L$3,2))","v":29.9},{"$f":"ROUND(I192*L192,2)","v":2990},{"$f":"ROUND(L192/G192,4)","v":0.56420000000000003}]
[null,"Frozen, Fully cooked, Marinated strips of breast w/rib meat with grill "]
[null,"markings.  Free of bone and skin, 100-200 calories with no more than 2 g"]
[null,"saturated fat and 600 mg of sodium per 2 M/MA",null,null,null,null,null,null,null,null,null,null,null,null,null,null,null,null,null,null,null,null,null,null," "]
[null," Possible Allergens:  Soy",null,null,null,null,null,null,null,null,null,null,null,null,null,null,null,null,null,null,null,null,null,null," "]
[2031,"Chicken Fajita Strips, Unbreaded Dark Meat","Tyson ",10046210928,null,"160/3.0z",160,null,{"$f":"ROUND(H197*G197/G197,2)","v":0},"Cs",91.69,{"$f":"IF(OR(ISBLANK(K197),K197=0,H197=0,ISBLANK(H197)),,ROUND(K197+$L$3,2))","v":0},{"$f":"ROUND(I197*L197,2)","v":0},{"$f":"ROUND(L197/G197,4)","v":0},10046210928,"160/3.0z",160,49.2,45.84,{"$f":"ROUND($Y$6*S197,2)","v":20.75},{"$f":"IF(ISBLANK(O197),,R197+T197)","v":69.95},"Y",70.94,0.44340000000000002,false]
[null,"Fully cooked, One serving must provide 2.0 oz M/MA",null,null,null,null,null,null,null,null,null,null,null,null,null,null,null,null,null,null,null,null,null,null," "]
[null,"Possible Allergens:  Soy",null,null,null,null,null,null,null,null,null,null,null,null,null,null,null,null,null,null,null,null,null,null," "]
[2032,"Chicken Fajita Strips, Unbreaded Dark Meat","Gold Kist/Pilgrims ",1260,null,"195/2.46z",195,null,{"$f":"ROUND(H200*G200/G200,2)","v":0},"Cs",95.1,{"$f":"IF(OR(ISBLANK(K200),K200=0,H200=0,ISBLANK(H200)),,ROUND(K200+$L$3,2))","v":0},{"$f":"ROUND(I200*L200,2)","v":0},{"$f":"ROUND(L200/G200,4)","v":0},1260,"30 lbs",195,47.69,51.14,{"$f":"ROUND($Y$6*S200,2)","v":23.15},{"$f":"IF(ISBLANK(O200),,R200+T200)","v":70.84},"Y",71.949999999999989,0.36899999999999999,false]
[null,"Fully cooked, One serving must provide 2.0 oz M/MA",null,null,null,null,null,null,null,null,null,null,null,null,null,null,null,null,null,null,null,null,null,null," "]
[null,"Possible Allergens:  Soy",null,null,null,null,null,null,null,null,null,null,null,null,null,null,null,null,null,null,null,null,null,null," "]
[2033,"Chicken Popcorn, Dark and White Meat, no container, WG","Gold Kist/Pilgrims ",110452,null,"108/4.30z",108,null,{"$f":"ROUND(H203*G203/G203,2)","v":0},"Cs",68.760000000000005,{"$f":"IF(OR(ISBLANK(K203),K203=0,H203=0,ISBLANK(H203)),,ROUND(K203+$L$3,2))","v":0},{"$f":"ROUND(I203*L203,2)","v":0},{"$f":"ROUND(L203/G203,4)","v":0},110452,"30 lbs",108,40.98,29.98,{"$f":"ROUND($Y$6*S203,2)","v":13.57},{"$f":"IF(ISBLANK(O203),,R203+T203)","v":54.55},"Y",55.190000000000005,0.51100000000000001,false]
[null,"Frozen, Fully cooked, Chopped and formed w/d chicken meat 200-300"," ",null,null,null,null,null," "," ",null," "," "," ",null,null,null,null,null,null,null,null,null,null," "]
[null,"calories with no more than 5 g saturated fat and 600 mg of sodium per "]
[null,"serving.  CN Labeled for 10 pieces to provide min. 2 M/MA and 1 OEG"]
[null," "," "]
[null,"Possible Allergens:  Wheat, Soy, and Milk",null,null,null,null,null,null,null,null,null,null,null,null,null,null,null,null,null,null,null,null,null,null," "]
[2034,"Chicken, Breaded, Popcorn (Dark Meat)","Gold Kist/Pilgrims ",110458,null,"108/4.30z",108,null,{"$f":"ROUND(H209*G209/G209,2)","v":0},"Cs",73.2,{"$f":"IF(OR(ISBLANK(K209),K209=0,H209=0,ISBLANK(H209)),,ROUND(K209+$L$3,2))","v":0},{"$f":"ROUND(I209*L209,2)","v":0},{"$f":"ROUND(L209/G209,4)","v":0},110458,"30 lbs",108,35.619999999999997,40.54,{"$f":"ROUND($Y$6*S209,2)","v":18.350000000000001},{"$f":"IF(ISBLANK(O209),,R209+T209)","v":53.97},"Y",54.85,0.50790000000000002,false]
[null,"Whole Grain, fully cooked, frozen, must provide 2.0 oz. M/MA Consists of"," ",null,null," "," ",null," "," ",null," "," "," ",null,null,null,null," "," ",null,null," "," "," "]
[null,"mixed white and datrk meat 5 gr of sat fat or less & 600 mg of "," ",null,null," "," ",null," "," ",null," "," "," ",null,null,null,null," ","  ",null,null," "," "," "]
[null,"sodium or less"]
[null,"Possible Allergens:  Wheat, Soy, Egg , Milk",null,null,null,null,null,null,null,null,null,null,null,null,null,null,null,null,null,null,null,null,null,null," "]
[2035,"Chicken Wings, Buffalo Style","Perdue ",8201,null,"10 lbs",19,null,{"$f":"ROUND(H214*G214/G214,2)","v":0},"Cs",null,{"$f":"IF(OR(ISBLANK(K214),H214=0,ISBLANK(H214)),,ROUND(K214+$L$3,2))","v":0},{"$f":"ROUND(I214*L214,2)","v":0},{"$f":"ROUND(L214/G214,4)","v":0}]
[null,"Frozen, Fully cooked, First and second wing joint, Marinated & seasoned","Tyson ",10052100928,null,"32/5.3oz",32,null,{"$f":"ROUND(H214*G214/G215,2)","v":0},"Cs",39,{"$f":"IF(OR(ISBLANK(K215),H214=0,ISBLANK(H214)),,ROUND(K215+$L$3,2))","v":0},{"$f":"ROUND(I215*L215,2)","v":0},{"$f":"ROUND(L215/G215,4)","v":0}]
[null," 275-600 calories with no more than 9 g saturated fat  and "," ",null,null,null,null,null,null,null,null,null,null,null,null,null,null,null," ","  ",null,null," "," "," "]
[null,"1450 mg sodium per serving"]
[null,"Possible Allergens:  Wheat, Soy"," ",null,null,null,null,null,null,null,null,null,null,null,null,null,null,null,null,null,null,null,null,null," "]
[2036,"Chicken Wings, Roasted","Foster Farms Item Discontinued",96440,null,"170/6.9z",170,100,{"$f":"ROUND(H219*G219/G219,2)","v":100},"Cs",null,{"$f":"IF(OR(ISBLANK(K219),K219=0,H219=0,ISBLANK(H219)),,ROUND(K219+$L$3,2))","v":0},{"$f":"ROUND(I219*L219,2)","v":0},{"$f":"ROUND(L219/G219,4)","v":0}]
[null,"Frozen, Fully cooked, 300-400 calories with not more than 8 gm saturated"," ",null,null," "," ",null," ","  ",null," "," "," "]
[null,"fat and 1300 mg of sodium per serving   ",null,null,null,null,null,null,null,null,null,null,null,null,null,null,null,null," ","  ",null,null," "," "," "]
[]
[null,"Possible Allergens:  None Listed, Gluten Free",null,null,null,null,null,null,null,null,null,null,null,null,null,null,null,null,null,null,null,null,null,null," "]
[2037,"Chicken, Diced, 1/2\" Natual Proportion White Meat","Dutch Quality ",3024,null,"10 lbs",160,10,{"$f":"ROUND(H224*G224/G224,2)","v":10},"Cs",32.5,{"$f":"IF(OR(ISBLANK(K224),K224=0,H224=0,ISBLANK(H224)),,ROUND(K224+$L$3,2))","v":32.5},{"$f":"ROUND(I224*L224,2)","v":325},{"$f":"ROUND(L224/G224,4)","v":0.2031}]
[null,"Frozen, fully cooked, oven roasted, white chicken meat, free of bones "," ",null,null,null,null,null,null,null,".",null,null,null,null,null,null,null," "," ",null,null," "," "," "]
[null,"and skin, thaw and serve.  No VPP 50-150 calories with no more than 2 g "]
[null,"saturated fat and 410 mg of sodium per 2 M/MA serving.  No CN Label "]
[]
[null,"Possible Allergens: None Listed",null,null,null,null,null,null,null,null,null,null,null,null,null,null,null,null," ","  ",null,null," "," "," "]
[2038,"Chicken, Diced, 1/2\" Natual Proportion with Dark Meat","Gold Kist/Pilgrims ",1230,null,"172/2.72oz",176,null,{"$f":"ROUND(H230*G230/G230,2)","v":0},"Cs",80.36,{"$f":"IF(OR(ISBLANK(K230),K230=0,H230=0,ISBLANK(H230)),,ROUND(K230+$L$3,2))","v":0},{"$f":"ROUND(I230*L230,2)","v":0},{"$f":"ROUND(L230/G230,4)","v":0},1230,"30 lbs",176,46.99,36.01,{"$f":"ROUND($Y$6*S230,2)","v":16.3},{"$f":"IF(ISBLANK(O230),,R230+T230)","v":63.290000000000006},"Y",64.06,0.36399999999999999,false]
[null,"Frozen, fully cooked, oven roasted, natural proportion with dark chicken "," ",null,null,null,null,null,null,null,null,null,null,null,null,null,null,null," "," ",null,null," "," "," "]
[null,"meat, free of bones and skin, thaw and serve, No VPP,  50-150 calories"]
[null," with no more than  2 g saturated fat and 200 mg of sodium"]
[null," per 2 M/MA serving "]
[null,"Possible Allergens:  None Listed",null,null,null,null,null,null,null,null,null,null,null,null,null,null,null,null," ","  ",null,null," "," "," "]
[null,null,null,null,null,null,null,null,null,null,null,null,null,null,"Chicken, Small 100100"]
[2039,"Chicken, Roasted 4 cut, WG","Discontinued Gold Kist/Pilgrims ",88013,null,"30 lbs",82,null,{"$f":"ROUND(H237*G237/G237,2)","v":0},"Cs",null,{"$f":"IF(OR(ISBLANK(K237),K237=0,H237=0,ISBLANK(H237)),,ROUND(K237+$L$3,2))","v":0},{"$f":"ROUND(I237*L237,2)","v":0},{"$f":"ROUND(L237/G237,4)","v":0}]
[null,"Frozen, Fully cooked, Dark meat chopped or shredded chicken with VPP"," "]
[null,"in tomato based sauce. 100-200 calories with no more than 2 g saturated "]
[null,"fat and 400 mg of sodium per 2 M/MA serving.  CN labeled with serving "]
[null,"size to provide 2 M/MA "]
[null," "]
[null,"Possible Allergen:  Wheat, Soy"]
[2040,"Chicken, Breaded 8 cut, WG","Discontinued Gold Kist/Pilgrims ",7812,null,"30 lbs",74,null,2000,"Cs",null,{"$f":"IF(OR(ISBLANK(K244),K244=0,H244=0,ISBLANK(H244)),,ROUND(K244+$L$3,2))","v":0},{"$f":"ROUND(I244*L244,2)","v":0},{"$f":"ROUND(L244/G244,4)","v":0}]
[null,"Frozen, IQF, Fully cooked, oven prep, WGR, 200-300 calories with no "," ",null,null,null,null,null,null,null,null,null,null,null,null,null,null,null," "," ",null,null," "," "," "]
[null,"more than 4 gr sat fat and 600 mg sodium per 3.0 oz. edible portion",null,null,null,null,null,null,null,null,null,null,null,null,null,null,null,null," ","  ",null,null," "," "," "]
[null,"1 breast,  1 thigh,  or  drumstick/wing to provide 2 oz. M/MA and 1 OEG",null,null,null,null,null,null,null,null,null,null,null,null,null,null,null,null,null,null,null,null,null,null," "]
[]
[null,"Possible Allergen:  Wheat, Egg",null,null,null,null,null,null,null,null,null,null,null,null,null,null,null,null,null,null,null,null,null,null," "]
[2041,"Chicken, Roasted 8 cut, ","Gold Kist/Pligrims ",8820,null,"95/4.4oz",95,50,{"$f":"ROUND(H250*G250/G250,2)","v":50},"Cs",109.5,{"$f":"IF(OR(ISBLANK(K250),K250=0,H250=0,ISBLANK(H250)),,ROUND(K250+$L$3,2))","v":109.5},{"$f":"ROUND(I250*L250,2)","v":5475},{"$f":"ROUND(L250/G250,4)","v":1.1526000000000001},8820,"30 lbs",95,68.19,44.77,{"$f":"ROUND($S$7*S250,2)","v":41.31},{"$f":"IF(ISBLANK(O250),,R250+T250)","v":109.5},"Y",68.19,0.71779999999999999,false]
[null,"Frozen, Fully cooked, chicken parts, 8 pc cut, marinated, Must be sealed "," ",null,null,null,null,null,null,null,null,null,null,null,null,null,null,null," "," ",null,null," "," "," "]
[null,"in plastic bags, 150-250 calories with no more than 4 gr sat fat and ",null,null,null,null,null,null,null,null,null,null,null,null,null,null,null,null," ","  ",null,null," "," "," "]
[null,"200 mg sodium per svg 1 breast, 1 thigh, or 1 drumstick/wing",null,null,null,null,null,null,null,null,null,null,null,null,null,null,null,null,null,null,null,null,null,null,"  "]
[null," to provide 2 oz. M/MA"]
[null,"Possible Allergens:  Soy, Milk",null,null,null,null,null,null,null,null,null,null,null,null,null,null,null,null,null,null,null,null,null,null," "]
[null,null,null,null,null,null,null,null,null,"Page Total",null,null,{"$f":"SUMIF(M8:M255,\">0\")","v":59073.55}]

{"sheet":"Turkey","index":4,"n_rows":83,"n_cols":25,"rows_kept":83,"cut":false,"hidden":false,"merged":[[0,5,0,13],[1,5,1,13],[2,6,2,10],[2,15,4,15],[2,16,4,16]]}
[null,{"$f":"'Recap Sheet'!A2","v":"School Food Authority or Agency Name:"},null,null,null,{"$f":"'Recap Sheet'!A3","v":"Bidder's Name:"}]
["4001-",{"$f":"'Recap Sheet'!B2","v":"Marion County School District"},"Return to Recap Sheet",null,null,{"$f":"'Recap Sheet'!B3","v":0},null,null,null,null,null,null,null,null,null,null,null,null,"Commodity"]
[6000,"Description","Approved",null,null,null,"Firm Fixed Fee",null,null,null,null,{"$f":"'Recap Sheet'!B4","v":0},null,null,"Manufacturer","Vendor Pack","Servings per case","Processing","Pounds of","Commodity","Total Cost","NOI ?","NOI ","Net NOI","Fee for Serivce"]
["SCPA",null,"Brand Name","Manufacturers","Distributor","Vendor","Svgs","Est.","Bid ","Bid","Unit","Unit Price","Total ","Cost per","USDA Product",null,null,"Fee for","DF Needed","Value  Per","Proc Fee + ","Enter","Net","Cost Per","Cost Per Serv."]
[" Code",null,"or Manufacturer","Code","Code","Pack","per unit","Bid Qty","Qty","Unit","Price","plus Fee","Price","Unit","Code",null,null,"Service","Per Case","Case","Comm Value","Y or N","Price","Serving","Fee+ Commodity"]
[null,"Category: Turkey",null,null,null,null,null,null,null,null,null,null,null,null,"Turkey Thighs",null,100883,"Commodity Value per lb",null,1.6315999999999999]
[]
[4001,"Turkey Barbecue with Texas Sauce, Low Sodium","Brookwood ",16250,null,"4/5#",84,null,{"$f":"ROUND(H8*G8/G8,2)","v":0},"Cs",74.8,{"$f":"IF(OR(ISBLANK(K8),K8=0,H8=0,ISBLANK(H8)),,ROUND(K8+$L$3,2))","v":0},{"$f":"ROUND(I8*L8,2)","v":0},{"$f":"ROUND(L8/G8,4)","v":0},16300,"4/5#",84,32,25.2,{"$f":"ROUND($T$6*S8,2)","v":41.12},{"$f":"IF(ISBLANK(O8),,R8+T8)","v":73.12},"N",{"$f":"IF(ISNUMBER(K8),IF(V8=\"Y\",(K8-T8)))","v":false},{"$f":"W8/G8","v":0},{"$f":"IF(V8=\"N\",IF(ISNUMBER(R8),(R8)/Q8))","v":0.38095238095238093}]
[null,"Frozen, fully cooked, chopped, One 3.75 oz. portion to provide"]
[null,"2 oz. M/MA, 100-200 calories and not more than 2 g saturated fat and"]
[null,"300 mg of sodium per serving"]
[]
[null,"Possible Allergens:  Soy "]
[null,"Category: Turkey ",null,null,null,null,null,null,null,null,null,null,null,null,"Turkey",null,100124,"Commodity Value per lb",null,1.0753999999999999]
[4002,"Turkey Breast, Deli Sliced, Frozen (1/2 oz. slices) ","Jennie O ",2099,null,"64/3.0z",64,200,{"$f":"ROUND(H15*G15/G15,2)","v":200},"Cs",37.44,{"$f":"IF(OR(ISBLANK(K15),K15=0,H15=0,ISBLANK(H15)),,ROUND(K15+$L$3,2))","v":37.44},{"$f":"ROUND(I15*L15,2)","v":7488},{"$f":"ROUND(L15/G15,4)","v":0.58499999999999996},2099,"64/3.0 oz.",64,24.6,10.71,{"$f":"ROUND($T$14*S15,2)","v":11.52},{"$f":"IF(ISBLANK(O15),,R15+T15)","v":36.120000000000005},"Y",{"$f":"IF(ISNUMBER(K15),IF(V15=\"Y\",(K15-T15)))","v":25.919999999999998},{"$f":"W15/G15","v":0.40499999999999997},{"$f":"IF(V15=\"N\",IF(ISNUMBER(R15),(R15+T15)/Q15))","v":false}]
[null,"Frozen, fully cooked, Oven roasted, Round Shape 50-150 calories with  "]
[null,"not more than 2 g saturated fat and  400 mg sodium per serving,  "," ",null,null," "," ",null," "," ",null," "," "," ",null,null,null,null," "," ",null,null," "," "," "]
[null,"CN label portion to provide 2 oz. M/MA"]
[null,"Possible Allegens:  None Listed Gluten Free"]
[4003,"Turkey Ham, Sliced, (1/2 oz. slices)","Jennie O ",2565,null,"12/1 lb",62,100,{"$f":"ROUND(H20*G20/G20,2)","v":100},"Cs",39.119999999999997,{"$f":"IF(OR(ISBLANK(K20),K20=0,H20=0,ISBLANK(H20)),,ROUND(K20+$L$3,2))","v":39.119999999999997},{"$f":"ROUND(I20*L20,2)","v":3912},{"$f":"ROUND(L20/G20,4)","v":0.63100000000000001},2565,"12/1 lb.",62,24.6,13.26,{"$f":"ROUND($T$14*S20,2)","v":14.26},{"$f":"IF(ISBLANK(O20),,R20+T20)","v":38.86},"Y",{"$f":"IF(ISNUMBER(K20),IF(V20=\"Y\",(K20-T20)))","v":24.86},{"$f":"W20/G20","v":0.40096774193548385},{"$f":"IF(V20=\"N\",IF(ISNUMBER(R20),(R20+T20)/Q20))","v":false}]
[null,"Frozen, fully cooked, No more than 10% water added 94% fat-free "," ",null,null," "," ",null," "," ",null," "," "," ",null,null,null,null," "," ",null,null,"  "," "," "]
[null,"by weight, 50-150 calories with no more than 2 g saturated fat and "]
[null,"550 mg sodium per 2 M/MA serving May contain nitrites"," ",null," "," "," ",null," "," ",null," "," "," ",null,null,null,null," "," ",null,null," "," "," "]
[null,"Possible Allergens:  None Listed Gluten Free"]
[4004,"Turkey, Combo Frozen","Jennie O ",2095,null,"4/3/1 lbs",71,100,{"$f":"ROUND(H25*G25/G25,2)","v":100},"Cs",35.159999999999997,{"$f":"IF(OR(ISBLANK(K25),K25=0,H25=0,ISBLANK(H25)),,ROUND(K25+$L$3,2))","v":35.159999999999997},{"$f":"ROUND(I25*L25,2)","v":3516},{"$f":"ROUND(L25/G25,4)","v":0.49519999999999997},2095,"4/3/1 lb.",71,23.76,10.53,{"$f":"ROUND($T$14*S25,2)","v":11.32},{"$f":"IF(ISBLANK(O25),,R25+T25)","v":35.08},"Y",{"$f":"IF(ISNUMBER(K25),IF(V25=\"Y\",(K25-T25)))","v":23.839999999999996},{"$f":"W25/G25","v":0.33577464788732392},{"$f":"IF(V25=\"N\",IF(ISNUMBER(R25),(R25+T25)/Q25))","v":false}]
[null,"Frozen, fully cooked, All turkey equal parts bologna, ham, and salami.  "," ",null,null," "," ",null," "," ",null," "," "," ",null,null,null,null," "," ",null,null,"  "," "," "]
[null,"Each flavor packed separately, 1/2 oz. slices.  May contain nitrites"," ",null," "," "," ",null," "," ",null," "," "," ",null,null,null,null," "," ",null,null," "," "," "]
[null,"Possible Allergens:  None Listed Gluten Free"]
[4005,"Turkey, Roast Light and Dark Meat Frozen","Jennie O ","3170-04",null,"4/9 lbs",209,20,{"$f":"ROUND(H29*G29/G29,2)","v":20},"Cs",120.24,{"$f":"IF(OR(ISBLANK(K29),K29=0,H29=0,ISBLANK(H29)),,ROUND(K29+$L$3,2))","v":120.24},{"$f":"ROUND(I29*L29,2)","v":2404.8000000000002},{"$f":"ROUND(L29/G29,4)","v":0.57530000000000003},"3170-04","4/9 lbs.",209,70.92,41.31,{"$f":"ROUND($T$14*S29,2)","v":44.42},{"$f":"IF(ISBLANK(O29),,R29+T29)","v":115.34},"Y",{"$f":"IF(ISNUMBER(K29),IF(V29=\"Y\",(K29-T29)))","v":75.819999999999993},{"$f":"W29/G29","v":0.36277511961722486},{"$f":"IF(V29=\"N\",IF(ISNUMBER(R29),(R29+T29)/Q29))","v":false}]
[null,"Frozen, fully cooked, Whole muscle breast and thigh roast, Packed in","This is a catch weight item. Pricing is by the pound.",null,null," "," ",null," "," ",3.08,"per lb",null," ",null,null,null,1.97,"per lb"," ",null,null," "," "," "]
[null,"ovenable Mylar bags, natural skin on, 50-150 calories with no more"]
[null,"2 g sat fat and 480 mg sodium per 2 M/MA serving"]
[null,"Possible Allergens:  None Listed Gluten Free"," ",null,null,null,null,null,null,null,null,null,null,null,null,null,null,null,null,null,null,null,"per pound"]
[4006,"Turkey, Roast Light and Dark Meat Frozen","Shady Brook Farms ",703119,null,"4/9#",183,null,{"$f":"ROUND(H34*G34/G34,2)","v":0},"Cs",120.24,{"$f":"IF(OR(ISBLANK(K34),K34=0,H34=0,ISBLANK(H34)),,ROUND(K34+$L$3,2))","v":0},{"$f":"ROUND(I34*L34,2)","v":0},{"$f":"ROUND(L34/G34,4)","v":0},703119,"4/9#",183,79.2,38.049999999999997,{"$f":"ROUND($T$14*S34,2)","v":40.92},{"$f":"IF(ISBLANK(O34),,R34+T34)","v":120.12},"Y",{"$f":"IF(ISNUMBER(K34),IF(V34=\"Y\",(K34-T34)))","v":79.319999999999993},{"$f":"W34/G34","v":0.43344262295081964},{"$f":"IF(V34=\"N\",IF(ISNUMBER(R34),(R34+T34)/Q34))","v":false}]
[null,"Frozen, fully cooked, Whole muscle breast and thigh roast, Packed in","Catch Weight per Pound ",null,null," "," ",null," "," ",3.34,"per lb"," "," ",null,null,null,2.2000000000000002,"per lb"," ",null,null," "," "," "]
[null,"ovenable Mylar bags, natural skin on, 50-150 calories with no more"]
[null,"2 g sat fat and 480 mg sodium per 2 M/MA serving"]
[null,"Possible Allergens:  None Listed Gluten Free"]
[null,"703119 is in catch weights and will be invoiced by the pound.  "]
[null,"The case prices listed are approximate."]
[4007,"Turkey Sausage Patty ","Jimmy Dean  CN",14106,null,"106/1.50z",106,null,{"$f":"ROUND(H41*G41/G41,2)","v":0},"Cs",0,{"$f":"IF(OR(ISBLANK(K41),K41=0,H41=0,ISBLANK(H41)),,ROUND(K41+$L$3,2))","v":0},{"$f":"ROUND(I41*L41,2)","v":0},{"$f":"ROUND(L41/G41,4)","v":0},null,null,null,null,13.23,{"$f":"ROUND(#REF!*S41,2)","v":{"$error":"#REF!"}},{"$f":"IF(ISBLANK(O41),,R41+T41)","v":0},"Y",{"$f":"IF(ISNUMBER(K41),IF(V41=\"Y\",(K41-T41)))","v":{"$error":"#REF!"}},{"$f":"W41/G41","v":{"$error":"#REF!"}},{"$f":"IF(V41=\"N\",IF(ISNUMBER(R41),(R41+T41)/Q41))","v":false}]
[null,"Frozen, Fully cooked, No VPP, 50-100 cals per svg no more than",null,null,null,null,null,null,null,null,null,null,null,null,null,null,null,null," "," ",null,null,"  "," "," "]
[null,"3 g sat fat and 320 mg sodium .  CN Label  to provide 1 M/MA "]
[null," "]
[null,"Possible Allergens:  None Listed "]
[4008,"Turkey Sausage Patty Lower Sodium","Jennie O ",6132,null,"160/1.03z",160,50,{"$f":"ROUND(H46*G46/G46,2)","v":50},"Cs",35.67,{"$f":"IF(OR(ISBLANK(K46),K46=0,H46=0,ISBLANK(H46)),,ROUND(K46+$L$3,2))","v":35.67},{"$f":"ROUND(I46*L46,2)","v":1783.5},{"$f":"ROUND(L46/G46,4)","v":0.22289999999999999},6132,"160/1.03 oz.",160,24.9,9.9700000000000006,{"$f":"ROUND($T$14*S46,2)","v":10.72},{"$f":"IF(ISBLANK(O46),,R46+T46)","v":35.619999999999997},"Y",{"$f":"IF(ISNUMBER(K46),IF(V46=\"Y\",(K46-T46)))","v":24.950000000000003},{"$f":"W46/G46","v":0.15593750000000001},{"$f":"IF(V46=\"N\",IF(ISNUMBER(R46),(R46+T46)/Q46))","v":false}]
[null,"Frozen, Fully cooked, No VPP, 50-100 cals per svg no more than 2 g"]
[null,"sat fat and 150 mg sodium per 1 M/MA serving Must provide 1 M/MA"]
[null," "]
[null,"Possible Allergens:  None Listed Gluten Free"]
[4009,"Turkey Taco Filling","Jennie O ","2856-28",null,"4/7 lbs",147,null,{"$f":"ROUND(H51*G51/G51,2)","v":0},"Cs",73.64,{"$f":"IF(OR(ISBLANK(K51),K51=0,H51=0,ISBLANK(H51)),,ROUND(K51+$L$3,2))","v":0},{"$f":"ROUND(I51*L51,2)","v":0},{"$f":"ROUND(L51/G51,4)","v":0},"2856-28","4/7 lbs.",147,42,29.26,{"$f":"ROUND($T$14*S51,2)","v":31.47},{"$f":"IF(ISBLANK(O51),,R51+T51)","v":73.47},"Y",{"$f":"IF(ISNUMBER(K51),IF(V51=\"Y\",(K51-T51)))","v":42.17},{"$f":"W51/G51","v":0.28687074829931974},{"$f":"IF(V51=\"N\",IF(ISNUMBER(R51),(R51+T51)/Q51))","v":false}]
[null,"Frozen, fully cooked, dark/white meat, pre-seasoned, 100-200 calories "," ",null,null,null,null,null,null,null,null,null,null,null,null,null,null,null," "," ",null,null,"  "," "," "]
[null,"with no more than 2 g sat fat and 400 mg sodium per "]
[null,"2 M/MA serving. Boil or steam in bag, CN labeled to provide 2 M/MA"," "]
[null,"Possible Allergens:  None Listed "]
[4010,"Turkey Bacon","(18-19) Jennie O ","2711-06",null,"120/1.0z",120,10,{"$f":"ROUND(H56*G56/G56,2)","v":10},"Cs",81.900000000000006,{"$f":"IF(OR(ISBLANK(K56),K56=0,H56=0,ISBLANK(H56)),,ROUND(K56+$L$3,2))","v":81.900000000000006},{"$f":"ROUND(I56*L56,2)","v":819},{"$f":"ROUND(L56/G56,4)","v":0.6825},271106,"120/1.0 oz.",120,74.63,6.64,{"$f":"ROUND($T$14*S56,2)","v":7.14},{"$f":"IF(ISBLANK(O56),,R56+T56)","v":81.77},"Y",{"$f":"IF(ISNUMBER(K56),IF(V56=\"Y\",(K56-T56)))","v":74.760000000000005},{"$f":"W56/G56","v":0.623},{"$f":"IF(V56=\"N\",IF(ISNUMBER(R56),(R56+T56)/Q56))","v":false}]
[null,"Frozen, pre-cooked and pre-crisped, One slice contains .179 of cooked "," ",null,null,null,null,null,null,null,null,null,null,null,null,null,null,null," "," ",null,null,"  "," "," "]
[null,"M/MA, Contains both white and dark meat"," "]
[null,"Possible Allergens:  None Listed "]
[4011,"Turkey Sliced All Natural Turkey Breast","Jennie O ","2318-18",null,"96/3.0z",96,null,{"$f":"ROUND(H60*G60/G60,2)","v":0},"Cs",75.78,{"$f":"IF(OR(ISBLANK(K60),K60=0,H60=0,ISBLANK(H60)),,ROUND(K60+$L$3,2))","v":0},{"$f":"ROUND(I60*L60,2)","v":0},{"$f":"ROUND(L60/G60,4)","v":0},"2318-18","96/3.0 oz.",96,48.6,18.21,{"$f":"ROUND($T$14*S60,2)","v":19.579999999999998},{"$f":"IF(ISBLANK(O60),,R60+T60)","v":68.180000000000007},"Y",{"$f":"IF(ISNUMBER(K60),IF(V60=\"Y\",(K60-T60)))","v":56.2},{"$f":"W60/G60","v":0.5854166666666667},{"$f":"IF(V60=\"N\",IF(ISNUMBER(R60),(R60+T60)/Q60))","v":false}]
[null,"Frozen, fully cooked, oven roasted, round shaped, 50-150 calories  "," ",null,null,null,null,null,null,null,null,null,null,null,null,null,null,null," "," ",null,null,"  "," "," "]
[null,"with no more than 1 g sat fat and 4500 mg of sodium per serving. CN "]
[null,"labeled with portion to provide 2 M/MA "," "]
[null,"Possible Allergens:  None Listed, Gluten Free "]
[4012,"Turkey, All Nat Smoke House Turkey Breast Snack Stick","Jennie O ",207130,null,"400/1.2z",400,null,{"$f":"ROUND(H65*G65/G65,2)","v":0},"Cs",215.7,{"$f":"IF(OR(ISBLANK(K65),K65=0,H65=0,ISBLANK(H65)),,ROUND(K65+$L$3,2))","v":0},{"$f":"ROUND(I65*L65,2)","v":0},{"$f":"ROUND(L65/G65,4)","v":0},207130,"400/1.2 oz.",400,181.5,31.76,{"$f":"ROUND($T$14*S65,2)","v":34.15},{"$f":"IF(ISBLANK(O65),,R65+T65)","v":215.65},"Y",{"$f":"IF(ISNUMBER(K65),IF(V65=\"Y\",(K65-T65)))","v":181.54999999999998},{"$f":"W65/G65","v":0.45387499999999997},{"$f":"IF(V65=\"N\",IF(ISNUMBER(R65),(R65+T65)/Q65))","v":false}]
[null,"Frozen, Fully cooked, wach 1.2 oz. sticks provides 1 oz. M/MA 10-100"," ",null,null,null,null,null,null,null,null,null,null,null,null,null,null,null," "," ",null,null,"  "," "," "]
[null,"calories with no more than 1 g sat fat  and 8 g of protein"," "]
[null,"Possible Allergens:  None Listed, Gluten Free "]
[4013,"Turkey Meatballs","Jennie O ",639930,null,"184/.85z",184,null,{"$f":"ROUND(H69*G69/G69,2)","v":0},"Cs",106.8,{"$f":"IF(OR(ISBLANK(K69),K69=0,H69=0,ISBLANK(H69)),,ROUND(K69+$L$3,2))","v":0},{"$f":"ROUND(I69*L69,2)","v":0},{"$f":"ROUND(L69/G69,4)","v":0},639930,"184/.85 oz.",184,74.400000000000006,29.28,{"$f":"ROUND($T$14*S69,2)","v":31.49},{"$f":"IF(ISBLANK(O69),,R69+T69)","v":105.89},"Y",{"$f":"IF(ISNUMBER(K69),IF(V69=\"Y\",(K69-T69)))","v":75.31},{"$f":"W69/G69","v":0.40929347826086959},{"$f":"IF(V69=\"N\",IF(ISNUMBER(R69),(R69+T69)/Q69))","v":false}]
[null,"Fully cooked, IQF, Four meatballs provides 2 M/MA Utlizes both white &"," ",null,null,null,null,null,null,null,null,null,null,null,null,null,null,null," "," ",null,null,"  "," "," "]
[null,"dark meat, 100-150 cals with no more than 1 g sat fat & 400 mg sodium"," "]
[null,"Possible Allergens:  Wheat, Soy and Milk"]
[4014,"Turkey Burger","Jennie O ",616630,null,"175/2.75z",175,null,{"$f":"ROUND(H73*G73/G73,2)","v":0},"Cs",115.5,{"$f":"IF(OR(ISBLANK(K73),K73=0,H73=0,ISBLANK(H73)),,ROUND(K73+$L$3,2))","v":0},{"$f":"ROUND(I73*L73,2)","v":0},{"$f":"ROUND(L73/G73,4)","v":0},616630,"175/2.75z",175,84,29.07,{"$f":"ROUND($T$14*S73,2)","v":31.26},{"$f":"IF(ISBLANK(O73),,R73+T73)","v":115.26},"Y",{"$f":"IF(ISNUMBER(K73),IF(V73=\"Y\",(K73-T73)))","v":84.24},{"$f":"W73/G73","v":0.48137142857142856},{"$f":"IF(V73=\"N\",IF(ISNUMBER(R73),(R73+T73)/Q73))","v":false}]
[null,"Frozen, Fully cooked, on patty provides 2.0 oz. M/MA 150-200 calories "," ",null,null,null,null,null,null,null,null,null,null,null,null,null,null,null," "," ",null,null,"  "," "," "]
[null,"with no more than 2.5 g sat fat and 450 mg of sodium per serving"," "]
[null,"Possible Allergens:  None Listed"]
[4015,"Turkey Medallions","Butterball",2265589209,null,"30 #",133,null,{"$f":"ROUND(H77*G77/G77,2)","v":0},"Cs",87.9,{"$f":"IF(OR(ISBLANK(K77),K77=0,H77=0,ISBLANK(H77)),,ROUND(K77+$L$3,2))","v":0},{"$f":"ROUND(I77*L77,2)","v":0},{"$f":"ROUND(L77/G77,4)","v":0},"100124W","30 lbs",133,58.5,23.19,{"$f":"ROUND($T$14*S77,2)","v":24.94},{"$f":"IF(ISBLANK(O77),,R77+T77)","v":83.44},"Y",{"$f":"IF(ISNUMBER(K77),IF(V77=\"Y\",(K77-T77)))","v":62.960000000000008},{"$f":"W77/G77","v":0.47338345864661663},{"$f":"IF(V77=\"N\",IF(ISNUMBER(R77),(R77+T77)/Q77))","v":false}]
[null,"Fully cooked, boneless, skinless, individually sliced turkey tenderloin medallions"]
[null,"Ready to serve. 1 3.60 oz serving provides 2.00 M/MA  CN labeled"]
[4016,"Turkey Thigh Roast","Butterball",2265589204,null,"3/6 lb",80,null,{"$f":"ROUND(H80*G80/G80,2)","v":0},"Cs",41.4,{"$f":"IF(OR(ISBLANK(K80),K80=0,H80=0,ISBLANK(H80)),,ROUND(K80+$L$3,2))","v":0},{"$f":"ROUND(I80*L80,2)","v":0},{"$f":"ROUND(L80/G80,4)","v":0},"100124D","3/6 lb",80,16.920000000000002,23.9,{"$f":"ROUND($T$14*S80,2)","v":25.7},{"$f":"IF(ISBLANK(O80),,R80+T80)","v":42.620000000000005},"Y",{"$f":"IF(ISNUMBER(K80),IF(V80=\"Y\",(K80-T80)))","v":15.7},{"$f":"W80/G80","v":0.19624999999999998},{"$f":"IF(V80=\"N\",IF(ISNUMBER(R80),(R80+T80)/Q80))","v":false}]
[null,"Fully cooked turkey thigh roast. 3.58 oz serving provides 2.0 M/MA 2 gms sat","This is a catch weight item. Pricing is by the pound.",null,null,null,null,null,"Catch Weigh",null,2.2999999999999998,"per lb.",null,null,null,null,null,0.94]
[null,"fat and 450 mg sodium"]
[null,null,null,null,null,null,null,null,null,"Page Total",null,null,{"$f":"SUMIF(M15:M82,\">0\")","v":19923.3}]

{"sheet":"Fish","index":5,"n_rows":45,"n_cols":25,"rows_kept":45,"cut":false,"hidden":false,"merged":[[1,5,1,13],[2,6,2,10],[2,15,4,15],[2,16,4,16]]}
[null,{"$f":"'Recap Sheet'!A2","v":"School Food Authority or Agency Name:"},null,null,null,{"$f":"'Recap Sheet'!A3","v":"Bidder's Name:"}]
[6001,{"$f":"'Recap Sheet'!B2","v":"Marion County School District"},"Return to Recap Sheet",null,null,{"$f":"'Recap Sheet'!B3","v":0},null,null,null,null,null,null,null,null,null,null,null,null,"Commodity"]
[8000,"Description","Approved",null,null,null,"Firm Fixed Fee",null,null,null,null,{"$f":"'Recap Sheet'!B4","v":0},null,null,"Manufacturer","Vendor Pack","Servings per case","Processing","Pounds of","Commodity","Total Cost","NOI ?","Net","Net NOI ","Fee for Serivce"]
["SCPA",null,"Brand Name","Manufacturers","Distributor","Vendor","Svgs","Est.","Bid ","Bid","Unit","Unit Price","Total ","Cost per","USDA Product",null,null,"Fee for","DF Needed","Value  Per","Proc Fee + ","Enter","NOI ","Cost Per","Cost Per Serv."]
[" Code",null,"or Manufacturer","Code","Code","Pack","per unit","Bid Qty","Qty","Unit","Price","plus Fee","Price","Unit","Code",null,null,"Service","Per Case","Case","Comm Value","Y or N","Price","Serving","Fee+ Commodity"]
[null,"Fish Products",null,null,null,null,null,null,null,null,null,null,null,null,"Fish",null,110601,"Commodity Value per lb",null,1.5507]
[]
[6001,"Fish Portion, Pollock, WG             ","Trident Seafood ",418302,null,"44/3.64z",44,null,{"$f":"ROUND($H$8*$G$8/G8,2)","v":0},"Cs",null,{"$f":"IF(OR(ISBLANK(K8),K8=0,H8=0,ISBLANK(H8)),,ROUND(K8+$L$3,2))","v":0},{"$f":"ROUND(I8*L8,2)","v":0},{"$f":"ROUND(L8/G8,4)","v":0},418302,"44/3.64 oz.",44,null,6.99,{"$f":"ROUND($T$6*S8,2)","v":10.84},{"$f":"IF(ISBLANK(O8),,R8+T8)","v":10.84},"Y"]
[null,"Frozen, min 71% Alaskan Pollock, WGR breading, precooked, Grade A or","High Liner Foods ","1089300CN",null,"80/3.60z",80,null,{"$f":"ROUND($H$8*$G$8/G9,2)","v":0},"Cs",39.89,{"$f":"IF(OR(ISBLANK(K9),K9=0,H8=0,ISBLANK(H8)),,ROUND(K9+$L$3,2))","v":0},{"$f":"ROUND(I9*L9,2)","v":0},{"$f":"ROUND(L9/G9,4)","v":0},"1089300CN","80/3.60 oz.",80,19.98,12.84,{"$f":"ROUND($T$6*S9,2)","v":19.91},{"$f":"IF(ISBLANK(O9),,R9+T9)","v":39.89},"Y",19.98,0.24975,{"$f":"IF(V9=\"N\",IF(ISNUMBER(R9),(R9+T9)/Q9))","v":false}]
[null,"PUFI approved, 150-250 calories with no more than 2 g saturated fat and "," ",null,null," "," ",null," "," "," "," "," "," ",null,null,null," "," "," ",null,null," "," "," "]
[null,"400 mg per serving, CN labeled to provide min. 2 M/MA and 1 OEG"," ",null,null," "," ",null," "," "," "," "," "," ",null,null,null," "," "," ",null,null," "," "," "]
[null,"Possible Allergens:  Fish, Wheat, Soy",null,null,null,null,null,null,null,null,null,null,null,null,null,null,null,null,null,null,null,null,null,null," "]
[6002,"Fish Portion, Pollock, Wedge, Potato Breading WG","High Liner - Viking ","06533C",null,"46/3.60z",46,null,{"$f":"ROUND(H13*G13/G13,2)","v":0},"Cs",25.47,{"$f":"IF(OR(ISBLANK(K13),K13=0,H13=0,ISBLANK(H13)),,ROUND(K13+$L$3,2))","v":0},{"$f":"ROUND(I13*L13,2)","v":0},{"$f":"ROUND(L13/G13,4)","v":0},"06533C","46/3.6 oz.",46,13.99,7.4,{"$f":"ROUND($T$6*S13,2)","v":11.48},{"$f":"IF(ISBLANK(O13),,R13+T13)","v":25.47},"Y",13.989999999999998,0.30413043478260865,{"$f":"IF(V13=\"N\",IF(ISNUMBER(R13),(R13+T13)/Q13))","v":false}]
[null,"Frozen, min 71% Alaskan Pollock, WGR breading, precooked, Grade A or","Trident Seafood ",422072,null,"44/3.60z",44,null,{"$f":"ROUND(H13*G13/G14,2)","v":0},"Cs",null,{"$f":"IF(OR(ISBLANK(K14),K14=0,H13=0,ISBLANK(H13)),,ROUND(K14+$L$3,2))","v":0},{"$f":"ROUND(I14*L14,2)","v":0},{"$f":"ROUND(L14/G14,4)","v":0},422072,"44/3.6 oz.",44,null,6.99,{"$f":"ROUND($T$6*S14,2)","v":10.84},{"$f":"IF(ISBLANK(O14),,R14+T14)","v":10.84},"Y"]
[null,"PUFI approved, 150-250 calories with no more than 2 g saturated fat and "]
[null,"300 mg per serving, CN labeled to provide min. 2 M/MA and .5 OEG"]
[null,"Possible Allergens:  Fish, Wheat, Egg, Soy and Milk",null,null,null,null,null,null,null,null,null,null,null,null,null,null,null,null,null,null,null,null,null,null," "]
[6003,"Fish Nuggets, Natural Cod                                    ","High Liner/Viking ","51067CN",null,"40/4.0oz",40,null,{"$f":"ROUND(H18*G18/G18,2)","v":0},"Cs",23.73,{"$f":"IF(OR(ISBLANK(K18),K18=0,H18=0,ISBLANK(H18)),,ROUND(K18+$L$3,2))","v":0},{"$f":"ROUND(I18*L18,2)","v":0},{"$f":"ROUND(L18/G18,4)","v":0},null,null,null,null," ",null,null,null,null," "]
[null,"Natural Cod, chunks pre-breaded, oven ready.   PUFI approved. One ",null,null,null,null,null,null,null,null,null,null,null,null,null,null,null,null," "," ",null,null," "," "," "]
[null,"serving (4 nuggets) will provide 2 oz meat/meat alternate and 1.0z OEG "]
[null,"Possible Allergens:  Fish, Wheat, Egg  ",null,null,null,null,null,null,null,null,null,null,null,null,null,null,null," "," "," ",null,null," ","  "," "]
[6004,"Fish Sticks, Pollock             ","High Liner/APS ","26240CN",null,"160/1.0z",40,null,{"$f":"ROUND(H22*G22/G22,2)","v":0},"Cs",21.1,{"$f":"IF(OR(ISBLANK(K22),K22=0,H22=0,ISBLANK(H22)),,ROUND(K22+$L$3,2))","v":0},{"$f":"ROUND(I22*L22,2)","v":0},{"$f":"ROUND(L22/G22,4)","v":0},null,null,null,null," ",null,null,null,null," "]
[null,"Frozen, min. 64%  Alaskan Pollock, breaded, oven ready, Grade A or PUFI  ","Trident Seafood ",427203,null,"160/1.0z",40,null,{"$f":"ROUND(H22*G22/G23,2)","v":0},"Cs",null,{"$f":"IF(OR(ISBLANK(K23),K23=0,H22=0,ISBLANK(H22)),,ROUND(K23+$L$3,2))","v":0},{"$f":"ROUND(I23*L23,2)","v":0},{"$f":"ROUND(L23/G23,4)","v":0},427203,"160/1 oz",40,16.739999999999998,6.42,{"$f":"ROUND($T$6*S23,2)","v":9.9600000000000009},{"$f":"IF(ISBLANK(O23),,R23+T23)","v":26.7},"Y",16.739999999999998,0.41849999999999998,{"$f":"IF(V23=\"N\",IF(ISNUMBER(R23),(R23+T23)/Q23))","v":false}]
[null,"approved, 200-300 claories calories with no more than 2 g sat fat and ","Slade Gorton ",25152,null,"160/1.0z",40,null,{"$f":"ROUND($H$22*$G$22/G24,2)","v":0},"Cs",null,{"$f":"IF(OR(ISBLANK(K24),K24=0,H22=0,ISBLANK(H22)),,ROUND(K24+$L$3,2))","v":0},{"$f":"ROUND(I24*L24,2)","v":0},{"$f":"ROUND(L24/G24,4)","v":0},null,null,null,null," "]
[null,"350 mg sodium per serving.  ",null,null,null,null,null,null,null,null,null,null,null,null,null,null,null,null,null,null,null,null,null,null," "]
[null,"Possible Allergens: Fish, Wheat, Soy",null,null,null,null,null,null,null,null,null,null,null,null,null,null,null,null,null,null,null,null,null,null," "]
[6005,"Fish Stick, Nacho Breaded, WG","High Liner Foods ",38118,null,"320/1.0z",80,null,{"$f":"ROUND(H27*G27/G27,2)","v":0},"Cs",43.16,{"$f":"IF(OR(ISBLANK(K27),K27=0,H27=0,ISBLANK(H27)),,ROUND(K27+$L$3,2))","v":0},{"$f":"ROUND(I27*L27,2)","v":0},{"$f":"ROUND(L27/G27,4)","v":0},38118,"320/1 oz.",80,23,13,{"$f":"ROUND($T$6*S27,2)","v":20.16},{"$f":"IF(ISBLANK(O27),,R27+T27)","v":43.16},"Y",22.999999999999996,0.28749999999999998,{"$f":"IF(V27=\"N\",IF(ISNUMBER(R27),(R27+T27)/Q27))","v":false}]
[null,"Frozen, min. 64% Alaskan Pollock, breaded, oven ready, PUFI approved, "," ",null,null," "," ",null," "," ",null," "," "," "]
[null,"200-300 calories with no more than 2 g sat fat and 350 mg sodium per "," ",null,null," "," ",null," "," ",null," "," "," "]
[null,"serving.  CN Labeled for 4 sticks to provide min. 2 M/MA and .75 OEG"]
[null,"Possible Allergens:  Fish, Wheat, Soy",null,null,null,null,null,null,null,null,null,null,null,null,null,null,null,null,null,null,null,null,null,null," "]
[6006,"Fish Sticks, Pollock, Potato Coated, WG","Trident Seafood ",422071,null,"160/1.0z",40,null,{"$f":"ROUND(H32*G32/G32,2)","v":0},"Cs",28.8,{"$f":"IF(OR(ISBLANK(K32),K32=0,H32=0,ISBLANK(H32)),,ROUND(K32+$L$3,2))","v":0},{"$f":"ROUND(I32*L32,2)","v":0},{"$f":"ROUND(L32/G32,4)","v":0},422071,"160/1.0z",40,18.920000000000002,6.37,{"$f":"ROUND($T$6*S32,2)","v":9.8800000000000008},{"$f":"IF(ISBLANK(O32),,R32+T32)","v":28.800000000000004},"Y",18.920000000000002,0.47300000000000003,{"$f":"IF(V32=\"N\",IF(ISNUMBER(R32),(R32+T32)/Q32))","v":false}]
[null,"Frozen, min. 64% Alaskan Pollock, breaded, oven ready, PUFI approved, "," ",null,null," "," ",null," "," ",null," "," "," ",null,null,null,null,null,null,null,null,null,null," "]
[null,"200-300 calories with no more than 2 g sat fat and 350 mg sodium per "," ",null,null," "," ",null," "," ",null," "," "," ",null,null,null,null,null,null,null,null,null,null," "]
[null,"serving.  CN Labeled for 4 sticks to provide min. 2 M/MA and .75 OEG",null,null,null,null,null,null,null,null,null,null,null,null,null,null,null,null,null,null,null,null,null,null," "]
[null,"Possible Allergens:  Fish, Wheat, Soy, and Egg",null,null,null,null,null,null,null,null,null,null,null,null,null,null,null,null,null,null,null,null,null,null," "]
[6007,"Shrimp, Popcorn Style, WG","Sea Pak ",47039,null,"5/2 lbs",53,null,53,"Cs",null,{"$f":"IF(OR(ISBLANK(K37),K37=0,H37=0,ISBLANK(H37)),,ROUND(K37+$L$3,2))","v":0},{"$f":"ROUND(I37*L37,2)","v":0},{"$f":"ROUND(L37/G37,4)","v":0},null,null,null,null," "]
[null,"Frozen, made from minced shrimp, whole grain rich breading, 150-250 ","Tampa Maid ","1SH0100202",null,"12/2 lbs",128,null,128,"Cs",71.28,{"$f":"IF(OR(ISBLANK(K38),K38=0,H37=0,ISBLANK(H37)),,ROUND(K38+$L$3,2))","v":0},{"$f":"ROUND(I38*L38,2)","v":0},{"$f":"ROUND(L38/G38,4)","v":0},null,null,null,null," "]
[null,"calories with no more than 2 g saturated fat and 500 mg sodium per serving,"," ",null,null," "," ",null," "," ",null," "," "," ",null,null,null,null,null,null,null,null,null,null," "]
[null," CN labeled to provide min. 1 M/MA and 1.25 OEG per 3 ounce serving",null,null,null,null,null,null,null,null,null,null,null," ",null,null,null,null,null,null,null,null,null,null," "]
[null,"Possible Allergens:  Shrimp, Wheat, Milk, Soy",null,null,null,null,null,null,null,null,null,null,null,null,null,null,null,null,null,null,null,null,null,null," "]
[6008,"Tuna, Chunk Light, Low Sodium","Star-Kist ",514540,null,"6/43 z",129,null,{"$f":"ROUND(H42*G42/G42,2)","v":0},"Cs",50,{"$f":"IF(OR(ISBLANK(K42),K42=0,H42=0,ISBLANK(H42)),,ROUND(K42+$L$3,2))","v":0},{"$f":"ROUND(I42*L42,2)","v":0},{"$f":"ROUND(L42/G42,4)","v":0},null,null,null,null," ",null,null,null,null," "," "]
[null,"Pouch, water packed, No soy, Complies with \"Buy American\" provision",null,null,null,null,null,null,null,null,null,null,null," ",null,null,null,null,null,null,null,null,null,null," "]
[null,"Possible Allergens:  Fish, Wheat",null,null,null,null,null,null,null,null,null,null,null," "]
[null,null,null,null,null,null,null,0,null,"Page Total",null,null,{"$f":"SUMIF(M8:M44,\">0\")","v":0}]

{"sheet":"Pork","index":6,"n_rows":57,"n_cols":26,"rows_kept":57,"cut":false,"hidden":false,"merged":[[2,16,4,16],[52,1,52,6],[1,5,1,13],[2,6,2,10],[0,5,0,13],[2,15,4,15]]}
[null,{"$f":"'Recap Sheet'!A2","v":"School Food Authority or Agency Name:"}]
[8001,{"$f":"'Recap Sheet'!B2","v":"Marion County School District"},"Return to Recap Sheet",null,null,{"$f":"'Recap Sheet'!B3","v":0},null,null,null,null,null,null,null,null,null,null,null,null,"Commodity"]
[10000,"Description","Approved",null,null,null,"Firm Fixed Fee",null,null,null,null,{"$f":"'Recap Sheet'!B4","v":0},null,null,"Manufacturer","Vendor Pack","Servings per case","Processing ","Pounds of","Commodity","Total Cost","NOI ?",null,"NOI ","Fee for Serivce","Fee for Serivce"]
["SCPA",null,"Brand Name","Manufacturers","Distributor","Vendor","Svgs","Est.","Bid ","Bid","Unit","Unit Price","Total ","Cost per","USDA Product",null,null,"Fee for","DF Needed","Value  Per","Proc Fee + ","Enter","NOI ","Price/","Cost Per Serv.","Cost Per Serv."]
[" Code",null,"or Manufacturer","Code","Code","Pack","per unit","Bid Qty","Qty","Unit","Price","plus Fee","Price","Unit","Code",null,null,"Service","Per Case","Case","Comm Value","Y or N","Price","Serving","Processing Fee","Processing Fee"]
[null,"Pork Products",null,null,null,null,null,null,null,null,null,null,null,null,"Pork",null,100193,"Commodity Value per lb",null,1.4477]
[]
[6001,"Pork Barbecue, Tomato Sauce","Brookwood ",13017,null,"4/5 lbs",98,null,{"$f":"ROUND($H$8*$G$8/G8,2)","v":0},"Cs",62.4,{"$f":"IF(OR(ISBLANK(K8),K8=0,H8=0,ISBLANK(H8)),,ROUND(K8+$L$3,2))","v":0},{"$f":"ROUND(I8*L8,2)","v":0},{"$f":"ROUND(L8/G8,4)","v":0}]
[null,"Frozen, fully cooked.  Chopped. Products shall contain no more than ","Castleberry CN",7046,null,"4/5 lbs",103,null,{"$f":"ROUND($H$8*$G$8/G9,2)","v":0},"Cs",null,{"$f":"IF(OR(ISBLANK(K9),K9=0,H8=0,ISBLANK(H8)),,ROUND(K9+$L$3,2))","v":0},{"$f":"ROUND(I9*L9,2)","v":0},{"$f":"ROUND(L9/G9,4)","v":0},null,null,null," "]
[null,"5% textured vegetable protein.  USDA inspected pork.  ",null,null,null,null,null,null,null,"Cs",null,null,null,null,null,null,null," "]
[null,"Possible Allergens:  Soy, Wheat"," ",null,null," "," ",null," "," ",null," "," "," ",null,null,null,null," "," "]
[6002,"Pork Barbecue, Lower Sodium Texas Western Sauce","Brookwood ",12013,null,"2/5 lbs",40,null,{"$f":"ROUND($H$12*$G$12/G12,2)","v":0},"Cs",36.299999999999997,{"$f":"IF(OR(ISBLANK(K12),K12=0,H12=0,ISBLANK(H12)),,ROUND(K12+$L$3,2))","v":0},{"$f":"ROUND(I12*L12,2)","v":0},{"$f":"ROUND(L12/G12,4)","v":0},12307,"4/5 lb",80,31,22.8,{"$f":"ROUND($T$6*S12,2)","v":33.01},{"$f":"IF(ISBLANK(O12),,R12+T12)","v":64.009999999999991},"N",{"$f":"IF(ISNUMBER(K12),IF(V12=\"Y\",(K12-T12)))","v":false},{"$f":"W12/G12","v":0},0.76249999999999996,1.175125]
[null,"Frozen, fully cooked, 150-300 calories with no more than 7g sat fat and",null,null,null,null,null,null," "," ",null," "," "," "]
[null,"275 mg sodium per serving.  Must provide 2 oz. M/MA 0 trans fat"," ",null," "," ","  ",null," "," ",null," "," "," ",null,null,null,null," "," ",null,null," "," "," "," "]
[null,"Possible Allergens:  Soy"," ",null,null," "," ",null," "," ",null," "," "," ",null,null,null,null," "," ",null,null," "," "," "," "]
[6003,"Pork, Barbecue, Vinegar Marinate/Semi Dry","Brookwood ",12105,null,"2/5 lbs",64,120,{"$f":"ROUND($H$16*$G$16/G16,2)","v":120},"Cs",42,{"$f":"IF(OR(ISBLANK(K16),K16=0,H16=0,ISBLANK(H16)),,ROUND(K16+$L$3,2))","v":42},{"$f":"ROUND(I16*L16,2)","v":5040},{"$f":"ROUND(L16/G16,4)","v":0.65629999999999999},12302,"8/5 lb",256,76.400000000000006,64,{"$f":"ROUND($T$6*S16,2)","v":92.65},{"$f":"IF(ISBLANK(O16),,R16+T16)","v":169.05},"N",{"$f":"IF(ISNUMBER(K16),IF(V16=\"Y\",(K16-T16)))","v":false},{"$f":"W16/G16","v":0},0.29843750000000002,0.66035156250000004]
[null,"Frozen, fully cooked 200-300  calories with no more than 7g sat fat and ",null,null,null,null,null,null," "," ",null," "," "," "]
[null,"275 mg of sodium per serving.  Must provide 2 oz. M/MA 0 trans fat"," ",null," "," ","  ",null," "," ",null," "," "," ",null,null,null,null," "," ",null,null," "," "," "," "]
[null,"Possible Allergens:  Soy",null,null,null,null,null,null,null,null,null,null,null,null,null,null,null,null," "," ",null,null," "," "," "," "]
[6004,"Pork Chop Pattie, Breaded, WG","Advanced Pierre 68019",10000007801,null,"100/3.11 oz",100,null,{"$f":"ROUND(H20*G20/G20,2)","v":0},"Cs",48.35,{"$f":"IF(OR(ISBLANK(K20),K20=0,H20=0,ISBLANK(H20)),,ROUND(K20+$L$3,2))","v":0},{"$f":"ROUND(I20*L20,2)","v":0},{"$f":"ROUND(L20/G20,4)","v":0},10000069019,"100/3.1 oz",100,null,9.51,{"$f":"ROUND($T$6*S20,2)","v":13.77},{"$f":"IF(ISBLANK(O20),,R20+T20)","v":13.77},"N"]
[null,"Frozen, fully cooked, 250-350 calories with no more than 6 g sat fat","JTM ","5694CE",null,"138/3.35z",138,null,{"$f":"ROUND(H20*G20/G21,2)","v":0},"Cs",null,{"$f":"IF(OR(ISBLANK(K21),K21=0,H20=0,ISBLANK(H20)),,ROUND(K21+$L$3,2))","v":0},{"$f":"ROUND(I21*L21,2)","v":0},{"$f":"ROUND(L21/G21,4)","v":0},"CP5694","138/3.35 oz",138,43.34,20.59,{"$f":"ROUND($T$6*S21,2)","v":29.81},{"$f":"IF(ISBLANK(O21),,R21+T21)","v":73.150000000000006},"N",{"$f":"IF(ISNUMBER(K21),IF(V21=\"Y\",(K21-T21)))","v":false},null,0.31405797101449279,0.53007246376811601]
[null,"and 500 mg of sodium per serving. CN labeled for one portion to "]
[null,"provide min. 2 M/MA and .5 OEG"]
[null,"Possible Allergens:  Egg, Milk, Soy and Wheat"]
[6005,"Pork Rib Pattie, Barbecue Flavored","Advanced Pierre",10000044531,null,"100/2.50z",100,null,{"$f":"ROUND(H25*G25/G25,2)","v":0},"Cs",null,{"$f":"IF(OR(ISBLANK(K25),K25=0,H25=0,ISBLANK(H25)),,ROUND(K25+$L$3,2))","v":0},{"$f":"ROUND(L25*I25,2)","v":0},{"$f":"ROUND(L25/G25,4)","v":0}]
[null,"Frozen, fully cooked, 100-200 calories with no more  than 4 g sat fat","Maid Rite ","75156-05324",null,"208/2.40z",208,null,null,null,null,{"$f":"IF(OR(ISBLANK(K26),K26=0,H25=0,ISBLANK(H25)),,ROUND(K26+$L$3,2))","v":0},{"$f":"ROUND(I26*L26,2)","v":0},{"$f":"ROUND(L26/G26,4)","v":0},"75156-95324","208/2.40 oz.",208,null,29.12,{"$f":"ROUND($T$6*S26,2)","v":42.16},{"$f":"IF(ISBLANK(O26),,R26+T26)","v":42.16},"N"]
[null,"and 400 mg sodium per serving CN Labeled for one portion  to provide","Don Lee Farms","CN582253",null,"216/2.25z",216,null,null,null,58.33,{"$f":"IF(OR(ISBLANK(K27),K27=0,H25=0,ISBLANK(H25)),,ROUND(K27+$L$3,2))","v":0},{"$f":"ROUND(L27*I27,2)","v":0},{"$f":"ROUND(L27/G27,4)","v":0},"CNQ582253P","216/2.25 oz.",216,23.39,38.06,55.1,{"$f":"IF(ISBLANK(O27),,R27+T27)","v":78.490000000000009},"N",{"$f":"IF(ISNUMBER(K27),IF(V27=\"Y\",(K27-T27)))","v":false},{"$f":"W27/G27","v":0},0.10828703703703704,0.36337962962962966]
[null,"2 M/MA "]
[null,"Possible Allergens:  Milk, Soy and Wheat"]
[]
[]
[6006,"Ham, Buffet","Farmland ",90070247190454,null,"2/9-10 lb",20,10,{"$f":"ROUND(H32*G32/G32,2)","v":10},"Cs",21.5,{"$f":"IF(OR(ISBLANK(K32),K32=0,H32=0,ISBLANK(H32)),,ROUND(K32+$L$3,2))","v":21.5},{"$f":"ROUND(L32*I32,2)","v":215},{"$f":"ROUND(L32/G32,4)","v":1.075}]
[null,"Fully cooked, water added, boneless, smoked","Farmland ",190450,null,"2/13 lb",20,null,{"$f":"ROUND(H32*G32/G33,2)","v":10},"Cs",null,{"$f":"IF(OR(ISBLANK(K33),K33=0,H32=0,ISBLANK(H32)),,ROUND(K33+$L$3,2))","v":0},{"$f":"ROUND(I33*L33,2)","v":0},{"$f":"ROUND(L33/G33,4)","v":0},null,null,null,null," "]
[null,null,"John Morrell ",90070100047994,null,"2/10 lb",20,null,{"$f":"ROUND(H32*G32/G34,2)","v":10},"Cs",null,{"$f":"IF(OR(ISBLANK(K34),K34=0,H32=0,ISBLANK(H32)),,ROUND(K34+$L$3,2))","v":0},{"$f":"ROUND(I34*L34,2)","v":0},{"$f":"ROUND(L34/G34,4)","v":0},null,null,null,null," "]
[null,null,"Carolina Pride ",2328,null,"2/10 lb",18,null,{"$f":"ROUND(H32*G32/G35,2)","v":11.11},"Cs",null,{"$f":"IF(OR(ISBLANK(K35),K35=0,H32=0,ISBLANK(H32)),,ROUND(K35+$L$3,2))","v":0},0,{"$f":"ROUND(L35/G35,4)","v":0},null,null,null,null," "]
[null,"Possible Allergens: None Listed",null,null,null,null,null,null,null,null,null,null,null,null,null,null,null,null," "," ",null,null," "," "," "," "]
[6008,"Sausage Link with APP","Briar Street Market ",10000019331,null,"69/1.16oz",69,50,{"$f":"ROUND(H37*G37/G37,2)","v":50},"Cs",21.15,{"$f":"IF(OR(ISBLANK(K37),K37=0,H37=0,ISBLANK(H37)),,ROUND(K37+$L$3,2))","v":21.15},{"$f":"ROUND(I37*L37,2)","v":1057.5},{"$f":"ROUND(L37/G37,4)","v":0.30649999999999999}]
[null,"Fully cooked, 1.16 ounce to yield 1 M/MA ",null,null,null,null,null,null,null,null,null,null,null,null,null,null,null,null," "," ",null,null," "," "," "," "]
[null,"Possible Allergens:  Soy"," ",null,null,null,null,null,null,null,null,null,null,null,null,null,null,null," "," ",null,null," "," "," "," "]
[6009,"Sausage Patty, No APP","Swaggerty ",60020,null,"80/2.0oz",80,50,{"$f":"ROUND($H$40*$G$40/G40,2)","v":50},"Cs",null,{"$f":"IF(OR(ISBLANK(K40),K40=0,H40=0,ISBLANK(H40)),,ROUND(K40+$L$3,2))","v":0},{"$f":"ROUND(I40*L40,2)","v":0},{"$f":"ROUND(L40/G40,4)","v":0},null,null,null,null," ",{"$f":"ROUND($T$6*S40,2)","v":{"$error":"#VALUE!"}},{"$f":"IF(ISBLANK(O40),,R40+T40)","v":0},"N",{"$f":"IF(ISNUMBER(K40),IF(V40=\"Y\",(K40-T40)))","v":false}]
[null,"Frozen, fully cooked, No alternate protein product must provide 1 oz. M/MA","Ember Farms ",25468111007,null,"10 lb",79,null,{"$f":"ROUND($H$40*$G$40/G41,2)","v":50.63},"Cs",null,{"$f":"IF(OR(ISBLANK(K41),K41=0,H40=0,ISBLANK(H40)),,ROUND(K41+$L$3,2))","v":0},{"$f":"ROUND(I41*L41,2)","v":0},{"$f":"ROUND(L41/G41,4)","v":0},null,null,null,null," ",{"$error":"#VALUE!"},{"$f":"IF(ISBLANK(O41),,R41+T41)","v":0},null,{"$f":"IF(ISNUMBER(K41),IF(V41=\"Y\",(K41-T41)))","v":false}]
[null,"Possible Allergens:  None Listed "," JTM","5649CE",null,"360/1.33z",361,null,{"$f":"ROUND($H$40*$G$40/G42,2)","v":11.08},"Cs",68.5,{"$f":"IF(OR(ISBLANK(K42),K42=0,H40=0,ISBLANK(H40)),,ROUND(K42+$L$3,2))","v":68.5},{"$f":"ROUND(I42*L42,2)","v":758.98},{"$f":"ROUND(L42/G42,4)","v":0.1898},"CP5649","360/1.33 z.",361,36.36,26.69,38.64,{"$f":"IF(ISBLANK(O42),,R42+T42)","v":75},"N",{"$f":"IF(ISNUMBER(K42),IF(V42=\"Y\",(K42-T42)))","v":false},{"$f":"W42/G42","v":0},0.1007202216066482,0.2077562326869806]
[null,null,null,null,null,null,null,null,null,null,null,null,null,null,null,null,null,null,null,null,null,null," "," "]
[6010,"Sausage Patty with APP","Advanced Pierre ",10000013850,null,"250/1.20z",250,null,{"$f":"ROUND(H44*G44/G44,2)","v":0},"Cs",null,{"$f":"IF(OR(ISBLANK(K44),K44=0,H44=0,ISBLANK(H44)),,ROUND(K44+$L$3,2))","v":0},{"$f":"ROUND(I44*L44,2)","v":0},{"$f":"ROUND(L44/G44,4)","v":0},10000006750,"250/1.2 oz",250,null,22.45,{"$f":"ROUND($T$6*S44,2)","v":32.5},{"$f":"IF(ISBLANK(O44),,R44+T44)","v":32.5},"N",{"$f":"IF(ISNUMBER(K44),IF(V44=\"Y\",(K44-T44)))","v":false}]
[null,"Frozen, fully cooked, 50-150 calories with no more than 4 g saturated ","Briar Street Market ",10000029667,null,"153/1.25z",153,null,{"$f":"ROUND(H44*G44/G45,2)","v":0},null,null,{"$f":"IF(OR(ISBLANK(K45),K45=0,H44=0,ISBLANK(H44)),,ROUND(K45+$L$3,2))","v":0},{"$f":"ROUND(I45*L45,2)","v":0},0]
[null,"fat and 275 mg sodium per serving. CN labeled to provide 1 M/MA ","Maid Rite ","75156-07112",null,"400/1.20z",400,null,{"$f":"ROUND($H$44*$G$44/G46,2)","v":0},"Cs",null,{"$f":"IF(OR(ISBLANK(K46),K46=0,H44=0,ISBLANK(H44)),,ROUND(K46+$L$3,2))","v":0},0,0,"75156-97112","400/1.2 oz",400,null,34.841000000000001,{"$f":"ROUND($T$6*S46,2)","v":50.44},{"$f":"IF(ISBLANK(O46),,R46+T46)","v":50.44},"N",{"$f":"IF(ISNUMBER(K46),IF(V46=\"Y\",(K46-T46)))","v":false}]
[null,"per serving. ","Don Lee Farms","CN791203L",null,"400/1.20z",400,null,{"$f":"ROUND($H$44*$G$44/G47,2)","v":0},"Cs",null,{"$f":"IF(OR(ISBLANK(K47),K47=0,H44=0,ISBLANK(H44)),,ROUND(K47+$L$3,2))","v":0},0,0,"CNQ791203P","400/1.2 oz",400,21.3,40,{"$f":"ROUND($T$6*S47,2)","v":57.91},{"$f":"IF(ISBLANK(O47),,R47+T47)","v":79.209999999999994},"N",{"$f":"IF(ISNUMBER(K47),IF(V47=\"Y\",(K47-T47)))","v":false},{"$f":"W47/G47","v":0},5.3249999999999999E-2,0.19802499999999998]
[null,null,"Tennesee Pride ","342CN",null,"128/1.50z",128,null,{"$f":"ROUND($H$44*$G$44/G48,2)","v":0},"Cs",null,{"$f":"IF(OR(ISBLANK(K48),K48=0,H44=0,ISBLANK(H44)),,ROUND(K48+$L$3,2))","v":0},0,0]
[null,null,"Swaggerty ",60125,null,"256/1.25z",256,null,{"$f":"ROUND($H$44*$G$44/G49,2)","v":0},"Cs",31,{"$f":"IF(OR(ISBLANK(K49),K49=0,H44=0,ISBLANK(H44)),,ROUND(K49+$L$3,2))","v":0},{"$f":"ROUND(L49*I49,2)","v":0},0]
[null,"Possible Allergens:  Soy"]
[6011,"Sausage, Smoked","Bryan ",23258,null,"10Lb",80,300,{"$f":"ROUND(H51*G51/G51,2)","v":300},"Cs",null,{"$f":"IF(OR(ISBLANK(K51),K51=0,H51=0,ISBLANK(H51)),,ROUND(K51+$L$3,2))","v":0},{"$f":"ROUND(I51*L51,2)","v":0},{"$f":"ROUND(L51/G51,4)","v":0},null,null,null," "," "]
[null,"Made with pork and beef ","Swaggerty ",21057,null,"15Lb",120,null,{"$f":"ROUND($H$51*$G$51/G52,2)","v":200},"Cs",25,{"$f":"IF(OR(ISBLANK(K52),H51=0,ISBLANK(H51)),,ROUND(K52+$L$3,2))","v":25},{"$f":"ROUND(L52*I52,2)","v":5000},{"$f":"ROUND(L52/G52,4)","v":0.20830000000000001},null,null,null," "," "]
[null,"ITEMS BELOW THIS LINE ARE NOT DIRECT TO MANUFACTUER PRICED ITEMS."]
[6007,"Ham, Pre-Sliced","Distributor Choice",null,null,"6/2#",12,200,{"$f":"ROUND($H$54*$G$54/G54,2)","v":200},"Cs"]
[null,"Water added, .5 oz. slices, 2.0 oz. serving provides .75 oz. M/MA f","Fillable txt box ",null,null,null,null,null,{"$f":"ROUND(H54*G54/G55,2)","v":{"$error":"#DIV/0!"}},"Cs",null,{"$f":"IF(OR(ISBLANK(K55),K55=0,H54=0,ISBLANK(H54)),,ROUND(K55+$L$3,2))","v":0},{"$f":"ROUND(I55*L55,2)","v":{"$error":"#DIV/0!"}},{"$f":"ROUND(L55/G55,4)","v":{"$error":"#DIV/0!"}}]
[null,"Possible Allergens:  None",null,null,null,null,null,null,null,null,null,null,null,null,null,null,null,null," "," ",null,null," "," "," "," "]
[null,null,null,null,null,null,null,null,null,"Page Total",null,null,{"$f":"SUMIF(M8:M56,\">0\")","v":12071.48}]

{"sheet":"Pizza ","index":7,"n_rows":183,"n_cols":26,"rows_kept":183,"cut":false,"hidden":false,"merged":[[0,5,0,13],[0,18,0,24],[1,5,1,13],[2,6,2,10],[2,15,4,15],[2,16,4,16]]}
[null,{"$f":"'Recap Sheet'!A2","v":"School Food Authority or Agency Name:"},null,null,null,{"$f":"'Recap Sheet'!A3","v":"Bidder's Name:"}]
["10001-",{"$f":"'Recap Sheet'!B2","v":"Marion County School District"},"Return to Recap Sheet",null,null,{"$f":"'Recap Sheet'!B3","v":0}]
[12000,"Description","Approved",null,null,null,"Firm Fixed Fee",null,null,null,null,{"$f":"'Recap Sheet'!B4","v":0},null,null,"Manufacturer","Vendor Pack","Servings per case","Processing","Pounds of","Commodity","Total Cost","NOI ?","NOI","Net NOI","Fee for Serivce"]
["SCPA",null,"Brand Name","Manufacturers","Distributor","Vendor","Svgs","Est.","Bid ","Bid","Unit","Unit Price","Total ","Cost per","USDA Product",null,null,"Fee For","DF Needed","Value  Per","Proc Fee + ","Enter","Net ","Cost Per ","Cost Per Serv."]
[" Code",null,"or Manufacturer","Code","Code","Pack","per unit","Bid Qty","Qty","Unit","Price","plus Fee","Price","Unit","Code",null,null,"Service","Per Case","Case","Comm Value","Y or N","Price","Serving","Fee+ Commodity"]
[null,"Pizza",null,null,null,null,null,null,null,null,null,null,null,null,"Cheese Mozzarella",null,110244,"Commodity Value per lb",null,1.8467,"Cheese Ched Wht",null,null,110253,1.7956000000000001]
[null,null,null,null,null,null,null,null,null,null,null,null,null,null,"Cheese Cheddar",null,110242,"Commodity Value per lb",null,1.7956000000000001]
[10001,"Bread Stick","Tyson (Bosco)",17020111120,null,"144/2.14z",144,null,{"$f":"ROUND($H$8*$G$8/G8,2)","v":0},"Cs",48.7,{"$f":"IF(OR(ISBLANK(K8),K8=0,H8=0,ISBLANK(H8)),,ROUND(K8+$L$3,2))","v":0},{"$f":"ROUND(I8*L8,2)","v":0},{"$f":"ROUND(L8/G8,4)","v":0},17020111120,"144/2.14oz",144,32.08,9,{"$f":"ROUND($T$6*S8,2)","v":16.62},{"$f":"IF(ISBLANK(O8),,R8+T8)","v":48.7},"Y",32.08,0.22277777777777777,{"$f":"IF(V8=\"N\",IF(ISNUMBER(R8),(R8+T8)/Q8))","v":false}]
[null,"Dough filled with 100% mozzarella, WG"," ",null,null," "," ",null," "," ",null," "," "," ",null,null,null,null," "," ",null,null,null," "," "]
[null,"Frozen, WGR One stick must provide 1 M/MA and 1 EOG"," ",null,null," "," ",null," "," ",null," "," "," ",null,null,null,null," "," ",null,null,null," "," "]
[null,"Possible Allergens:  Wheat, Milk, Soy"]
[10002,"Pizza, Cheese Crunchers","Rich Products ",65225,null,"8/3.125 lbs",72,null,{"$f":"ROUND($H$12*$G$12/G12,2)","v":0},"Cs",58.18,{"$f":"IF(OR(ISBLANK(K12),K12=0,H12=0,ISBLANK(H12)),,ROUND(K12+$L$3,2))","v":0},{"$f":"ROUND(I12*L12,2)","v":0},{"$f":"ROUND(L12/G12,4)","v":0},65225,"8/3.125 lbs",73,41.19,9.1999999999999993,{"$f":"ROUND($T$6*S12,2)","v":16.989999999999998},{"$f":"IF(ISBLANK(O12),,R12+T12)","v":58.179999999999993},"Y",41.19,0.57208333333333328,{"$f":"IF(V12=\"N\",IF(ISNUMBER(R12),(R12+T12)/Q12))","v":false}]
[null,"Frozen, WGR, Low moisture part skim mozzarella with pizza sauce on the inside. Four "]
[null,"pieces to provide 2 M/MA and 2.5 OEG 400-500 calories and not more than 9 g sat fat and"]
[null,"800 mg sodium per serving"]
[null,"Possible Allergens:  Wheat"]
[10003,"Bread Stick, Blueberry Cinnamon with Mozzarella","Conagra Max ","77387-12611",null,"96/2.3z",96,null,{"$f":"ROUND(H17*G17/G17,2)","v":0},"Cs",40.4,{"$f":"IF(OR(ISBLANK(K17),K17=0,H17=0,ISBLANK(H17)),,ROUND(K17+$L$3,2))","v":0},{"$f":"ROUND(I17*L17,2)","v":0},{"$f":"ROUND(L17/G17,4)","v":0},"77387-12611","96/2.30z",96,35.51,2.65,{"$f":"ROUND($T$7*S17,2)","v":4.76},{"$f":"IF(ISBLANK(O17),,R17+T17)","v":40.269999999999996},"Y",35.64,0.37125000000000002,{"$f":"IF(V17=\"N\",IF(ISNUMBER(R17),(R17+T17)/Q17))","v":false}]
[null,"Frozen, WGR, Part skim mozzarella cheese, 100-200 calories with not more than 3 g sat"," "]
[null,"fat and 350 mg sodium per serving.  One breadstick provides 1 M/MA and 1 OEG"]
[null," "]
[null,"Possible Allergens:  Wheat, Milk, Soy"]
[10004,"Pizza, Cheese Bites","Wild Mike's",null,null,"240/1.0z",240,null,{"$f":"ROUND(H22*G22/G22,2)","v":0},"Cs",58.95,{"$f":"IF(OR(ISBLANK(K22),K22=0,H22=0,ISBLANK(H22)),,ROUND(K22+$L$3,2))","v":0},{"$f":"ROUND(I22*L22,2)","v":0},{"$f":"ROUND(L22/G22,4)","v":0},11003,"240/1.0z",240,45.1,7.5,{"$f":"ROUND($T$6*S22,2)","v":13.85},{"$f":"IF(ISBLANK(O22),,R22+T22)","v":58.95},"Y",45.1,0.18791666666666668,{"$f":"IF(V22=\"N\",IF(ISNUMBER(R22),(R22+T22)/Q22))","v":false}]
[null,"Frozen, Part skim mozzarella cheese, four bites provides 2 M/MA and 2 OEG 200-300","    Mozzarella",11003,null,null,null,null,null,null,null,null,null,null,null,null,null,null," "," ",null,null," "," "," "]
[null,"calories with not  more than 4 g saturated fat and 600 mg sodium per serving"]
[null," "]
[null,"Possible Allergens:  Wheat, Milk"]
[10005,"Pizzasticks, Filled with 100% Mozzarella and Pizza Sauce Wg","Discontinued",null,null,"48/3.10z",48,null,{"$f":"ROUND(H27*G27/G27,2)","v":0},"Cs",null,{"$f":"IF(OR(ISBLANK(K27),K27=0,H27=0,ISBLANK(H27)),,ROUND(K27+$L$3,2))","v":0},{"$f":"ROUND(I27*L27,2)","v":0},{"$f":"ROUND(L27/G27,4)","v":0},null,null,null,null,null,null,{"$f":"IF(ISBLANK(O27),,R27+T27)","v":0},"Y",false,0,{"$f":"IF(V27=\"N\",IF(ISNUMBER(R27),(R27+T27)/Q27))","v":false}]
[null,"Frozen, Low moisture part skim mozzarella cheese stick with WGR breading, pepperoni","Schwann's ",78378,null," "," ",null," "," ",null,null,null,null,null,null,null,null," "," ",null,null," "," "," "]
[null,"inside 200-400 calories with no more than  6 g sat fat and 400 mg of sodium per serving "]
[null,"1 stick serving to provide min. 1 M/MA and 2 OEG"]
[null,"Possible Allergens:  Wheat, Milk, Soy, and Eggs"]
[10006,"Pizza, 100% Mozzarella, 4x6, WG","Schwann's ",78697,null,"96/4.50z",96,null,{"$f":"ROUND(H32*$G$47/G32,2)","v":0},"Cs",null,{"$f":"IF(OR(ISBLANK(K32),K32=0,H32=0,ISBLANK(H32)),,ROUND(K32+$L$3,2))","v":0},{"$f":"ROUND(I32*L32,2)","v":0},{"$f":"ROUND(L32/G32,4)","v":0},78697,"96/4.50 oz",96,null,8.4,{"$f":"ROUND($T$6*S32,2)","v":15.51},{"$f":"IF(ISBLANK(O32),,R32+T32)","v":15.51},"Y"]
[null,"Frozen, Whole grain rich 250-350 calories with no more than 7 g saturated fat and ","Conagra ","77387-12584",null,"96/4.65z",96,null,{"$f":"ROUND(H32*G32/G33,2)","v":0},"Cs",null,{"$f":"IF(OR(ISBLANK(K33),K33=0,H32=0,ISBLANK(H32)),,ROUND(K33+$L$3,2))","v":0},{"$f":"ROUND(I33*L33,2)","v":0},{"$f":"ROUND(L33/G33,4)","v":0},"77387-12584","96/4.65 oz",96,null,7.5,{"$f":"ROUND($T$6*S33,2)","v":13.85},{"$f":"IF(ISBLANK(O33),,R33+T33)","v":13.85},"Y"]
[null,"750 mg sodium per serving. CN Labeled for one portion to provide 2 M/MA, 2 OEG, and ","Nardones 961SWCM2","961SWCM2",null,"96/4.90z",96,null,{"$f":"ROUND(H32*G32/G34,2)","v":0},"Cs",35.119999999999997,{"$f":"IF(OR(ISBLANK(K34),K34=0,H32=0,ISBLANK(H32)),,ROUND(K34+$L$3,2))","v":0},{"$f":"ROUND(I34*L34,2)","v":0},{"$f":"ROUND(L34/G34,4)","v":0},"961SWCM2","96/4.90 oz.",96,21.27,7.5,{"$f":"ROUND($T$6*S34,2)","v":13.85},{"$f":"IF(ISBLANK(O34),,R34+T34)","v":35.119999999999997},"Y",21.269999999999996,0.22156249999999997,{"$f":"IF(V34=\"N\",IF(ISNUMBER(R34),(R34+T34)/Q34))","v":false}]
[null,"1/8 c Red/Orange Vegetable."," ",null,null," "," ",null," "," ",null,null,null,null,null,null,null,null," "," ",null,null," ","  "," "]
[null,"Possible Allergens:  Wheat, Milk, Soy"]
[10007,"Pizza, 100% Mozzarella, Pork Pepperoni , 4 x 6, WG","Conagra Max ","77387-12585",null,"96/4.65z",96,null,{"$f":"ROUND(H37*$G$37/G37,2)","v":0},"Cs",null,{"$f":"IF(OR(ISBLANK(K37),K37=0,H37=0,ISBLANK(H37)),,ROUND(K37+$L$3,2))","v":0},{"$f":"ROUND(I37*L37,2)","v":0},{"$f":"ROUND(L37/G37,4)","v":0},"77387-12585","96/4.65oz",96,null,6,{"$f":"ROUND($T$6*S37,2)","v":11.08},{"$f":"IF(ISBLANK(O37),,R37+T37)","v":11.08},"Y"]
[null,"Frozen, Whole grain rich 250-350 calories with no more than 8 g saturated fat and ","Schwanns ",78698,null,"96/4.48z",96,null,{"$f":"ROUND(H37*$G$37/G38,2)","v":0},"Cs",null,{"$f":"IF(OR(ISBLANK(K38),K38=0,H37=0,ISBLANK(H37)),,ROUND(K38+$L$3,2))","v":0},{"$f":"ROUND(I38*L38,2)","v":0},{"$f":"ROUND(L38/G38,4)","v":0},78698,"96/4.48 oz",96,null,6.66,{"$f":"ROUND($T$6*S38,2)","v":12.3},{"$f":"IF(ISBLANK(O38),,R38+T38)","v":12.3},"Y"]
[null,"810 mg sodium per serving. CN Labeled for one portion to provide min. 2 M/MA, 2 OEG &","Nardones ","961SWCMP2",null,"96/4.95z",96,null,{"$f":"ROUND(H37*$G$37/G39,2)","v":0},"Cs",35.119999999999997,{"$f":"IF(OR(ISBLANK(K39),K39=0,H37=0,ISBLANK(H37)),,ROUND(K39+$L$3,2))","v":0},{"$f":"ROUND(I39*L39,2)","v":0},{"$f":"ROUND(L39/G39,4)","v":0},"961SWCMP2","96/4.95 oz",96,24.04,6,{"$f":"ROUND($T$6*S39,2)","v":11.08},{"$f":"IF(ISBLANK(O39),,R39+T39)","v":35.119999999999997},"Y",24.04,0.25041666666666668,{"$f":"IF(V39=\"N\",IF(ISNUMBER(R39),(R39+T39)/Q39))","v":false}]
[null,"1/8 c Red/Orange Vegetable."," ",null,null," "," ",null," "," ",null," "," "," ",null,null,null,null," "," ",null,null," "," ","  "]
[null,"Possible Allergens:  Wheat, Milk, Soy"]
[10008,"Pizza, 100% Mozzarella, Pork Pepperoni, Rtg. Ang. Wedge, WG","Nardones ","96SWWEDP2",null,"96/4.95z",96,null,{"$f":"ROUND(H42*$G$47/G42,2)","v":0},"Cs",35.119999999999997,{"$f":"IF(OR(ISBLANK(K42),K42=0,H42=0,ISBLANK(H42)),,ROUND(K42+$L$3,2))","v":0},{"$f":"ROUND(I42*L42,2)","v":0},{"$f":"ROUND(L42/G42,4)","v":0},"96SWWEDP2","96/4.95 oz",96,24.04,6,{"$f":"ROUND($T$6*S42,2)","v":11.08},{"$f":"IF(ISBLANK(O42),,R42+T42)","v":35.119999999999997},"Y",24.04,0.25041666666666668,{"$f":"IF(V42=\"N\",IF(ISNUMBER(R42),(R42+T42)/Q42))","v":false}]
[null,"Frozen, Whole grain rich 250-350 calories with no more than 6 g saturated fat and 810 mg ","Conagra Max ","77387-12686",null,"96/4.67z",96,null,{"$f":"ROUND(H42*$G$42/G43,2)","v":0},"Cs",null,{"$f":"IF(OR(ISBLANK(K43),K43=0,H42=0,ISBLANK(H42)),,ROUND(K43+$L$3,2))","v":0},{"$f":"ROUND(I43*L43,2)","v":0},{"$f":"ROUND(L43/G43,4)","v":0},"77387-12686","96/4.67 oz",96,null,6.96,{"$f":"ROUND($T$6*S43,2)","v":12.85},{"$f":"IF(ISBLANK(O43),,R43+T43)","v":12.85},"Y"]
[null,"sodium per serving.  CN Labeled for one portion to provide 2 M/MA, 2 OEG, and 1/8 c"]
[null,"Red/Orange Vegetable."," "]
[null,"Possible Allergens:  Wheat, Milk, Soy"]
[10009,"Pizza, 100% Mozz. Pork Pepperoni Stuffed Crust, Wedge WG","Nardone ","72WWSCMP2",null,"70/4.95z",70,null,{"$f":"ROUND(H47*$G$47/G47,2)","v":0},"Cs",39.93,{"$f":"IF(OR(ISBLANK(K47),K47=0,H47=0,ISBLANK(H47)),,ROUND(K47+$L$3,2))","v":0},{"$f":"ROUND(I47*L47,2)","v":0},{"$f":"ROUND(L47/G47,4)","v":0},"72WWSCMP2","70/4.95 oz",70,null,6.56,{"$f":"ROUND($T$6*S47,2)","v":12.11},{"$f":"IF(ISBLANK(O47),,R47+T47)","v":12.11},"Y"]
[null,"Frozen, Whole grain rich 300-400 calories with no more than 9 g saturated fat and 820 mg ","Conagra Max ","77387-12615",null,"72/5.00z",72,null,{"$f":"ROUND(H47*$G$47/G48,2)","v":0},"Cs",null,{"$f":"IF(OR(ISBLANK(K48),K48=0,H47=0,ISBLANK(H47)),,ROUND(K48+$L$3,2))","v":0},{"$f":"ROUND(I48*L48,2)","v":0},{"$f":"ROUND(L48/G48,4)","v":0},"77387-12615","72/5.00 oz",72,27.87,8.14,{"$f":"ROUND($T$6*S48,2)","v":15.03},{"$f":"IF(ISBLANK(O48),,R48+T48)","v":42.9},"Y",27.869999999999997,0.38708333333333328,{"$f":"IF(V48=\"N\",IF(ISNUMBER(R48),(R48+T48)/Q48))","v":false}]
[null,"sodium per svg, CN Labeled for one portion to provide 2 M/MA, 2 OEG, and 1/8 c ","Schwanns ",78650,null,"96/5.32z",96,null,null,null,null,{"$f":"IF(OR(ISBLANK(K49),K49=0,H47=0,ISBLANK(H47)),,ROUND(K49+$L$3,2))","v":0},{"$f":"ROUND(I49*L49,2)","v":0},{"$f":"ROUND(L49/G49,4)","v":0},78650,"96/5.32 oz.",96]
[null,"Red/Orange Vegetable.","Schwans Discontinued",null,null," "," ",null," "," ",null," "," "," ",null,null,null,null," "," ",null,null," "," "," "]
[null,"Possible Allergens:  Wheat, Milk, Soy"]
[10010,"Pizza, Beef Fiestada, WG","Nardones ","96WWMEX2",null,"96/5.20z",96,null,{"$f":"ROUND(H52*$G$52/G52,2)","v":0},"Cs",49,{"$f":"IF(OR(ISBLANK(K52),K52=0,H52=0,ISBLANK(H52)),,ROUND(K52+$L$3,2))","v":0},{"$f":"ROUND(I52*L52,2)","v":0},{"$f":"ROUND(L52/G52,4)","v":0},"96WWMEX2","96/5.20 oz",96,37.6,4.5,{"$f":"ROUND($Y$6*S52,2)","v":8.08},{"$f":"IF(ISBLANK(O52),,R52+T52)","v":45.68},"Y",40.92,0.42625000000000002,{"$f":"IF(V52=\"N\",IF(ISNUMBER(R52),(R52+T52)/Q52))","v":false}]
[null,"Frozen Whole grain rich Blend of cheddar, mozz/mozz sub 300-400 calories with no more ","Alpha Foods ","SP167RW",null,"72/7.23z",72,null,{"$f":"ROUND(H52*$G$52/G53,2)","v":0},"Cs",null,{"$f":"IF(OR(ISBLANK(K53),K53=0,H52=0,ISBLANK(H52)),,ROUND(K53+$L$3,2))","v":0},{"$f":"ROUND(I53*L53,2)","v":0},{"$f":"ROUND(L53/G53,4)","v":0},"SP167RW","72/7.23 oz.",72,null,8.44,{"$f":"ROUND($T$6*S53,2)","v":15.59},{"$f":"IF(ISBLANK(O53),,R53+T53)","v":15.59},"Y"]
[null,"than 900 mg sodium per serving.  CN Labeled for one portion to provide min. 2 M/MA, ","Schwan's ",68523,null,"72/5.44z",72,null,{"$f":"ROUND(H52*$G$52/G54,2)","v":0},"Cs",null,{"$f":"IF(OR(ISBLANK(K54),K54=0,H52=0,ISBLANK(H52)),,ROUND(K54+$L$3,2))","v":0},{"$f":"ROUND(I54*L54,2)","v":0},{"$f":"ROUND(L54/G54,4)","v":0},68523,"72/5.44z",72,null,3.42,{"$f":"ROUND($T$6*S54,2)","v":6.32},{"$f":"IF(ISBLANK(O54),,R54+T54)","v":6.32},"Y"]
[null,"2 OEG , and 1/8 cup red/orange vegetable",null,null,null,null,null,null,null,null,null,"  "," ","  "]
[null,"Possible Allergens:  Wheat, Milk, Soy"," ",null," "," "," ",null," "," ",null," ",null," ",null,null,null,null," "," ",null,null," "," "," "]
[10011,"Pizza, French Bread Multi Cheese Garlic","Nardone's ","60WGUMA2",null,"60/4.50z",60,null,{"$f":"ROUND($H$57*$G$57/G57,2)","v":0},"Cs",38.69,{"$f":"IF(OR(ISBLANK(K57),K57=0,H57=0,ISBLANK(H57)),,ROUND(K57+$L$3,2))","v":0},{"$f":"ROUND(I57*L57,2)","v":0},{"$f":"ROUND(L57/G57,4)","v":0},"60WGUMA2","60/4.50z",60,31.76,3.75,{"$f":"ROUND($T$6*S57,2)","v":6.93},{"$f":"IF(ISBLANK(O57),,R57+T57)","v":38.69},"Y",31.759999999999998,0.52933333333333332,{"$f":"IF(V57=\"N\",IF(ISNUMBER(R57),(R57+T57)/Q57))","v":false}]
[null,"Frozen, 6\" whole grain rich french bread, blend of provolone, mozz/sub mozz ","Schwann's ",78359,null,"60/4.29z",60,null,{"$f":"ROUND($H$57*$G$57/G58,2)","v":0},"Cs",null,{"$f":"IF(OR(ISBLANK(K58),K58=0,H57=0,ISBLANK(H57)),,ROUND(K58+$L$3,2))","v":0},{"$f":"ROUND(I58*L58,2)","v":0},{"$f":"ROUND(L58/G58,4)","v":0},78359,"60/4.29z",60,null,1.75,{"$f":"ROUND($T$6*S58,2)","v":3.23},{"$f":"IF(ISBLANK(O58),,R58+T58)","v":3.23},"Y"]
[null,"250-400 calories with no more than 7 g saturated fat and 710 mg sodium per serving."]
[null,"CN Labeled for one portion to provide min 2 M/MA and 2 OEG."]
[null,"Possible Allergens:  Wheat, Milk, Soy"]
[10012,"Pizza, 100% Mozz. Turkey Meateaters 6\" Round, WG","Nardones ","625WTME2",null,"60/5.57z",60,null,{"$f":"ROUND($H$62*$G$62/G62,2)","v":0},"Cs",46.5,{"$f":"IF(OR(ISBLANK(K62),K62=0,H62=0,ISBLANK(H62)),,ROUND(K62+$L$3,2))","v":0},{"$f":"ROUND(I62*L62,2)","v":0},{"$f":"ROUND(L62/G62,4)","v":0},"625WTME2","60/5.57z",60,36.75,5.28,{"$f":"ROUND($T$6*S62,2)","v":9.75},{"$f":"IF(ISBLANK(O62),,R62+T62)","v":46.5},"Y",36.75,0.61250000000000004,{"$f":"IF(V62=\"N\",IF(ISNUMBER(R62),(R62+T62)/Q62))","v":false}]
[null,"Frozen, 6\" whole grain rich, 100% mozzarella, 250-400 calories with no more than 7 g sat ",null,null,null,null,null,null,null,null,null,null,null,null,null,null,null,null,null,null,null,null,null,null,null," "]
[null,"fat and 600 mg sodium per serving.  CN Labeled for one portion to proivde min. 2 M/MA,"]
[null,"2 OEG , and 1/8 cup red/orange vegetable"," ",null,null," "," ",null," "," ",null," "," "," ",null,null,null,null," "," ",null,null,null," "," "]
[null,"Possible Allergens:  Wheat, Milk, Soy"]
[10013,"Pizza, Cheese, 5-6\" Round, WG","Nardones ","625WRM2",null,"60/5.43z",60,null,{"$f":"ROUND(H67*G67/G67,2)","v":0},"Cs",null,{"$f":"IF(OR(ISBLANK(K67),K67=0,H67=0,ISBLANK(H67)),,ROUND(K67+$L$3,2))","v":0},{"$f":"ROUND(I67*L67,2)","v":0},{"$f":"ROUND(L67/G67,4)","v":0},"625WRM2","60/5.4 oz",60,26.15,7.5,{"$f":"ROUND($T$6*S67,2)","v":13.85},{"$f":"IF(ISBLANK(O67),,R67+T67)","v":40},"Y",26.15,0.43583333333333329,{"$f":"IF(V67=\"N\",IF(ISNUMBER(R67),(R67+T67)/Q67))","v":false}]
[null,"Frozen, 6\" whole grain rich, 100% mozzarella, 250-400 calories with no more than 7 g sat ","S.A Piazza (Wild Mike's) ",80550,null,"80/5.49z",80,null,{"$f":"ROUND(H67*G67/G68,2)","v":0},"Cs",null,{"$f":"IF(OR(ISBLANK(K68),K68=0,H67=0,ISBLANK(H67)),,ROUND(K68+$L$3,2))","v":0},{"$f":"ROUND(I68*L68,2)","v":0},{"$f":"ROUND(L68/G68,4)","v":0},80550,"80/5.49oz",60,null,10.08,{"$f":"ROUND($T$6*S68,2)","v":18.61},{"$f":"IF(ISBLANK(O68),,R68+T68)","v":18.61},"Y"]
[null,"fat and 700 mg sodium per serving.  CN Labeled for one portion to provide min. 2 M/MA, ","Schwan's ",78368,null,"60/4.98z",60,null,{"$f":"ROUND(H67*G67/G69,2)","v":0},"Cs",37.630000000000003,{"$f":"IF(OR(ISBLANK(K69),K69=0,H67=0,ISBLANK(H67)),,ROUND(K69+$L$3,2))","v":0},{"$f":"ROUND(I69*L69,2)","v":0},{"$f":"ROUND(L69/G69,4)","v":0},78368,"80/5.49 oz",80,null,5.92,{"$f":"ROUND($T$6*S69,2)","v":10.93},{"$f":"IF(ISBLANK(O69),,R69+T69)","v":10.93},"Y"]
[null,"2 OEG, and 1/8 c  Red//Orange Vegetable",null,null,null,null,null,null,null,null,null," "," ",null,null,null,null,null,"  "," ",null,null," "," "," "]
[null,"Possible Allergens:  Wheat, Milk, Soy"," ",null,null,null," ",null," "," ",null," "," "," ",null,null,null,null," "," ",null,null," "," "," "," "]
[10014,"Pizza, Cheese, Turkey Pepperoni, 5-6\" Round","Schwan's ",78369,null,"60/4.98z",60,50,{"$f":"ROUND(H72*G72/G72,2)","v":50},"Cs",38.6,{"$f":"IF(OR(ISBLANK(K72),K72=0,H72=0,ISBLANK(H72)),,ROUND(K72+$L$3,2))","v":38.6},{"$f":"ROUND(I72*L72,2)","v":1930},{"$f":"ROUND(L72/G72,4)","v":0.64329999999999998},"78369","60/4.98 oz",60,null,4.8,{"$f":"ROUND($T$6*S72,2)","v":8.86},{"$f":"IF(ISBLANK(O72),,R72+T72)","v":8.86},"Y"]
[null,"Frozen, Whole Grain 100% mozzarella 250-400 calories with no more than 7 g sat fat ","Nardone's ","625WRMTP3",null,"60/5.40z",60,null,{"$f":"ROUND(H72*G72/G73,2)","v":50},"Cs",null,{"$f":"IF(OR(ISBLANK(K73),H72=0,ISBLANK(H72)),,ROUND(K73+$L$3,2))","v":0},{"$f":"ROUND(I73*L73,2)","v":0},{"$f":"ROUND(L73/G73,4)","v":0},"625WRMTP3","60/5.43 oz",60,28.92,6,{"$f":"ROUND($T$6*S73,2)","v":11.08},{"$f":"IF(ISBLANK(O73),,R73+T73)","v":40},"Y",28.92,0.48200000000000004,{"$f":"IF(V73=\"N\",IF(ISNUMBER(R73),(R73+T73)/Q73))","v":false}]
[null,"and 700 mg sodium per serving. CN Labeled for one portion to provide min. 2 M/MA, "]
[null,"2 OEG, and 1/8 c  Red//Orange Vegetable"]
[null,"Possible Allergens:  Wheat, Milk, Soy"," ",null,null," "," ",null," "," ",null," "," "," ",null,null,null,null," "," ",null,null," "," "," "]
[10015,"Pizza, Cheese, Pepperoni, 5-6\" Round","Alpha Foods ","AS64W",null,"60/5.36z",60,null,{"$f":"ROUND(H77*G77/G77,2)","v":0},"Cs",56.09,{"$f":"IF(OR(ISBLANK(K77),K77=0,H77=0,ISBLANK(H77)),,ROUND(K77+$L$3,2))","v":0},{"$f":"ROUND(I77*L77,2)","v":0},{"$f":"ROUND(L77/G77,4)","v":0},"AS64W","60/5.36 oz.",60,43.2,6.98,{"$f":"ROUND($T$6*S77,2)","v":12.89},{"$f":"IF(ISBLANK(O77),,R77+T77)","v":56.09},"Y",43.2,0.72000000000000008,{"$f":"IF(V77=\"N\",IF(ISNUMBER(R77),(R77+T77)/Q77))","v":false}]
[null,"Frozen, Whole Grain 100% mozzarella "," ",null,null," "," ",null," "," ",null," "," "," ",null,null,null,null," "," ",null,null," "," "," "]
[null,"One portion must provide 2 M/MA. 2 EOG, and 1/8 cup Red/Orange Vegetable"," ",null,null," "," ",null," "," ",null," "," "," ",null,null,null,null," "," ",null,null,null," "," "]
[null,"Possible Allergens:  Wheat, Milk, Soy"]
[10016,"Pizza, Cheese, Supreme, 5-6\" Round","Nardone's ","625WSUP2",null,"60/6.35z",60,50,{"$f":"ROUND(H81*G81/G81,2)","v":50},"Cs",47,{"$f":"IF(OR(ISBLANK(K81),K81=0,H81=0,ISBLANK(H81)),,ROUND(K81+$L$3,2))","v":47},{"$f":"ROUND(I81*L81,2)","v":2350},{"$f":"ROUND(L81/G81,4)","v":0.7833},"625WSUP2","60/6.35 oz",60,38.340000000000003,4.6900000000000004,{"$f":"ROUND($T$6*S81,2)","v":8.66},{"$f":"IF(ISBLANK(O81),,R81+T81)","v":47},"Y",38.340000000000003,0.63900000000000001,{"$f":"IF(V81=\"N\",IF(ISNUMBER(R81),(R81+T81)/Q81))","v":false}]
[null,"Frozen, 5-6\" WGR, 100% mozzarella, 250-400 calories with no more than 7 g sat fat and "," ",null,null," "," ",null," "," ",null," "," "," ",null,null,null,null," ","  ",null,null,null," "," "]
[null,"700 mg sodium per serving. CN Labeled for one portion to provide min. 2 M/MA, 2 OEG "]
[null,"and 1/8 cup red/orange vegetable"]
[null,"  "," ",null,null," "," ",null," "," ",null," "," ","  ",null,null,null,null," "," ",null,null,null," "," "]
[null,"Possible Allergens:  Wheat, Milk, Soy"]
[10017,"Pizza, Whole, 15-16\", Self Rising, Pepperoni","UNO ","MVPPCN16",null,"96/5.50z",96,null,{"$f":"ROUND(H87*G87/G87,2)","v":0},"Cs",null,{"$f":"IF(OR(ISBLANK(K87),K87=0,H87=0,ISBLANK(H87)),,ROUND(K87+$L$3,2))","v":0},{"$f":"ROUND(I87*L87,2)","v":0},{"$f":"ROUND(L87/G87,4)","v":0},"MVPPCN16","96/5.50 oz.",96,null,10.5,{"$f":"ROUND($T$6*S87,2)","v":19.39},{"$f":"IF(ISBLANK(O87),,R87+T87)","v":19.39},"Y"]
[null,"Frozen, \"Pizza Pie Shape\" cut into slices or cutter provided, 100% mozzarella, Whole grain","Alpha Foods ","SP164RW",null,"72/6.38z",72,null,{"$f":"ROUND(H87*G87/G88,2)","v":0},"Cs",56.62,{"$f":"IF(OR(ISBLANK(K88),K88=0,H87=0,ISBLANK(H87)),,ROUND(K88+$L$3,2))","v":0},{"$f":"ROUND(I88*L88,2)","v":0},{"$f":"ROUND(L88/G88,4)","v":0},"SP164RW","72/6.38 oz.",72,42.07,7.88,{"$f":"ROUND($T$6*S88,2)","v":14.55},{"$f":"IF(ISBLANK(O88),,R88+T88)","v":56.620000000000005},"Y",42.069999999999993,0.58430555555555541,{"$f":"IF(V88=\"N\",IF(ISNUMBER(R88),(R88+T88)/Q88))","v":false}]
[null,"One portion must provide 2 M/MA. 2 EOG, and 1/8 cup Red/Orange Vegetable","Nardone's ","16WRSRMP1",null,"64/6.9z",64,null,{"$f":"ROUND(H87*G87/G89,2)","v":0},"Cs",null,{"$f":"IF(OR(ISBLANK(K89),K89=0,H87=0,ISBLANK(H87)),,ROUND(K89+$L$3,2))","v":0},{"$f":"ROUND(I89*L89,2)","v":0},{"$f":"ROUND(L89/G89,4)","v":0},"16WRSPMP1","64/6.90 oz",64,null,5.92,{"$f":"ROUND($T$6*S89,2)","v":10.93},{"$f":"IF(ISBLANK(O89),,R89+T89)","v":10.93},"Y"]
[null,"Possible Allergens:  Wheat, Milk, Soy"]
[10018,"Pizza, Whole, 15-16\", Self Rising, Turkey/Beef Pepperoni","UNO ","SLMVPPCN16",null,"96/5.50z",96,null,{"$f":"ROUND($H$91*$G$91/G91,2)","v":0},"Cs",null,{"$f":"IF(OR(ISBLANK(K91),K91=0,H91=0,ISBLANK(H91)),,ROUND(K91+$L$3,2))","v":0},{"$f":"ROUND(I91*L91,2)","v":0},{"$f":"ROUND(L91/G91,4)","v":0},"SLMVPPCN16","96/4.925 oz",96,0,10.5,{"$f":"ROUND($T$6*S91,2)","v":19.39},{"$f":"IF(ISBLANK(O91),,R91+T91)","v":19.39},"Y",65.12,0.67833333333333334,{"$f":"IF(V91=\"N\",IF(ISNUMBER(R91),(R91+T91)/Q91))","v":false}]
[null,"Frozen, \"Pizza Pie Shape\" cut into slices or cutter provided, 100% mozzarella, Whole grain","Nardone's ","16WRSRMTP2",null,"64/6.90z",64,null,{"$f":"ROUND($H$91*$G$91/G92,2)","v":0},"Cs",56,{"$f":"IF(OR(ISBLANK(K92),K92=0,H91=0,ISBLANK(H91)),,ROUND(K92+$L$3,2))","v":0},{"$f":"ROUND(I92*L92,2)","v":0},{"$f":"ROUND(L92/G92,4)","v":0},"16WRSRMTP2","64/6.90oz",64,null,6.08,{"$f":"ROUND($T$6*S92,2)","v":11.23},{"$f":"IF(ISBLANK(O92),,R92+T92)","v":11.23},"Y"]
[null,"One portion must provide 2 M/MA. 2 EOG, and 1/8 cup Red/Orange Vegetable"," ",null,null," "," ",null," "," ",null," "," "," ",null,null,null,null," "," ",null,null,null," "," "]
[null,"Possible Allergens:  Wheat, Milk, Soy"]
[10019,"Pizza, Whole, 15-16\", Self Rising, Buffalo Chicken","Schwann's ",78639,null,"72/5.21z",72,null,{"$f":"ROUND($H$95*$G$95/G95,2)","v":0},"Cs",null,{"$f":"IF(OR(ISBLANK(K95),K95=0,H95=0,ISBLANK(H95)),,ROUND(K95+$L$3,2))","v":0},{"$f":"ROUND(I95*L95,2)","v":0},{"$f":"ROUND(L95/G95,4)","v":0},78639,"72/5.21 oz.",72,0,7.59,{"$f":"ROUND($T$6*S95,2)","v":14.02},{"$f":"IF(ISBLANK(O95),,R95+T95)","v":14.02},"Y",49.83,0.69208333333333327,{"$f":"IF(V95=\"N\",IF(ISNUMBER(R95),(R95+T95)/Q95))","v":false}]
[null,"Frozen, \"Pizza Pie Shape\" Chicken Buffalo cut into slices or cutter provided, 100% mozz.,","Nardones","16WSRBC",null,"64/7.43 oz",64,null,{"$f":"ROUND($H$95*$G$95/G96,2)","v":0},"Cs",56,{"$f":"IF(OR(ISBLANK(K96),K96=0,H95=0,ISBLANK(H95)),,ROUND(K96+$L$3,2))","v":0},{"$f":"ROUND(I96*L96,2)","v":0},{"$f":"ROUND(L96/G96,4)","v":0},"16WSRBC","64/7.43 oz",64,null,5.75,{"$f":"ROUND($T$6*S96,2)","v":10.62},{"$f":"IF(ISBLANK(O96),,R96+T96)","v":10.62},"Y"]
[null,"WG, One portion must provide 2 M/MA. 2 EOG, and 1/8 cup Red/Orange Vegetable"," ",null,null," "," ",null," "," ",null," "," "," ",null,null,null,null," "," ",null,null,null," "," "]
[null,"Possible Allergens:  Wheat, Milk, Soy"]
[10020,"Pizza, Whole, 15-16\", Self Rising, Supreme","Alpha Foods ","SP1668RW",null,"72/7.19z",72,null,{"$f":"ROUND($H$99*$G$99/G99,2)","v":0},"Cs",62.29,{"$f":"IF(OR(ISBLANK(K99),K99=0,H99=0,ISBLANK(H99)),,ROUND(K99+$L$3,2))","v":0},{"$f":"ROUND(I99*L99,2)","v":0},{"$f":"ROUND(L99/G99,4)","v":0},"SP1668RW","72/7.19 oz",72,45.67,9,{"$f":"ROUND($T$6*S99,2)","v":16.62},{"$f":"IF(ISBLANK(O99),,R99+T99)","v":62.290000000000006},"Y",45.67,0.63430555555555557,{"$f":"IF(V99=\"N\",IF(ISNUMBER(R99),(R99+T99)/Q99))","v":false}]
[null,"Frozen, \"Pizza Pie Shape\" cut into slices or cutter provided, 100% mozzarella, Whole grain","Nardone's ","16WSRSUP",null,"64/7.43z",64,null,{"$f":"ROUND($H$99*$G$99/G100,2)","v":0},"Cs",null,{"$f":"IF(OR(ISBLANK(K100),K100=0,H99=0,ISBLANK(H99)),,ROUND(K100+$L$3,2))","v":0},{"$f":"ROUND(I100*L100,2)","v":0},{"$f":"ROUND(L100/G100,4)","v":0},"16WSRSUP","64/7.43 oz",64,null,5.75,{"$f":"ROUND($T$6*S100,2)","v":10.62},{"$f":"IF(ISBLANK(O100),,R100+T100)","v":10.62},"Y"]
[null,"One portion must provide 2 M/MA. 2 EOG, and 1/8 cup Red/Orange Vegetable"," ",null,null," "," ",null," "," ",null," "," "," ",null,null,null,null," "," ",null,null,null," "," "]
[null,"Possible Allergens:  Wheat, Milk, Soy",null,null,null,null,null,null,null,null,null,null,null,null,null,null,null,null,null,null,null,null,null,null," "]
[10021,"Pizza, Whole, 15-16\" Self Rising, Four Cheese","Alpha Foods ","SP1622RW",null,"72/6.56z",72,null,{"$f":"ROUND($H$103*$G$103/G103,2)","v":0},"Cs",54.46,{"$f":"IF(OR(ISBLANK(K103),K103=0,H103=0,ISBLANK(H103)),,ROUND(K103+$L$3,2))","v":0},{"$f":"ROUND(I103*L103,2)","v":0},{"$f":"ROUND(L103/G103,4)","v":0},"SP1622RW","72/6.56 oz",72,38.869999999999997,8.44,{"$f":"ROUND($T$6*S103,2)","v":15.59},{"$f":"IF(ISBLANK(O103),,R103+T103)","v":54.459999999999994},"Y",38.870000000000005,0.53986111111111112,{"$f":"IF(V103=\"N\",IF(ISNUMBER(R103),(R103+T103)/Q103))","v":false}]
[null,"Frozen, \"Pizza Pie Shaped\" cut into slices or cutter provided 100% mozzarella, whole grain","Nardone's ","16WSRFC2",null,"64/5.13z",64,null,{"$f":"ROUND($H$103*$G$103/G104,2)","v":0},"Cs",null,{"$f":"IF(OR(ISBLANK(K104),K104=0,H103=0,ISBLANK(H103)),,ROUND(K104+$L$3,2))","v":0},{"$f":"ROUND(I104*L104,2)","v":0},{"$f":"ROUND(L104/G104,4)","v":0},"16WSRFC","64/5.13 oz",64,null,8,{"$f":"ROUND($T$6*S104,2)","v":14.77},{"$f":"IF(ISBLANK(O104),,R104+T104)","v":14.77},"Y"]
[null,"One portion must provide 2 M/MA. 2 EOG, and 1/8 cup Red/Orange Vegetable","Schwann's ",78637,null,"72/5.18z",72,null,{"$f":"ROUND($H$103*$G$103/G105,2)","v":0},"Cs",null,{"$f":"IF(OR(ISBLANK(K105),K105=0,H103=0,ISBLANK(H103)),,ROUND(K105+$L$3,2))","v":0},0,{"$f":"ROUND(L105/G105,4)","v":0},78637,"72/5.18 oz.",72,0,9,{"$f":"ROUND($T$6*S105,2)","v":16.62},{"$f":"IF(ISBLANK(O105),,R105+T105)","v":16.62},"Y"]
[null,"Possible Allergens:  Wheat, Milk, Soy"]
[10022,"Pizza, Presliced, 15-16\", Parbaked, Turkey or Beef Pepperoni","Nardone's ","64WPSTP3",null,"64/5.0z",64,null,{"$f":"ROUND($H$107*$G$107/G107,2)","v":0},"Cs",53,{"$f":"IF(OR(ISBLANK(K107),K107=0,H107=0,ISBLANK(H107)),,ROUND(K107+$L$3,2))","v":0},{"$f":"ROUND(I107*L107,2)","v":0},{"$f":"ROUND(L107/G107,4)","v":0},"64WPSTP3","64/5.03 oz",64,40.44,6.8,{"$f":"ROUND($T$6*S107,2)","v":12.56},{"$f":"IF(ISBLANK(O107),,R107+T107)","v":53},"Y",40.44,0.63187499999999996,{"$f":"IF(V107=\"N\",IF(ISNUMBER(R107),(R107+T107)/Q107))","v":false}]
[null,"Frozen, \"Pizza Pie Shaped cut into slices, 100% mozzarella"," ",null,null," "," ",null," "," ",null," "," "," ",null,null,null,null," "," ",null,null,null," "," "]
[null,"One portion must provide 2 M/MA. 2 EOG, and 1/8 cup Red/Orange Vegetable"," ",null,null," "," ",null," "," ",null," "," "," ",null,null,null,null," "," ",null,null,null," "," "]
[null,"Possible Allergens:  Wheat, Milk, Soy",null,null,null,null,null,null,null,null,null,null,null,null,null,null,null,null,null,null,null,null,null,null," "]
[10023,"Pizza, Presliced, 15-16\", Parbaked, Buffalo Chicken","Nardone's ","64WPSBC",null,"64/4.60z",64,null,{"$f":"ROUND($H$111*$G$111/G111,2)","v":0},"Cs",56,{"$f":"IF(OR(ISBLANK(K111),K111=0,H111=0,ISBLANK(H111)),,ROUND(K111+$L$3,2))","v":0},{"$f":"ROUND(I111*L111,2)","v":0},{"$f":"ROUND(L111/G111,4)","v":0},"64WPSBC","64/4.60 oz",64,44.92,6,{"$f":"ROUND($T$6*S111,2)","v":11.08},{"$f":"IF(ISBLANK(O111),,R111+T111)","v":56},"Y",44.92,0.70187500000000003,{"$f":"IF(V111=\"N\",IF(ISNUMBER(R111),(R111+T111)/Q111))","v":false}]
[null,"Frozen, \"Pizza Pie Shaped cut into slices, 100% mozzarella"," ",null,null," "," ",null,null," ",null," "," "," ",null,null,null,null," "," ",null,null,null," "," "]
[null,"One portion must provide 2 M/MA. 2 EOG, and 1/8 cup Red/Orange Vegetable"," ",null,null," "," ",null," "," ",null," "," "," ",null,null,null,null," "," ",null,null,null," "," "]
[null,"Possible Allergens:  Wheat, Milk, Soy",null,null,null,null,null,null,null,null,null,null,null,null,null,null,null,null,null,null,null,null,null,null," "]
[10024,"Pizza, Whole, 15-16\", 100% Mozz. Turkey Pepperoni, Four Cheese, WG","(18-19) Schwann's",78638,null,"72/5.18z",72,null,{"$f":"ROUND($H$115*$G$115/G115,2)","v":0},"Cs",null,{"$f":"IF(OR(ISBLANK(K115),K115=0,H115=0,ISBLANK(H115)),,ROUND(K115+$L$3,2))","v":0},{"$f":"ROUND(I115*L115,2)","v":0},{"$f":"ROUND(L115/G115,4)","v":0},78638,"72/5.18 oz.",72,0,7.2,{"$f":"ROUND($T$6*S115,2)","v":13.3},{"$f":"IF(ISBLANK(O115),,R115+T115)","v":13.3},"Y",49.879999999999995,0.69277777777777771,{"$f":"IF(V115=\"N\",IF(ISNUMBER(R115),(R115+T115)/Q115))","v":false}]
[null,"Frozen, WGR, Made with mozzarella, provolone, cheddar and parmesan, Self Rising, ","Nardones","16WSRFCTP2",null,"64/5.13 oz",64,null,{"$f":"ROUND($H$115*$G$115/G116,2)","v":0},"Cs",56,{"$f":"IF(OR(ISBLANK(K116),K116=0,H115=0,ISBLANK(H115)),,ROUND(K116+$L$3,2))","v":0},{"$f":"ROUND(I116*L116,2)","v":0},{"$f":"ROUND(L116/G116,4)","v":0},"16WSRFCTP2","64/5.13 oz",64,null,5.43,{"$f":"ROUND($T$6*S116,2)","v":10.029999999999999},{"$f":"IF(ISBLANK(O116),,R116+T116)","v":10.029999999999999},"Y"]
[null,"300-400 calories with no more than 8 g sat fat and 500 mg sodium per serving.  CN "]
[null,"Labeled for one 1/8 pizza to provide min. 2 M/MA, 2 OEG, and 1/8 c Red/Orange Vegetable"]
[null," "," ",null,null," "," ",null," "," ",null," "," "," ",null,null,null,null," "," ",null,null,null," "," "]
[null,"Possible Allergens:  Wheat, Milk, Soy",null,null,null,null,null,null,null,null,null,null,null,null,null,null,null,null,null,null,null,null,null,null," "]
[10025,"Pizza, Whole, 15-16\", 100% Mozz, Four Meat, WG Self Rising","Schwann's",78640,null,"72/5.30z",72,null,{"$f":"ROUND($H$121*$G$121/G121,2)","v":0},"Cs",null,{"$f":"IF(OR(ISBLANK(K121),K121=0,H121=0,ISBLANK(H121)),,ROUND(K121+$L$3,2))","v":0},{"$f":"ROUND(I121*L121,2)","v":0},{"$f":"ROUND(L121/G121,4)","v":0},78640,"72/5.30z",72,null,6.46,{"$f":"ROUND($T$6*S121,2)","v":11.93},{"$f":"IF(ISBLANK(O121),,R121+T121)","v":11.93},"Y"]
[null,"Frozen, whole grain rich. 100% mozz, Topped with ham, sausage and pepperoni 300-400 ","Nardones","16WSRFCME3",null,"64/5.13 oz",64,null,{"$f":"ROUND($H$121*$G$121/G122,2)","v":0},"Cs",53,{"$f":"IF(OR(ISBLANK(K122),K122=0,H121=0,ISBLANK(H121)),,ROUND(K122+$L$3,2))","v":0},{"$f":"ROUND(I122*L122,2)","v":0},{"$f":"ROUND(L122/G122,4)","v":0},"16WSRFCME3","64/5.13 oz",64,42.71,5.57,{"$f":"ROUND($T$6*S122,2)","v":10.29},{"$f":"IF(ISBLANK(O122),,R122+T122)","v":53},"Y",44.01,0.68765624999999997,{"$f":"IF(V122=\"N\",IF(ISNUMBER(R122),(R122+T122)/Q122))","v":false}]
[null,"calories with no more than 8 g sat fat and 660 mg sodium per serving. CN labeled for one "]
[null,"1/8 pizza to provide min. 2 M/MA, 2 OEG, and 1/8 c Red/Orange Vegetable"]
[null,"Possible Allergens:  Wheat, Milk, Soy"]
[10026,"Pizza, Whole, 15-16\", 100% Mozz, Four Cheese, Pork Pepperoni, 10 Cut  Par Baked","SA Piazza (Wild  Mike's) ",20210,null,"90/5.50z",90,null,{"$f":"ROUND($H$126*$G$126/G126,2)","v":0},"Cs",72.09,{"$f":"IF(OR(ISBLANK(K126),K126=0,H126=0,ISBLANK(H126)),,ROUND(K126+$L$3,2))","v":0},{"$f":"ROUND(I126*L126,2)","v":0},{"$f":"ROUND(L126/G126,4)","v":0},20210,"90/5.50 oz",90,53.72,9.9499999999999993,{"$f":"ROUND($T$6*S126,2)","v":18.37},{"$f":"IF(ISBLANK(O126),,R126+T126)","v":72.09},"Y",53.72,0.59688888888888891,{"$f":"IF(V126=\"N\",IF(ISNUMBER(R126),(R126+T126)/Q126))","v":false}]
[null,"Frozen, whole grain rich. 100% mozz, 300-400 calories with not nore than 10g  sat fat"," ",null,null," "," ",null," "," ",null," "," "," ",null,null,null,null," "," ",null,null,null," "," "]
[null,"and 600 mg sodium per serving.  CN Labeled for one 1/8 pizza to provide min. 2 M/MA and"]
[null,"2 OEG"]
[null,"Possible Allergens:  Wheat, Milk",null,null,null,null,null,null,null,null,null,null,null,null,null,null,null,null,null,null,null,null,null,null," "]
[10027,"Pizza, Whole, 15-16\", 100% Mozz, Four Cheese, Parbaked WG","Schwann's ",68591,null,"72/5.13z",72,null,{"$f":"ROUND($H$131*$G$131/G131,0)","v":0},"Cs",null,{"$f":"IF(OR(ISBLANK(K131),K131=0,H131=0,ISBLANK(H131)),,ROUND(K131+$L$3,2))","v":0},{"$f":"ROUND(I131*L131,2)","v":0},{"$f":"ROUND(L131/G131,4)","v":0},68591,"72/5.13z",72,null,9,{"$f":"ROUND($T$6*S131,2)","v":16.62},{"$f":"IF(ISBLANK(O131),,R131+T131)","v":16.62},"Y"]
[null,"Frozen, whole grain rich. Made with mozzarella, provolone, cheddar and parmesian ","Nardone's ","16WFC",null,"64/5.13z",64,null,{"$f":"ROUND($H$131*$G$131/G132,0)","v":0},"Cs",53,{"$f":"IF(OR(ISBLANK(K132),K132=0,H131=0,ISBLANK(H131)),,ROUND(K132+$L$3,2))","v":0},{"$f":"ROUND(I132*L132,2)","v":0},{"$f":"ROUND(L132/G132,4)","v":0},"16WFC","64/5.13 oz",64,34.729999999999997,8,{"$f":"ROUND($T$6*S132,2)","v":14.77},{"$f":"IF(ISBLANK(O132),,R132+T132)","v":49.5},"Y",34.730000000000004,0.54265625000000006,{"$f":"IF(V132=\"N\",IF(ISNUMBER(R132),(R132+T132)/Q132))","v":false}]
[null,"300-400 calories with no more than 8 g sat fat and 500 mg sodium per serving.  CN "]
[null,"Labeled for one 1/8 pizza to provide min. 2 M/MA, 2 OEG, and 1/8 c Red/Orange Vegetable"]
[null," "," ",null,null," "," ",null," "," ",null," "," "," ",null,null,null,null," "," ",null,null,null," "," "]
[null,"Possible Allergens:  Wheat, Milk, Soy",null,null,null,null,null,null,null,null,null,null,null,null,null,null,null,null,null,null,null,null,null,null," "]
[10028,"Pizza, Turkey Sausage and Textured Vegetable Protein Pizza","Schwann's ",68534,null,null,null,null,null,"Cs",null,{"$f":"IF(OR(ISBLANK(K137),K137=0,H137=0,ISBLANK(H137)),,ROUND(K137+$L$3,2))","v":0},{"$f":"ROUND(I137*L137,2)","v":0},{"$f":"ROUND(L137/G137,4)","v":{"$error":"#DIV/0!"}},78640,"72/5.30 oz",72,null,6.46,{"$f":"ROUND($T$6*S137,2)","v":11.93},{"$f":"IF(ISBLANK(O137),,R137+T137)","v":11.93},"Y",false,{"$error":"#DIV/0!"},{"$f":"IF(V137=\"N\",IF(ISNUMBER(R137),(R137+T137)/Q137))","v":false}]
[null,"Frozen, 300-400 calories with no more than 7 g sat fat and 550 mg sodium per serving.","Discontinued"]
[null,"CN Labeled for one 1/8 pizza to provide min. 2 M/MA, 2 OEG, and 1/8 c Red/Orange"]
[null,"Vegetable"]
[null," "," ",null,null," "," ",null," "," ",null," "," "," ",null,null,null,null," "," ",null,null,null," "," "]
[null,"Possible Allergens:  Wheat, Milk, Soy"]
[null,"Breakfast",null,null,null,null,null,null,null,null,null,null,null,null,null,null,null,null,null,null,null,null,null,null," "]
[10029,"Breakfast Bagel, Turkey Sausage","Nardone's ","M96WBTSG",null,"96/2.65z",96,null,{"$f":"ROUND($H$144*$G$144/G144,2)","v":0},"Cs",52,{"$f":"IF(OR(ISBLANK(K144),K144=0,H144=0,ISBLANK(H144)),,ROUND(K144+$L$3,2))","v":0},{"$f":"ROUND(I144*L144,2)","v":0},{"$f":"ROUND(L144/G144,4)","v":0},"M96WBTSG","96/2.65 oz",96,44.46,4.2,{"$f":"ROUND($T$7*S144,2)","v":7.54},{"$f":"IF(ISBLANK(O144),,R144+T144)","v":52},"Y",44.46,0.46312500000000001,{"$f":"IF(V144=\"N\",IF(ISNUMBER(R144),(R144+T144)/Q144))","v":false}]
[null,"Frozen, Cream style gravy topping"]
[null,"One serving must provide 1 M/MA and 1 EOG Whole grain"," ",null,null," "," ",null," "," ",null," "," "," ",null,null,null,null," "," ",null,null,null," "," "]
[null,"Possible Allergens:  Wheat, Milk, Soy",null,null,null,null,null,null,null,null,null,null,null,null,null,null,null,null,null,null,null,null,null,null," "]
[10030,"Breakfast Bagel, 100% Mozz. Turkey Sausage, WG, IW","Nardone's ","M96WBTS1",null,"96/3.10z",96,50,{"$f":"ROUND($H$148*$G$148/G148,2)","v":50},"Cs",52,{"$f":"IF(OR(ISBLANK(K148),K148=0,H148=0,ISBLANK(H148)),,ROUND(K148+$L$3,2))","v":52},{"$f":"ROUND(I148*L148,2)","v":2600},{"$f":"ROUND(L148/G148,4)","v":0.54169999999999996},"M96WBTS1","96/3.10 oz",96,44.24,4.2,{"$f":"ROUND($T$6*S148,2)","v":7.76},{"$f":"IF(ISBLANK(O148),,R148+T148)","v":52},"Y",44.24,0.46083333333333337,{"$f":"IF(V148=\"N\",IF(ISNUMBER(R148),(R148+T148)/Q148))","v":false}]
[null,"Frozen, whole grain rich, pizza sauce topping, 150-250 calories with no more than 3 g sat "]
[null,"fat per serving.  CN labeled for one serving to provide min. 1 M/MA, 1 OEG, and 1/8 c "]
[null,"Red/Orange Vegetable.  Individual Ovenable Wrap"," ",null,null," "," ",null," "," ",null," "," "," ",null,null,null,null," "," ",null,null,null," "," "]
[null,"Possible Allergens:  Wheat, Milk, Soy",null,null,null,null,null,null,null,null,null,null,null,null,null,null,null,null,null,null,null,null,null,null," "]
[10031,"Breakfast Pizza, 100% Mozz. Pork Sausage, WG","Nardone ","80WS100",null,"80/3.30z",80,20,{"$f":"ROUND($H$153*$G$153/G153,2)","v":20},"Cs",29,{"$f":"IF(OR(ISBLANK(K153),K153=0,H153=0,ISBLANK(H153)),,ROUND(K153+$L$3,2))","v":29},{"$f":"ROUND(I153*L153,2)","v":580},{"$f":"ROUND(L153/G153,4)","v":0.36249999999999999},"80WS100","80/3.30oz",80,22.07,3.75,{"$f":"ROUND($T$6*S153,2)","v":6.93},{"$f":"IF(ISBLANK(O153),,R153+T153)","v":29},"Y",22.07,0.27587499999999998,{"$f":"IF(V153=\"N\",IF(ISNUMBER(R153),(R153+T153)/Q153))","v":false}]
[null,"Frozen, WGR, 3\" x 5\" biscuit style crust with pizza sauce.  150-250 calories with no more "," ",null,null," "," ",null," "," ",null," "," "," ",null,null,null,null," "," ",null,null,null," "," "]
[null,"than 4 g sat fat and 350 mg sodium per serving. CN Labeled for one portion to provide "]
[null,"min. 1 M/MA, 1.5 OEG, and 1/8 c Red/Orange Vegetable"]
[null," "," ",null,null," "," ",null," "," ",null," "," "," ",null,null,null,null," "," ",null,null,null," "," "]
[null,"Possible Allergens:  Wheat, Milk",null,null,null,null,null,null,null,null,null,null,null,null,null,null,null,null,null,null,null,null,null,null," "]
[10032,"Breakfast Pizza, Egg and Turkey Sausage, WG, IW","Conagra Max ","77387-12468",null,"96/3.21z",96,null,{"$f":"ROUND($H$159*$G$159/G159,2)","v":0},"Cs",49,{"$f":"IF(OR(ISBLANK(K159),K159=0,H159=0,ISBLANK(H159)),,ROUND(K159+$L$3,2))","v":0},{"$f":"ROUND(I159*L159,2)","v":0},{"$f":"ROUND(L159/G159,4)","v":0},"77387-12468","96/3.21 z",96,47.32,0.91,{"$f":"ROUND($T$6*S159,2)","v":1.68},{"$f":"IF(ISBLANK(O159),,R159+T159)","v":49},"Y",47.32,0.49291666666666667,{"$f":"IF(V159=\"N\",IF(ISNUMBER(R159),(R159+T159)/Q159))","v":false}]
[null,"Frozen, whole grain rich, turkey sausage, 150-250 calories with no more than 2 g sat fat "]
[null,"and 350 mg sodium per serving.  CN Labeled for one serving to provide 1 M/MA and 1.5 OEG"]
[null," "," ",null," "," "," ",null," ","  ",null," "," "," ",null,null,null,null," "," ",null,null," "," "," "]
[null,"Possible Allergens:  Wheat, Soy, Milk and Eggs",null,null,null,null,null,null,null,null,null,null,null,null,null,null,null,null,null,null,null,null,null,null," "]
[10033,"Breakfast Pizza, 100% Mozz. Beef, Red Sauce, WG IW","SA Piazza (Wild Mike's) ",90502,null,"160/2.80z",160,null,{"$f":"ROUND($H$164*$G$164/G164,2)","v":0},"Cs",86.84,{"$f":"IF(OR(ISBLANK(K164),K164=0,H164=0,ISBLANK(H164)),,ROUND(K164+$L$3,2))","v":0},{"$f":"ROUND(I164*L164,2)","v":0},{"$f":"ROUND(L164/G164,4)","v":0},90502,"160/2.80 z",160,73.36,7.19,{"$f":"ROUND($T$6*S164,2)","v":13.28},{"$f":"IF(ISBLANK(O164),,R164+T164)","v":86.64},"Y",73.56,0.45974999999999999,{"$f":"IF(V164=\"N\",IF(ISNUMBER(R164),(R164+T164)/Q164))","v":false}]
[null,"Frozen, whole grain rich, beef topping, 150-250 calories with no more than 4 g sat fat "]
[null,"and 300 mg sodium per serving. One serving to provide 1 M/MA, 1 OEG and 1/8 c "]
[null,"Red/Orange Vegetable.  "," ",null," "," "," ",null," ","  ",null," "," "," ",null,null,null,null," "," ",null,null," "," "," "]
[null,"Possible Allergens:  Milk Soy and Wheat",null,null,null,null,null,null,null,null,null,null,null,null,null,null,null,null,null,null,null,null,null,null," "]
[10034,"Breakfast Pizza, Flatbread, Eggs, Sausage, Bacon, and Cheese Sauce","Nardone's ","80WBF",null,"80/2.40z",80,null,{"$f":"ROUND($H$169*$G$169/G169,2)","v":0},"Cs",32,{"$f":"IF(OR(ISBLANK(K169),K169=0,H169=0,ISBLANK(H169)),,ROUND(K169+$L$3,2))","v":0},{"$f":"ROUND(I169*L169,2)","v":0},{"$f":"ROUND(L169/G169,4)","v":0},"80WBF","80/2.40 z",80,32,2.5,{"$f":"ROUND($T$6*S169,2)","v":4.62},{"$f":"IF(ISBLANK(O169),,R169+T169)","v":36.619999999999997},"Y",27.38,0.34225,{"$f":"IF(V169=\"N\",IF(ISNUMBER(R169),(R169+T169)/Q169))","v":false}]
[null,"Frozen, WGR, 100-200 calories with no more than 4 g sat fat and 500 mg sodium per "]
[null,"serving.  One serving to provide 1 M/MA and 1 OEG, 3 x 5"," ",null,null," "," ",null," "," ",null," "," "," ",null,null,null,null," "," ",null,null,null," "," "]
[null,"Possible Allergens:  Wheat, Milk, Wheat",null,null,null,null,null,null,null,null,null,null,null,null,null,null,null,null,null,null,null,null,null,null," "]
[10035,"Calzone, Cheese, Sicilian Style IW WG","Tasty Brands",null,null,"96/5.0z",96,null,{"$f":"ROUND($H$173*$G$173/G173,2)","v":0},"Cs",79.010000000000005,{"$f":"IF(OR(ISBLANK(K173),K173=0,H173=0,ISBLANK(H173)),,ROUND(K173+$L$3,2))","v":0},{"$f":"ROUND(I173*L173,2)","v":0},{"$f":"ROUND(L173/G173,4)","v":0},null,null,null,null,null,null,{"$f":"IF(ISBLANK(O173),,R173+T173)","v":0},null,null,0,{"$f":"IF(V173=\"N\",IF(ISNUMBER(R173),(R173+T173)/Q173))","v":false}]
[null,"Frz. Fully cooked and individually wrapped. Provides 2 M/MA and 2 OEG ","    PizzaBoli",53206,null,null,null,null,null,null,null,null,null,null,53206,"96/5.00",96,57.46,12,{"$f":"ROUND($T$7*S174,2)","v":21.55},{"$f":"IF(ISBLANK(O174),,R174+T174)","v":79.010000000000005},"Y",57.460000000000008,0.59854166666666675,{"$f":"IF(V174=\"N\",IF(ISNUMBER(R174),(R174+T174)/Q174))","v":false}]
[null,null,"    FiestaBoli",53207,null,null,null,null,null,null,null,null,null,null,53207,"96.4.90",96,57.46,12,{"$f":"ROUND($T$7*S175,2)","v":21.55},{"$f":"IF(ISBLANK(O175),,R175+T175)","v":79.010000000000005},"Y",57.460000000000008,0.59854166666666675,{"$f":"IF(V175=\"N\",IF(ISNUMBER(R175),(R175+T175)/Q175))","v":false}]
[]
[]
[]
[]
[]
[]
[]
[null,null,null,null,null,null,null,0,null,"Page Total",null,null,{"$f":"SUMIF(M8:M182,\">0\")","v":7460}]

{"sheet":"Frozen Entrees","index":8,"n_rows":89,"n_cols":25,"rows_kept":89,"cut":false,"hidden":false,"merged":[[0,5,0,13],[0,18,0,24],[1,5,1,13],[2,6,2,10],[2,15,4,15],[2,16,4,16]]}
[null,{"$f":"'Recap Sheet'!A2","v":"School Food Authority or Agency Name:"},null,null,null,{"$f":"'Recap Sheet'!A3","v":"Bidder's Name:"}]
["12001-",{"$f":"'Recap Sheet'!B2","v":"Marion County School District"},"Return to Recap Sheet",null,null,{"$f":"'Recap Sheet'!B3","v":0}]
[14000,"Description","Approved",null,null,null,"Firm Fixed Fee",null,null,null,null,{"$f":"'Recap Sheet'!B4","v":0},null,null,"Manufacturer","Vendor Pack","Servings per case","Processing","Pounds of","Commodity","Total Cost","NOI ?","NOI ","Net NOI","Fee for Serivce"]
["SCPA",null,"Brand Name","Manufacturers","Distributor","Vendor","Svgs","Est.","Bid ","Bid","Unit","Unit Price","Total ","Cost per","USDA Product",null,null,"Fee For","DF Needed","Value  Per","Proc Fee + ","Enter","Net ","Cost Per","Cost Per Serv."]
[" Code",null,"or Manufacturer","Code","Code","Pack","per unit","Bid Qty","Qty","Unit","Price","plus Fee","Price","Unit","Code",null,null,"Service","Per Case","Case","Comm Value","Y or N","Price","Serving","Fee+ Commodity"]
[null,"Frozen Entrees",null,null,null,null,null,null,null,null,null,null,null,null,"Cheese Mozzarella",null,110244,"Value / lb",1.8467,null,"Cheese, Blended American",null,null,100036,1.7956000000000001]
[null,null,null,null,null,null,null,null,null,null,null,null,null,null,"Cheese Cheddar",null,110242,"Value / lb",1.7956000000000001,null,"Peanuts Raw Shelled",null,null,110700,0.65]
[12001,"Calzone, 100% Mozz. w/Pizza Sauce and Pepperoni, WG","Albie's",813,null,"48/4.50z",48,null,{"$f":"ROUND(H8*G8/G8,2)","v":0},"Cs",36.96,{"$f":"IF(OR(ISBLANK(K8),K8=0,H8=0,ISBLANK(H8)),,ROUND(K8+$L$3,2))","v":0},{"$f":"ROUND(I8*L8,2)","v":0},{"$f":"ROUND(L8/G8,4)","v":0},813,"48/4.50 z",48,32.49,2.42,{"$f":"ROUND($S$6*S8,2)","v":4.47},{"$f":"IF(ISBLANK(O8),,R8+T8)","v":36.96},"Y",{"$f":"IF(ISNUMBER(K8),IF(V8=\"Y\",(K8-T8)))","v":32.49},{"$f":"W8/G8","v":0.676875},{"$f":"IF(V8=\"N\",IF(ISNUMBER(R8),(R8+T8)/Q8))","v":false}]
[null,"Frozen, 250-350 calories with no more than 6 g sat fat and 500 mg sodium per serving.  "," ",null,null," ",null,null,null,null,null,{"$f":"IF(OR(ISBLANK(K9),K9=0,H9=0,ISBLANK(H9)),,ROUND(K9+$L$3,2))","v":0}]
[null,"One portion to provide a min. 2 M/MA and 2 OEG"," ",null,null," "]
[null,"Possible Allergens:  Wheat, Soy, Milk"]
[12002,"Calzone, 3 Cheese w/Pizza Sauce, WG","Gilardi","16272-20120",null,"60/4.69z",60,null,{"$f":"ROUND($H$12*$G$12/G12,2)","v":0},"Cs",46.8,{"$f":"IF(OR(ISBLANK(K12),K12=0,H12=0,ISBLANK(H12)),,ROUND(K12+$L$3,2))","v":0},{"$f":"ROUND(I12*L12,2)","v":0},{"$f":"ROUND(L12/G12,4)","v":0},"16272-20120","60/4.69 oz.",60,35.590000000000003,6.07,{"$f":"ROUND($S$7*S12,2)","v":10.9},{"$f":"IF(ISBLANK(O12),,R12+T12)","v":46.49},"Y",{"$f":"IF(ISNUMBER(K12),IF(V12=\"Y\",(K12-T12)))","v":35.9},{"$f":"W12/G12","v":0.59833333333333327},{"$f":"IF(V12=\"N\",IF(ISNUMBER(R12),(R12+T12)/Q12))","v":false}]
[null,"Frozen, 200-300 calories with no more than 3 g sat fat and 500 mg sodium per serving."]
[null,"One portion to provide a min. 2 M/MA and 2 OEG 1/8 cup red/orange vegetable"]
[null,"Possible Allergens:  Wheat, Soy, Milk"]
[12003,"Cheese Sticks, Mozzarella Filled Twisted Topped","Tasty Brands ",62002,null,"90/3.10z",90,null,{"$f":"ROUND(H16*G16/G16,2)","v":0},"Cs",42.71,{"$f":"IF(OR(ISBLANK(K16),K16=0,H16=0,ISBLANK(H16)),,ROUND(K16+$L$3,2))","v":0},{"$f":"ROUND(I16*L16,2)","v":0},{"$f":"ROUND(L16/G16,4)","v":0},62002,"90/3.10 oz",90,32.61,5.625,{"$f":"ROUND($S$7*S16,2)","v":10.1},{"$f":"IF(ISBLANK(O16),,R16+T16)","v":42.71},"Y",{"$f":"IF(ISNUMBER(K16),IF(V16=\"Y\",(K16-T16)))","v":32.61},{"$f":"W16/G16","v":0.36233333333333334},{"$f":"IF(V16=\"N\",IF(ISNUMBER(R16),(R16+T16)/Q16))","v":false}]
[null,"Frozen, low moisture, 200-300 calories with no more  than 8 g sat fat and 400 mg of sodium "," "]
[null,"per serving, 0 trans fats, One serving to provide 1 M/MA and 2 OEG"]
[null," "]
[null,"Possible Allergens: Wheat, Milk, Soy"]
[12004,"Cheese Sticks, Breaded Mozzarella, Italian Style WG","High Liner Foods ","G1042DF",null,"83/4.20z",83,null,{"$f":"ROUND(H21*G21/G21,2)","v":0},"Cs",42.38,{"$f":"IF(OR(ISBLANK(K21),K21=0,H21=0,ISBLANK(H21)),,ROUND(K21+$L$3,2))","v":0},{"$f":"ROUND(I21*L21,2)","v":0},{"$f":"ROUND(L21/G21,4)","v":0},"G1042DF","83/4.20 oz.",83,23.08,10.45,{"$f":"ROUND($S$6*S21,2)","v":19.3},{"$f":"IF(ISBLANK(O21),,R21+T21)","v":42.379999999999995},"Y",{"$f":"IF(ISNUMBER(K21),IF(V21=\"Y\",(K21-T21)))","v":23.080000000000002},{"$f":"W21/G21","v":0.27807228915662652},{"$f":"IF(V21=\"N\",IF(ISNUMBER(R21),(R21+T21)/Q21))","v":false}]
[null,"Frozen, low moisture part skim mozzarella cheese stick with WGR breading, may be "]
[null,"prepared in oven or fryer, 200-300 cal with no more than 8 g sat fat and 400 mg sodium  "]
[null,"per serving. 0 Trans Fats, CN Labeled for 5 stick portion to provide 2 M/MA and 1.5 OEG"]
[null,"Possible Allergens: Wheat, Milk"]
[12005,"Egg Roll, Chicken, WG","Minh ",69461,null,"60/3.oz",60,null,{"$f":"ROUND(H26*G26/G26,2)","v":0},"Cs",31.23,{"$f":"IF(OR(ISBLANK(K26),K26=0,H26=0,ISBLANK(H26)),,ROUND(K26+$L$3,2))","v":0},{"$f":"ROUND(I26*L26,2)","v":0},{"$f":"ROUND(L26/G26,4)","v":0}]
[null,"Frozen, chicken with vegetables in WG egg roll wrapper, 150-250 calories with no more "]
[null,"than 2 g sat fat and 450 mg sodium per serving.  CN Labeled for one portion to provide"]
[null,"min 1 M/MA, 1 OEG and 1/4 c vegetable"]
[null,"Possible Allergens: Milk, Wheat, Soy and Egg"]
[12006,"Enchilada, Beef, WG","Fernandos/Foster Farm ",5279,null,"112/2.5z",112,null,{"$f":"ROUND(H31*G31/G31,2)","v":0},"Cs",35,{"$f":"IF(OR(ISBLANK(K31),K31=0,H31=0,ISBLANK(H31)),,ROUND(K31+$L$3,2))","v":0},{"$f":"ROUND(I31*L31,2)","v":0},{"$f":"ROUND(L31/G31,4)","v":0}]
[null,"Frozen, 100-200 calories with no more than  3 g sat fat and 300 mg sodium per serving"]
[null,"CN Labeled for one portion to provide min 1 M/MA and 1 OEG"]
[null," "]
[null,"Possible Allergens: Soy"]
[12007,"Turkey Frank Wrapped in WW Flour, IW","Superbakery ",3397,null,"64/4z",64,null,{"$f":"ROUND(H36*G36/G36,2)","v":0},"Cs",43.2,{"$f":"IF(OR(ISBLANK(K36),K36=0,H36=0,ISBLANK(H36)),,ROUND(K36+$L$3,2))","v":0},{"$f":"ROUND(I36*L36,2)","v":0},{"$f":"ROUND(L36/G36,4)","v":0},null,null,null,null," "]
[null,"Frozen, Fully cooked, heat and serve, No nitrites or nitrates added, 200-300 calories and "]
[null,"not more than 4 g sat fat and 400 mg of sodium per serving.  Must meet 2 M/MA and 2 OEG"]
[null," "]
[null,"Possible Allergens: Wheat, Milk "]
[12008,"Macaroni and Cheese, Reduced Fat, WG","Land O Lakes ",43277,null,"6/5 lbs",80,null,{"$f":"ROUND(H41*G41/G41,2)","v":0},"Cs",54.84,{"$f":"IF(OR(ISBLANK(K41),K41=0,H41=0,ISBLANK(H41)),,ROUND(K41+$L$3,2))","v":0},{"$f":"ROUND(I41*L41,2)","v":0},{"$f":"ROUND(L41/G41,4)","v":0},43277,"6/5 lbs",80,43.62,6.25,{"$f":"ROUND($S$7*S41,2)","v":11.22},{"$f":"IF(ISBLANK(O41),,R41+T41)","v":54.839999999999996},"Y",{"$f":"IF(ISNUMBER(K41),IF(V41=\"Y\",(K41-T41)))","v":43.620000000000005},{"$f":"W41/G41","v":0.54525000000000001},{"$f":"IF(V41=\"N\",IF(ISNUMBER(R41),(R41+T41)/Q41))","v":false}]
[null,"Frozen, processed American cheese in boil or steam pouch, 250-350 calories with no  ",null,null,null,null,null,null,null,null,null,null,null,null,null,null,null,null,null,null,null,null,null,null," "]
[null,"more than 6 g sat fat and 1000 mg sodium per svg. One portion to provide 2 M/MA & 1 OEG ",null,null,null,null,null,null,null,null,null,null,null,null,null,null,null,null,null,null,null,null,null,null," "]
[null,"Possible Allergens: Milk, Wheat, Egg"]
[12009,"Ravioli, Mini Cheese, WG","Tasty Brands ","00834WG",null,"221/2.17z",221,null,{"$f":"ROUND(H45*G45/G45,2)","v":0},"Cs",72.17,{"$f":"IF(OR(ISBLANK(K45),K45=0,H45=0,ISBLANK(H45)),,ROUND(K45+$L$3,2))","v":0},{"$f":"ROUND(I45*L45,2)","v":0},{"$f":"ROUND(L45/G45,4)","v":0},"00834WG","221/2.17 oz",221,62.8,5.22,{"$f":"ROUND($S$7*S45,2)","v":9.3699999999999992},{"$f":"IF(ISBLANK(O45),,R45+T45)","v":72.17},"Y",{"$f":"IF(ISNUMBER(K45),IF(V45=\"Y\",(K45-T45)))","v":62.800000000000004},{"$f":"W45/G45","v":0.28416289592760186},{"$f":"IF(V45=\"N\",IF(ISNUMBER(R45),(R45+T45)/Q45))","v":false}]
[null,"Frozen, whole grain pasta,  filled with mozzarella and ricotta cheese, 100-200 calories with "]
[null,"no more than  2 g sat fat and 300 mg sodium per svg. One portion provides 1 M/MA &.5 OEG"]
[null,"Possible Allergens: Wheat, Milk, Egg"]
[12010,"Sandwich, Turkey, Ham and Cheese on Hawaiian Bun, WG","(18-19) Integrated ",130018,null,"100/3.10z",100,50,{"$f":"ROUND(H49*G49/G49,2)","v":50},"Cs",63.34,{"$f":"IF(OR(ISBLANK(K49),K49=0,H49=0,ISBLANK(H49)),,ROUND(K49+$L$3,2))","v":63.34},{"$f":"ROUND(I49*L49,2)","v":3167},{"$f":"ROUND(L49/G49,4)","v":0.63339999999999996},"C13018","100/3.10 oz.",100,58.85,2.5,{"$f":"ROUND($Y$6*S49,2)","v":4.49},{"$f":"IF(ISBLANK(O49),,R49+T49)","v":63.34},"Y",{"$f":"IF(ISNUMBER(K49),IF(V49=\"Y\",(K49-T49)))","v":58.85},{"$f":"W49/G49","v":0.58850000000000002},{"$f":"IF(V49=\"N\",IF(ISNUMBER(R49),(R49+T49)/Q49))","v":false}]
[null,"Frozen, 150-250 calories with no more than 2 g sat fat and 650 mg sodium per serving."," ",null,null,"  "," ",null," "," ",null," "," "," ",null,null,null,null," "," ",null,null," "," "," "]
[null,"One portion to provide min. 1 M/MA and 2 OEG"]
[null,"Possible Allergens:  Wheat, Soy"]
[12011,"Sandwich, Fiesta Egg and Cheese","Advanced Pierre ",10000097908,null,"100/2.35z",100,null,{"$f":"ROUND(H53*G53/G53,2)","v":0},"Cs",42.71,{"$f":"IF(OR(ISBLANK(K53),K53=0,H53=0,ISBLANK(H53)),,ROUND(K53+$L$3,2))","v":0},{"$f":"ROUND(I53*L53,2)","v":0},{"$f":"ROUND(L53/G53,4)","v":0}]
[null,"Frozen,. WGR, 100-200 calories with not more than 3 g sat fat and 300 mg sodium per"," ",null,null,"  "," ",null," "," ",null," "," "," ",null,null,null,null," "," ",null,null," "," "," "]
[null,"serving.  Provides .75 M/MA and 1.25 OEG"]
[null,"Possible Allergens:  Wheat, Soy, Milk, and Egg"]
[12012,"Tornados, Steak and Cheese, WG","Ruiz Foods ",86585,null,"144/2.79z",144,null,{"$f":"ROUND(H57*G57/G57,2)","v":0},"Cs",78.900000000000006,{"$f":"IF(OR(ISBLANK(K57),K57=0,H57=0,ISBLANK(H57)),,ROUND(K57+$L$3,2))","v":0},{"$f":"ROUND(I57*L57,2)","v":0},{"$f":"ROUND(L57/G57,4)","v":0}]
[null,"Frozen, thaw and serve, 100-200 calories with no more than 2 g sat fat and 400 mg sodium "," "]
[null,"per serving. One portion to provide min. .5 M/MA and 1.25 OEG"," "]
[null,"Possible Allergens:  Wheat, Soy, Milk "]
[null,null,null,null,null,null,null,null,null,null,null,null,null,null,"Peanuts Raw Shelled",null,110700]
[12013,"Peanut Butter & Grape Jelly, No HFCS, Crustless, WG, IW","Smuckers ",5150006960,null,"72/2.6z",72,null,{"$f":"ROUND(H62*G62/G62,2)","v":0},"Cs",35.33,{"$f":"IF(OR(ISBLANK(K62),K62=0,H62=0,ISBLANK(H62)),,ROUND(K62+$L$3,2))","v":0},{"$f":"ROUND(I62*L62,2)","v":0},{"$f":"ROUND(L62/G62,4)","v":0},5150006960,"72/2.6 oz.",72,32.43,4.46,{"$f":"ROUND($Y$7*S62,2)","v":2.9},{"$f":"IF(ISBLANK(O62),,R62+T62)","v":35.33},"Y",{"$f":"IF(ISNUMBER(K62),IF(V62=\"Y\",(K62-T62)))","v":32.43},{"$f":"W62/G62","v":0.45041666666666669},{"$f":"IF(V62=\"N\",IF(ISNUMBER(R62),(R62+T62)/Q62))","v":false}]
[null,"Frozen, smooth peanut butter and grape jelly, crustless, whole grain bread, crimped edges,  "]
[null,"250-350 calories with no more than 4 g sat fat and 350 mg sodium per serving. "]
[null,"One portion to provide min. 1 M/MA and 1 OEG, Individually wrapped"]
[null,"Possible Allergens:  Wheat, Peanuts"]
[12014,"Peanut Butter & Grape Jelly, No HFCS, Crustless, WG, IW","Smuckers ",5150021027,null,"72/5.30z",72,null,{"$f":"ROUND(H67*G67/G67,2)","v":0},"Cs",64.099999999999994,{"$f":"IF(OR(ISBLANK(K67),K67=0,H67=0,ISBLANK(H67)),,ROUND(K67+$L$3,2))","v":0},{"$f":"ROUND(I67*L67,2)","v":0},{"$f":"ROUND(L67/G67,4)","v":0},5150021027,"72/5.30 oz.",72,58.31,8.91,{"$f":"ROUND($Y$7*S67,2)","v":5.79},{"$f":"IF(ISBLANK(O67),,R67+T67)","v":64.100000000000009},"Y",{"$f":"IF(ISNUMBER(K67),IF(V67=\"Y\",(K67-T67)))","v":58.309999999999995},{"$f":"W67/G67","v":0.80986111111111103},{"$f":"IF(V67=\"N\",IF(ISNUMBER(R67),(R67+T67)/Q67))","v":false}]
[null,"Frozen, smooth peanut butter and grape jelly, crustless, whole grain bread, crimped edges, "]
[null,"550-650 calories with no more than 7 g sat fat and 650 mg sodium per serving. "]
[null,"One portion to provide min. 2 M/MA and 2 OEG, Individually wrapped"]
[null,"Possible Allergens:  Wheat, Peanuts"]
[12015,"Peanut Butter & Strawberry Jelly, No HFCS, Crustless, WG, IW","Smuckers ",5150006961,null,"72/2.60z",72,null,{"$f":"ROUND(H72*G72/G72,2)","v":0},"Cs",36.89,{"$f":"IF(OR(ISBLANK(K72),K72=0,H72=0,ISBLANK(H72)),,ROUND(K72+$L$3,2))","v":0},{"$f":"ROUND(I72*L72,2)","v":0},{"$f":"ROUND(L72/G72,4)","v":0},5150006961,"72/2.60 oz.",72,33.99,4.46,{"$f":"ROUND($Y$7*S72,2)","v":2.9},{"$f":"IF(ISBLANK(O72),,R72+T72)","v":36.89},"Y",{"$f":"IF(ISNUMBER(K72),IF(V72=\"Y\",(K72-T72)))","v":33.99},{"$f":"W72/G72","v":0.47208333333333335},{"$f":"IF(V72=\"N\",IF(ISNUMBER(R72),(R72+T72)/Q72))","v":false}]
[null,"Frozen, smooth peanut butter and strawberry jelly, crustless, whole grain bread, crimped "]
[null,"edges, with no more than 3 g sat fat and 350 mg sodium per serving.  One portion to provide"]
[null,"min. 1 M/MA and 1 OEG, Individually wrapped"]
[null,"Possible Allergens:  Wheat, Peanuts"]
[12016,"Peanut Butter Cups, Creamy, IW","Smucker-JIF ",5150092100,null,"120/1.0z",120,null,{"$f":"ROUND(H77*G77/G77,2)","v":0},"Cs",31.2,{"$f":"IF(OR(ISBLANK(K77),K77=0,H77=0,ISBLANK(H77)),,ROUND(K77+$L$3,2))","v":0},{"$f":"ROUND(I77*L77,2)","v":0},{"$f":"ROUND(L77/G77,4)","v":0},5150092100,"120/1.10 oz",120,26.39,7.4,{"$f":"ROUND($Y$7*S77,2)","v":4.8099999999999996},{"$f":"IF(ISBLANK(O77),,R77+T77)","v":31.2},"Y",{"$f":"IF(ISNUMBER(K77),IF(V77=\"Y\",(K77-T77)))","v":26.39},{"$f":"W77/G77","v":0.21991666666666668},{"$f":"IF(V77=\"N\",IF(ISNUMBER(R77),(R77+T77)/Q77))","v":false}]
[null,"Shelf stable, smooth peanut butter, 100-200 calories with no more than 3 g sat fat and "]
[null,"150 mg sodium per serving, One portion to provide min 1 M/MA Individually wrapped"," "]
[null," "]
[null,"Possible Allergens:  Peanuts"]
[12017,"Cheese Bread IW","Pillsbury",null,null,"73/3.88z",73,null,{"$f":"ROUND(H82*G82/G82,2)","v":0},"Cs",49.73,{"$f":"IF(OR(ISBLANK(K82),K82=0,H82=0,ISBLANK(H82)),,ROUND(K82+$L$3,2))","v":0},{"$f":"ROUND(I82*L82,2)","v":0},{"$f":"ROUND(L82/G82,4)","v":0}]
[null,"Cheese bread that is easily pulled apart. 100% real chese","Italian Cheese & Garlic",12317000]
[null,"Heat and Serve Provides 2 OEG and 2 M/MA","Southwest Queso",12316000]
[12018,"Spagheti with Meat Sauce WGR","JTM","5502CE",null,"30/8.0z",30,100,{"$f":"ROUND(H85*G85/G85,2)","v":100},"Cs",37.090000000000003,{"$f":"IF(OR(ISBLANK(K85),K85=0,H85=0,ISBLANK(H85)),,ROUND(K85+$L$3,2))","v":37.090000000000003},{"$f":"ROUND(I85*L85,2)","v":3709},{"$f":"ROUND(L85/G85,4)","v":1.2363},"CP5502","30/8.0z",30,31.25,5.67,{"$f":"ROUND($Y$7*S85,2)","v":3.69},{"$f":"IF(ISBLANK(O85),,R85+T85)","v":34.94},"N",{"$f":"IF(ISNUMBER(K85),IF(V85=\"Y\",(K85-T85)))","v":false},{"$f":"W85/G85","v":0},{"$f":"IF(V85=\"N\",IF(ISNUMBER(R85),(R85+T85)/Q85))","v":1.1646666666666665}]
[null,"Bowl pack, heat and serve. "]
[null,"Each bowl provides 2 M/MA and 1 OEG. CN Labeled"]
[null,"Possible Allergens: Egg, Wheat"]
[null,null,null,null,null,null,null,null,null,"Page Total",null,null,{"$f":"SUMIF(M6:M88,\">0\")","v":6876}]

{"sheet":"Dairy & Yogurt","index":9,"n_rows":95,"n_cols":25,"rows_kept":95,"cut":false,"hidden":false,"merged":[[2,16,4,16],[89,1,89,6],[0,5,0,13],[1,5,1,13],[2,6,2,10],[2,15,4,15]]}
[null,{"$f":"'Recap Sheet'!A2","v":"School Food Authority or Agency Name:"},null,null,null,{"$f":"'Recap Sheet'!A3","v":"Bidder's Name:"}]
[14001,{"$f":"'Recap Sheet'!B2","v":"Marion County School District"},"Return to Recap Sheet",null,null,{"$f":"'Recap Sheet'!B3","v":0},null,null,null,null,null,null,null,null,null,null,null,null,"Commodity"]
[16000,"Description","Approved",null,null,null,"Firm Fixed Fee",null,null,null,null,{"$f":"'Recap Sheet'!B4","v":0},null,null,"Manufacturer","Vendor Pack","Servings per case","Processing ","Pounds of",null,"Total Cost","NOI ?","NOI ","Net NOI","Fee for Serivce"]
["SCPA",null,"Brand Name","Manufacturers","Distributor","Vendor","Svgs","Est.","Bid ","Bid","Unit","Unit Price","Total ","Cost per","USDA Product",null,null,"Fee For","DF Needed","Commodity","Proc Fee + ","Enter","Net ","Cost Per","Cost Per Serv."]
[" Code",null,"or Manufacturer","Code","Code","Pack","per unit","Bid Qty","Qty","Unit","Price","plus Fee","Price","Unit","Code",null,null,"Service","Per Case","Value ","Comm Value","Y or N","Price","Serving","Fee+ Commodity"]
[null,"Dairy and Yogurt",null,null,null,null,null,null,null,null,null,null,null,null,"Cheese Amer Barrel",null,110242,"Commodity Value per lb",null,1.7956000000000001]
[]
[14001,"Cheese, American, Reduced Fat, Shredded","Land O Lakes ",41728,null,"4/5 lbs",640,150,{"$f":"ROUND($H$11*$G$11/G8,2)","v":0},"Cs",51.89,{"$f":"IF(OR(ISBLANK(K8),K8=0,H8=0,ISBLANK(H8)),,ROUND(K8+$L$3,2))","v":51.89},{"$f":"ROUND(I8*L8,2)","v":0},{"$f":"ROUND(L8/G8,4)","v":8.1100000000000005E-2},41728,"4/5 lbs",640,24.35,15.34,{"$f":"ROUND($T$6*S8,2)","v":27.54},{"$f":"IF(ISBLANK(O8),,R8+T8)","v":51.89},"Y",24.35,3.8046875000000001E-2,{"$f":"IF(V8=\"N\",IF(ISNUMBER(R8),(R8+T8)/Q8))","v":false}]
[null,"Refregerated, 1/2 oz. serving"," ",null,null," "," ",null," "," ",null," "," "," ",null,null,null,null," "," ",null,null," ",null," "]
[null,"Possible Allergens:  Milk"," ",null,null," "," ",null," "," ",null," "," "," ",null,null,null,null," "," ",null,null," ",null," "]
[14002,"Cheese, Cheddar Mild, Shredded","Land O Lakes ",41749,null,"4/5 lbs",640,null,{"$f":"ROUND($H$14*$G$14/G11,2)","v":0},"Cs",46.31,{"$f":"IF(OR(ISBLANK(K11),K11=0,H11=0,ISBLANK(H11)),,ROUND(K11+$L$3,2))","v":0},{"$f":"ROUND(I11*L11,2)","v":0},{"$f":"ROUND(L11/G11,4)","v":0},41749,"4/5 lbs",640,10.4,20,{"$f":"ROUND($T$6*S11,2)","v":35.909999999999997},{"$f":"IF(ISBLANK(O11),,R11+T11)","v":46.309999999999995},"Y",10.400000000000006,1.6250000000000007E-2,{"$f":"IF(V11=\"N\",IF(ISNUMBER(R11),(R11+T11)/Q11))","v":false}]
[null,"Refrigerated, 1/2 oz. serving"," ",null,null," "," ",null," "," ",null," "," "," ",null,null,null,null," "," ",null,null," ",null," "]
[null,"Possible Allergens:  Milk"," ",null,null," "," ",null," "," ",null," "," "," ",null,null,null,null," "," ",null,null," ",null," "]
[14003,"Cheese, Mozzarella, Shredded, 100% Mozzarella","Land O Lakes ",41698,null,"4/5 lbs",640,null,{"$f":"ROUND($H$14*$G$14/G14,2)","v":0},"Cs",45.31,{"$f":"IF(OR(ISBLANK(K14),K14=0,H14=0,ISBLANK(H14)),,ROUND(K14+$L$3,2))","v":0},{"$f":"ROUND(I14*L14,2)","v":0},{"$f":"ROUND(L14/G14,4)","v":0},41698,"4/5 lbs",640,9.4,20,{"$f":"ROUND($T$6*S14,2)","v":35.909999999999997},{"$f":"IF(ISBLANK(O14),,R14+T14)","v":45.309999999999995},"Y",9.4000000000000057,1.468750000000001E-2,{"$f":"IF(V14=\"N\",IF(ISNUMBER(R14),(R14+T14)/Q14))","v":false}]
[null,"Refrigerated, Low moisture part skim 45-50% moisture 1/2 oz. serving","Bongard's ",75507,null,"4/5 lbs",640,null,{"$f":"ROUND($H$14*$G$14/G15,2)","v":0},"Cs",null,{"$f":"IF(OR(ISBLANK(K15),K15=0,H14=0,ISBLANK(H14)),,ROUND(K15+$L$3,2))","v":0},{"$f":"ROUND(I15*L15,2)","v":0},{"$f":"ROUND(L15/G15,4)","v":0},"75507-1","4/5 lbs",640,null,20,35.909999999999997,{"$f":"IF(ISBLANK(O15),,R15+T15)","v":35.909999999999997},"Y"]
[null,"Possible Allergens:  Milk",null,null,null,null," ",null," "," ",null," "," "," ",null,null,null,null," "," ",null,null," ",null," "]
[14004,"Cheese, Mild Cheddar, Indv. Portions, Reduced Fat","Land O Lakes ",44881,null,"168/1 oz.",168,20,{"$f":"ROUND($H$17*$G$17/G17,2)","v":20},"Cs",38.380000000000003,{"$f":"IF(OR(ISBLANK(K17),K17=0,H17=0,ISBLANK(H17)),,ROUND(K17+$L$3,2))","v":38.380000000000003},{"$f":"ROUND(I17*L17,2)","v":767.6},{"$f":"ROUND(L17/G17,4)","v":0.22850000000000001},44881,"168/ 1 oz",168,19.53,10.5,{"$f":"ROUND($T$6*S17,2)","v":18.850000000000001},{"$f":"IF(ISBLANK(O17),,R17+T17)","v":38.380000000000003},"Y",19.53,0.11625000000000001,{"$f":"IF(V17=\"N\",IF(ISNUMBER(R17),(R17+T17)/Q17))","v":false}]
[null,"Refrigerated, Natural mild cheddar, 1 0z. Portions"," ",null,null," "," ",null," "," ",null," "," "," ",null,null,null,null," "," ",null,null," ",null," "]
[null,"Possible Allergens:  Milk"," ",null,null," "," ",null," "," ",null," "," "," ",null,null,null,null," "," ",null,null," ",null," "]
[14005,"Cheese, Mild Cheddar, Red, Fat Cube Portions","Land O Lakes ",44113,null,"200/1.0z",200,null,{"$f":"ROUND($H$20*$G$20/G20,2)","v":0},"Cs",55.13,{"$f":"IF(OR(ISBLANK(K20),K20=0,H20=0,ISBLANK(H20)),,ROUND(K20+$L$3,2))","v":0},{"$f":"ROUND(I20*L20,2)","v":0},{"$f":"ROUND(L20/G20,4)","v":0},44113,"200/1 oz",200,32.68,12.5,{"$f":"ROUND($T$6*S20,2)","v":22.45},{"$f":"IF(ISBLANK(O20),,R20+T20)","v":55.129999999999995},"Y",32.680000000000007,0.16340000000000005,{"$f":"IF(V20=\"N\",IF(ISNUMBER(R20),(R20+T20)/Q20))","v":false}]
[null,"Refrigerated Natural mild cheddar 1 0z. Portions"," ",null,null," "," ",null," "," ",null," "," "," ",null,null,null,null," "," ",null,null," ",null," "]
[null,"Possible Allergens:  Milk"," ",null,null," "," ",null," "," ",null," "," "," ",null,null,null,null," "," ",null,null," ",null," "]
[14006,"Cheese, Mozzarella, String Cheese, IW","Land O Lakes ",59701,null,"168/1.0z",168,null,{"$f":"ROUND($H$23*$G$23/G23,2)","v":0},"Cs",30.59,{"$f":"IF(OR(ISBLANK(K23),K23=0,H23=0,ISBLANK(H23)),,ROUND(K23+$L$3,2))","v":0},{"$f":"ROUND(I23*L23,2)","v":0},{"$f":"ROUND(L23/G23,4)","v":0},59701,"168/1 oz",168,11.74,10.5,{"$f":"ROUND($T$6*S23,2)","v":18.850000000000001},{"$f":"IF(ISBLANK(O23),,R23+T23)","v":30.590000000000003},"Y",11.739999999999998,6.9880952380952377E-2,{"$f":"IF(V23=\"N\",IF(ISNUMBER(R23),(R23+T23)/Q23))","v":false}]
[null,"Refrigerated, Part skim mozzarella, 1 oz. portions","Bongard's ",40295,null,"168/1.0z",168,null,{"$f":"ROUND($H$23*$G$23/G24,2)","v":0},"Cs",null,{"$f":"IF(OR(ISBLANK(K24),K24=0,H23=0,ISBLANK(H23)),,ROUND(K24+$L$3,2))","v":0},{"$f":"ROUND(I24*L24,2)","v":0},0,"40295-1","168/1 oz",168,null,10.5,18.850000000000001,{"$f":"IF(ISBLANK(O24),,R24+T24)","v":18.850000000000001},"Y"]
[null,null,"Pauley ",232901376,null,"160/1.0z",160,null,{"$f":"ROUND($H$23*$G$23/G25,2)","v":0},"Cs",null,{"$f":"IF(OR(ISBLANK(K25),K25=0,H23=0,ISBLANK(H23)),,ROUND(K25+$L$3,2))","v":0},0,0,null,null,null,null," "]
[null,"Possible Allergens:  Milk","Schrieber ",25616,null,"168/1.0z",168,null,{"$f":"ROUND($H$23*$G$23/G26,2)","v":0},"Cs",null,{"$f":"IF(OR(ISBLANK(K26),K26=0,H23=0,ISBLANK(H23)),,ROUND(K26+$L$3,2))","v":0},0,0,null,null,null,null," "]
[14007,"Cheese, Mozzarella, String Cheese, Light, IW","Land O Lakes ",59703,null,"168/1.0z",168,10,{"$f":"ROUND($H$27*$G$27/G27,2)","v":10},"Cs",30.59,{"$f":"IF(OR(ISBLANK(K27),K27=0,H27=0,ISBLANK(H27)),,ROUND(K27+$L$3,2))","v":30.59},{"$f":"ROUND(I27*L27,2)","v":305.89999999999998},0.18210000000000001,59703,"168/ 1 oz",168,11.74,10.5,{"$f":"ROUND($T$6*S27,2)","v":18.850000000000001},{"$f":"IF(ISBLANK(O27),,R27+T27)","v":30.590000000000003},"Y",11.739999999999998,6.9880952380952377E-2,false]
[null,"Refrig., Part skim mozz., 50% red sodium, No more than 2g sat fat and 220 sodium ","Bongard's ","40299-1",null,"168/1.0z",168,null,{"$f":"ROUND($H$27*$G$27/G28,2)","v":10},"Cs",null,{"$f":"IF(OR(ISBLANK(K28),K28=0,H27=0,ISBLANK(H27)),,ROUND(K28+$L$3,2))","v":0},{"$f":"ROUND(I28*L28,2)","v":0},0,"40299-1","168/ 1 oz",168,null,10.5,18.850000000000001,{"$f":"IF(ISBLANK(O28),,R28+T28)","v":18.850000000000001},"Y"]
[null,"Possible Allergens:  Milk"," ",null,null," "," ",null," "," ",null," "," "," ",null,null,null,null," "," ",null,null," ",null," "]
[14008,"Cheese, American 50% Red Fat, 50% Red Sodium, Sliced","Land O Lakes ",46288,null,"6/5 lbs.",960,10,{"$f":"ROUND($H$30*$G$30/G30,2)","v":10},"Cs",null,{"$f":"IF(OR(ISBLANK(K30),K30=0,H30=0,ISBLANK(H30)),,ROUND(K30+$L$3,2))","v":0},{"$f":"ROUND(I30*L30,2)","v":0},{"$f":"ROUND(L30/G30,4)","v":0},46288,"6/5 lbs",960,null,22.91,{"$f":"ROUND($T$6*S30,2)","v":41.14},{"$f":"IF(ISBLANK(O30),,R30+T30)","v":41.14},"Y"]
[null,"Refrigerated, No more than 2 g sar fat and 125 mg sodium ","Bongard's ",10054,null,"4/5 lbs.",640,null,{"$f":"ROUND($H$30*$G$30/G31,2)","v":15},"Cs",38.4,{"$f":"IF(OR(ISBLANK(K31),K31=0,H30=0,ISBLANK(H30)),,ROUND(K31+$L$3,2))","v":38.4},{"$f":"ROUND(I31*L31,2)","v":576},{"$f":"ROUND(L31/G31,4)","v":0.06},"10054-1","4/5 lbs",640,12.4,14.48,26,{"$f":"IF(ISBLANK(O31),,R31+T31)","v":38.4},"Y",12.399999999999999,1.9374999999999996E-2,{"$f":"IF(V31=\"N\",IF(ISNUMBER(R31),(R31+T31)/Q31))","v":false}]
[null,"per 1/2 oz. serving Possible Allergens:  Milk, Soy"," ",null,null," "," ",null," "," ",null," "," "," ",null,null,null,null," "," ",null,null," ",null," "]
[14009,"Sauce, Cheese, Prepared, Pouch, Reduced Sodium","Land O Lakes ",39940,null,"6/106z",212,20,{"$f":"ROUND($H$33*$G$33/G33,2)","v":20},"Cs",62.8,{"$f":"IF(OR(ISBLANK(K33),K33=0,H33=0,ISBLANK(H33)),,ROUND(K33+$L$3,2))","v":62.8},{"$f":"ROUND(I33*L33,2)","v":1256},{"$f":"ROUND(L33/G33,4)","v":0.29620000000000002},39940,"6/106 oz",212,38.56,13.5,{"$f":"ROUND($T$6*S33,2)","v":24.24},{"$f":"IF(ISBLANK(O33),,R33+T33)","v":62.8},"Y",38.56,0.18188679245283021,{"$f":"IF(V33=\"N\",IF(ISNUMBER(R33),(R33+T33)/Q33))","v":false}]
[null,"Shelf Stable, Aseptically produced, perservative-free, packaged 3oz.=1 M/MA"," ",null,null," "," ",null," "," ",null," "," "," ",null,null,null,null," "," ",null,null," ",null," "]
[null,"Possible Allergens:  Milk, Soy"," ",null,null," "," ",null," "," ",null," "," "," ",null,null,null,null," "," ",null,null," ",null," "]
[14010,"Sauce, Cheese, Queso Blanco","JTM ",5718,null,"240/2.0z",240,null,{"$f":"ROUND($H$36*$G$36/G36,2)","v":0},"Cs",58.97,{"$f":"IF(OR(ISBLANK(K36),K36=0,H36=0,ISBLANK(H36)),,ROUND(K36+$L$3,2))","v":0},{"$f":"ROUND(I36*L36,2)","v":0},{"$f":"ROUND(L36/G36,4)","v":0},5718,"240/2 oz.",240,32.75,15,{"$f":"ROUND($T$6*S36,2)","v":26.93},{"$f":"IF(ISBLANK(O36),,R36+T36)","v":59.68},"Y",32.04,0.13350000000000001,{"$f":"IF(V36=\"N\",IF(ISNUMBER(R36),(R36+T36)/Q36))","v":false}]
[null,"Frozen, 100-200 calories and no more than 6g saturated fat and "]
[null,"500 mg of sodium per svg.  Each 2.0 oz. serving provides 1 oz. M/MA "]
[null,"Possible Allergens: Milk"]
[14011,"Cheese, Sauce, Ultimate White Blend","(18-19) Land O Lakes ",39944,null,"6/106 oz",212,null,{"$f":"ROUND($H$40*$G$40/G40,2)","v":0},"Cs",69.95,{"$f":"IF(OR(ISBLANK(K40),K40=0,H40=0,ISBLANK(H40)),,ROUND(K40+$L$3,2))","v":0},{"$f":"ROUND(I40*L40,2)","v":0},{"$f":"ROUND(L40/G40,4)","v":0},39944,"6/106 oz",212,43.77,14.58,{"$f":"ROUND($T$6*S40,2)","v":26.18},null,"Y",43.77,0.2064622641509434,{"$f":"IF(V40=\"N\",IF(ISNUMBER(R40),(R40+T40)/Q40))","v":false}]
[null,"Shefl Stable, Aseptically produced, preservative-free, packaged in "]
[null,"pouch 3 oz = 1 M/MA "]
[null,"Possible Allergens:  Milk"]
[14012,"Cheese, Cheddar Cups","Land O Lakes ",39911,null,"140/3.0z",140,null,{"$f":"ROUND($H$44*$G$44/G44,2)","v":0},"Cs",67.31,{"$f":"IF(OR(ISBLANK(K44),K44=0,H44=0,ISBLANK(H44)),,ROUND(K44+$L$3,2))","v":0},{"$f":"ROUND(I44*L44,2)","v":0},{"$f":"ROUND(L44/G44,4)","v":0},39911,"140/3.0 oz",140,51.29,8.92,{"$f":"ROUND($T$6*S44,2)","v":16.02},null,"Y",51.290000000000006,0.36635714285714288,{"$f":"IF(V44=\"N\",IF(ISNUMBER(R44),(R44+T44)/Q44))","v":false}]
[null,"Shelf Stable, Portion Pack, 3 oz. cup = 1 M/MA"," ",null,null," "," ",null," "," ",null," "," "," ",null,null,null,null," "," ",null,null," "," "," "]
[null,"Possbile Allergens:  Milk "," ",null,null," "," ",null," "," ",null,"  "," "," "]
[14013,"Yogurt, Low Fat, 4 oz, Gluten Free   ","Yoplait/Trix (General Mills)",null,null,"48/4.0z",48,null,{"$f":"ROUND(H47*G47/G47,2)","v":0},"Cs",null,{"$f":"IF(OR(ISBLANK(K47),K47=0,H47=0,ISBLANK(H47)),,ROUND(K47+$L$3,2))","v":0},{"$f":"ROUND(I47*L47,2)","v":0},{"$f":"ROUND(L47/G47,4)","v":0},null,null,null,null," "," ",null,null," ",null," "]
[null,"Refrigerated, Lowfat, flavored, pasteurized, Grade A contains live and ","Raspberry Rainbow ",17725,null,null,null,null,null,null,null,null,null,null,null,null,null,null," "," ",null,null," ",null," "]
[null,"active yogurt cultures, No aspartame, Expiration date on container,  ","Strawberry Banana",17726,null,null,null,null,null,null,null,null,null,null,null,null,null,null," "," ",null,null," ",null," "]
[null,"coded and labeled in accordance with State and Federal Regulations","Triple Cherry ",31077,null,null,null,null,null,null,null,null,null,null,null,null,null,null," "," ",null,null," ",null," "]
[null,"No more than 2 g of fat per serving. 0 trans fat","Horchatta",15675,null,null,null,null,null,null,null,null,null,null,null,null,null,null," "," ",null,null," ",null," "]
[null,null," Dannon (Danimals) ",null,null,"48/4.0z",48,null,{"$f":"ROUND(H47*G47/G52,2)","v":0},"Cs",9.84,{"$f":"IF(OR(ISBLANK(K52),K52=0,H47=0,ISBLANK(H47)),,ROUND(K52+$L$3,2))","v":0},{"$f":"ROUND(I52*L52,2)","v":0},{"$f":"ROUND(L52/G52,4)","v":0},null,null,null,null," "," ",null,null," ",null," "]
[null,null,"Strawberry Dianimals",73463]
[null,"Possible Allergens:  Milk  ","Strawberry Banana Dianimals",73558,null,null,null,null,null,null,null,null,null,null,null,null,null,null," "," ",null,null," ",null," "]
[null,null,"Raspberry Dianimals",102429,null,null,null,null,null,null,null,null,null,null,null,null,null,null," "," ",null,null," ",null," "]
[null,null,"Vanilla Dianimals",73559]
[14014,"Yogurt, Fat Free, 4 oz. Extended Shelf Life","Upstate",null,null,"48/4.0z",48,null,{"$f":"ROUND(H57*G57/G57,2)","v":0},"Cs",0,{"$f":"IF(OR(ISBLANK(K57),K57=0,H57=0,ISBLANK(H57)),,ROUND(K57+$L$3,2))","v":0},{"$f":"ROUND(I57*L57,2)","v":0},{"$f":"ROUND(L57/G57,4)","v":0},null,null,null,null," "," ",null,null," ",null," "]
[null,"Refrigerated, Lowfat, flavored, pasteurized, Grade A contains live and active yogurt ","Strawberry ",9815,null,null,null,null,null,null,null,null,null,null,null,null,null,null," "," ",null,null," ",null," "]
[null,"active yogurt cultures, No aspartame, Expiration date on container,  ","Peach ",9818,null,null,null,null,null,null,null,null,null,null,null,null,null,null," "," ",null,null," ",null," "]
[null,"coded, and labeled in accordance with State and Federal Regulations","Cherry Vanilla ",9819,null,null,null,null,null,null,null,null,null,null,null,null,null,null," "," ",null,null," ",null," "]
[null,"No more than 0 g of fat per serving. 0 trans fat","Strawberry Banana ",9820,null," "," ",null," "," ",null," "," "," ",null,null,null,null," "," ",null,null," ",null," "]
[null,null," ",null,null,null,null,null,null,null,null,null,null,null,null,null,null,null," "," ",null,null," ",null," "]
[null,"Possible Allergens:  Milk  "," ",null," ",null,null,null,null,null,null,null,null,null,null,null,null,null," "," ",null,null," ",null," "]
[14015,"Yogurt, Fat Free, 8 oz. Extended Shelf Life","Upstate",null,null,"12/8.0z",12,null,{"$f":"ROUND(H64*G64/G64,2)","v":0},"Cs",0,{"$f":"IF(OR(ISBLANK(K64),K64=0,H64=0,ISBLANK(H64)),,ROUND(K64+$L$3,2))","v":0},{"$f":"ROUND(I64*L64,2)","v":0},{"$f":"ROUND(L64/G64,4)","v":0},null,null,null,null," "," ",null,null," ",null," "]
[null,"Refrigerated, Lowfat, flavored, pasteurized, Grade A contains live and ","Strawberry ",9820,null,null,null,null,null,null,null,null,null,null,null,null,null,null," "," ",null,null," ",null," "]
[null,"active yogurt cultures, No aspartame, Expiration date on container,  ","Peach ",9834,null,null,null,null,null,null,null,null,null,null,null,null,null,null," "," ",null,null," ",null," "]
[null,"coded, and labeled in accordance with State and Federal Regulations","Cherry Vanilla ",9835,null,null,null,null,null,null,null,null,null,null,null,null,null,null," "," ",null,null," ",null," "]
[null,"No more than 0 g of fat per serving. 0 trans fat","Strawberry Banana ",9836,null," "," ",null," "," ",null," "," "," ",null,null,null,null," "," ",null,null," ",null," "]
[null,null," ",null,null,null,null,null,null,null,null,null,null,null,null,null,null,null," "," ",null,null," ",null," "]
[null,"Possible Allergens:  Milk  "," ",null,null,null,null,null,null,null,null,null,null,null,null,null,null,null," "," ",null,null," ",null," "]
[null,null," ",null,null,null,null,null,null,null,null,null,null,null,null,null,null,null," "," ",null,null," ",null," "]
[14016,"Yogurt, Vanilla Pouch, Low fat","Dannon Pro ",96397,null,"4/6 lbs",96,50,{"$f":"ROUND(H72*G72/G72,2)","v":50},"Cs",null,{"$f":"IF(OR(ISBLANK(K72),K72=0,H72=0,ISBLANK(H72)),,ROUND(K72+$L$3,2))","v":0},{"$f":"ROUND(I72*L72,2)","v":0},{"$f":"ROUND(L72/G72,4)","v":0},null,null,null,null," "," ",null,null," ",null," "]
[null,"Refrigerated, Lowfat, flavored, pasteurized, Grade A contains live and ","Yoplait/General Mills ",16632,null,"6/64 oz.",96,null,{"$f":"ROUND(H72*G72/G73,2)","v":50},"Cs",20.95,{"$f":"IF(OR(ISBLANK(K73),K73=0,H72=0,ISBLANK(H72)),,ROUND(K73+$L$3,2))","v":20.95},{"$f":"ROUND(I73*L73,2)","v":1047.5},{"$f":"ROUND(L73/G73,4)","v":0.21820000000000001}]
[null,"active live cultures, No aspartame, Expiration date on container, coded,  "]
[null,"and labeled in accordance with State and Federal Regulations"]
[null,"4 oz. serving equals 1 oz. protein",null,null,null,null,null,null,null,null,null,null,null,null,null,null,null,null," "," ",null,null," ",null," "]
[null,"Possible Allergens:  Milk, Gluten Free",null,null,null,null,null,null,null,null,null,null,null,null,null,null,null,null," "," ",null,null," ",null," "]
[14017,"Yogurt,  Strawberry Pouch, Low fat","Dannon Pro ",96398,null,"4/6 lbs",96,20,{"$f":"ROUND(H78*G78/G78,2)","v":20},"Cs",21.5,{"$f":"IF(OR(ISBLANK(K78),K78=0,H78=0,ISBLANK(H78)),,ROUND(K78+$L$3,2))","v":21.5},{"$f":"ROUND(I78*L78,2)","v":430},{"$f":"ROUND(L78/G78,4)","v":0.224},null,null,null,null," "," ",null,null," ",null," "]
[null,"Refrigerated, Lowfat, flavored, pasteurized, Grade A contains live and ","Yoplait/General Mills ",16631,null,"6/64 oz",96,null,{"$f":"ROUND(H78*G78/G79,2)","v":20},"Cs",null,{"$f":"IF(OR(ISBLANK(K79),K79=0,H78=0,ISBLANK(H78)),,ROUND(K79+$L$3,2))","v":0},{"$f":"ROUND(I79*L79,2)","v":0},{"$f":"ROUND(L79/G79,4)","v":0}]
[null,"active yogurt cultures, No aspartame, Expiration date on container,  "]
[null,"coded, and labeled in accordance with State and Federal Regulations"]
[null,"4 oz. serving equals 1 oz. protein",null,null,null,null,null,null,null,null,null,null,null,null,null,null,null,null," "," ",null,null," ",null," "]
[null,"Possible Allergens:  Milk, Gluten Free",null,null,null,null,null,null,null,null,null,null,null,null,null,null,null,null," "," ",null,null," ",null," "]
[14018,"Yogurt,  Blueberry Pouch, Low fat","Yoplait/General Mills ",16067,null,"6/64 oz",96,10,{"$f":"ROUND(H84*G84/G84,2)","v":10},"Cs",22.3,{"$f":"IF(OR(ISBLANK(K84),K84=0,H84=0,ISBLANK(H84)),,ROUND(K84+$L$3,2))","v":22.3},{"$f":"ROUND(I84*L84,2)","v":223},{"$f":"ROUND(L84/G84,4)","v":0.23230000000000001},null,null,null,null," "," ",null,null," ",null," "]
[null,"Refrigerated, Lowfat, flavored, pasteurized, Grade A contains live and "]
[null,"active yogurt cultures, No aspartame, Expiration date on container,  "]
[null,"coded, and labeled in accordance with State and Federal Regulations"]
[null,"4 oz. serving equals 1 oz. protein",null,null,null,null,null,null,null,null,null,null,null,null,null,null,null,null," "," ",null,null," ",null," "]
[null,"Possbile Allergens: Milk, Gluten Free",null,null,null,null,null,null,null,null,null,null,null,null,null,null,null,null," "," ",null,null," ",null," "]
[null,"ITEMS BELOW THIS LINE ARE NOT DIRECT TO MANUFACTUER PRICED ITEMS."]
[14019,"Margarine Reddies","Distributor Choice",null,null,"720/.5 gm",720]
[null,"Pure Vegetable.  Contains 0 Trans fat. ","Fillable txt box ",null,null,null,null,null,{"$f":"ROUND(H91*G91/G92,2)","v":{"$error":"#DIV/0!"}},"Cs",null,{"$f":"IF(OR(ISBLANK(K92),K92=0,H91=0,ISBLANK(H91)),,ROUND(K92+$L$3,2))","v":0},{"$f":"ROUND(I92*L92,2)","v":{"$error":"#DIV/0!"}},{"$f":"ROUND(L92/G92,4)","v":{"$error":"#DIV/0!"}}]
[14020,"Margarine Solids","Distributor Choice",null,null,"30Lb",30,30]
[null,"Pure Vegetable. Contains 0 Trans fat.","Fillable txt box ",null,null,null,null,null,{"$f":"ROUND(H93*G93/G94,2)","v":{"$error":"#DIV/0!"}},"Cs",null,{"$f":"IF(OR(ISBLANK(K94),K94=0,H93=0,ISBLANK(H93)),,ROUND(K94+$L$3,2))","v":0},{"$f":"ROUND(I94*L94,2)","v":{"$error":"#DIV/0!"}},{"$f":"ROUND(L94/G94,4)","v":{"$error":"#DIV/0!"}}]
[null,null,null,null,null,null,null,0,null,"Page Total",null,null,{"$f":"SUMIF(M6:M94,\">0\")","v":4606}]

{"sheet":"Franks & Corn Dogs","index":10,"n_rows":74,"n_cols":14,"rows_kept":74,"cut":false,"hidden":false,"merged":[[2,6,2,10],[0,5,0,13],[1,5,1,13]]}
[null,{"$f":"'Recap Sheet'!A2","v":"School Food Authority or Agency Name:"},null,null,null,{"$f":"'Recap Sheet'!A3","v":"Bidder's Name:"}]
[16001,{"$f":"'Recap Sheet'!B2","v":"Marion County School District"},"Return to Recap Sheet",null,null,{"$f":"'Recap Sheet'!B3","v":0}]
[18000,"Description","Approved",null,null,null,"Firm Fixed Fee",null,null,null,null,{"$f":"'Recap Sheet'!B4","v":0}]
["SCPA",null,"Brand Name","Manufacturers","Distributor","Vendor","Svgs","Est.","Bid ","Bid","Unit","Unit Price","Total ","Cost per"]
[" Code",null,"or Manufacturer","Code","Code","Pack","per unit","Bid Qty","Qty","Unit","Price","plus Fee","Price","Unit"]
[null,"Franks & Corn Dogs"]
[]
[16001,"Hot Dog, Beef","Bryan ",10000016787,null,"80/2.0oz",80,null,{"$f":"ROUND($H$8*$G$8/G8,2)","v":0},"Cs",null,{"$f":"IF(OR(ISBLANK(K8),K8=0,H8=0,ISBLANK(H8)),,ROUND(K8+$L$3,2))","v":0},{"$f":"ROUND(I8*L8,2)","v":0},{"$f":"ROUND(L8/G8,4)","v":0}]
[null,"Frozen, fully cooked, all beef, Formula B, natural color, made from skeletal ","Carolina Pride ",3143,null,"2/5 lbs",80,null,{"$f":"ROUND($H$8*$G$8/G9,2)","v":0},"Cs",null,{"$f":"IF(OR(ISBLANK(K9),K9=0,H8=0,ISBLANK(H8)),,ROUND(K9+$L$3,2))","v":0},{"$f":"ROUND(I9*L9,2)","v":0},{"$f":"ROUND(L9/G9,4)","v":0}]
[null,"cuts.  IMPS #800 8 per lbs 150-250 calories with no more than 8 g sat fat ","DISCONTINUED Harvestland/Perdue ",56655,null,null,null,null,null,"Cs",null,{"$f":"IF(OR(ISBLANK(K10),K10=0,H8=0,ISBLANK(H8)),,ROUND(K10+$L$3,2))","v":0},{"$f":"ROUND(I10*L10,2)","v":0},{"$f":"ROUND(L10/G10,4)","v":{"$error":"#DIV/0!"}}]
[null,"and 800 mg sodium per serving.  One portion provides 2 M/MA. May ","Farmland/Smithfield ",810967,null,"10 lbs",80,null,{"$f":"ROUND($H$8*$G$8/G11,2)","v":0},"Cs",null,{"$f":"IF(OR(ISBLANK(K11),K11=0,H8=0,ISBLANK(H8)),,ROUND(K11+$L$3,2))","v":0},{"$f":"ROUND(I11*L11,2)","v":0},{"$f":"ROUND(L11/G11,4)","v":0}]
[null,"contain Sodium Nitrite","Kent Quality Foods ","437 CN",null,"160/2.0oz",160,null,{"$f":"ROUND($H$8*$G$8/G12,2)","v":0},"Cs",44.8,{"$f":"IF(OR(ISBLANK(K12),K12=0,H8=0,ISBLANK(H8)),,ROUND(K12+$L$3,2))","v":0},{"$f":"ROUND(I12*L12,2)","v":0},{"$f":"ROUND(L12/G12,4)","v":0}]
[null," Possible Allergens:  None Listed"," ",null,null," "," ",null," "," ",null," "," "," "]
[16002,"Hot Dog, Beef/Pork","Kent Quality Foods ","429CN",null,"160/2.0oz",160,null,{"$f":"ROUND($H$14*$G$14/G14,2)","v":0},"Cs",34.200000000000003,{"$f":"IF(OR(ISBLANK(K14),K14=0,H14=0,ISBLANK(H14)),,ROUND(K14+$L$3,2))","v":0},{"$f":"ROUND(I14*L14,2)","v":0},{"$f":"ROUND(L14/G14,4)","v":0}]
[null,"All beef and pork, Formula B, natural color, no offals.  IMPS #800."," ",null,null," "," ",null," "," ",null," "," "," "]
[null,"Made from all skeletal cuts.  8 ct. Skinless  No artificial color. Must provide "]
[null,"2 0 oz cooked meat/meat alternate for CN Meal Pattern Requirements"]
[null,"One 2 oz serving contains no more  than  85% of calories from fat."]
[null," Possible Allergens:  None Listed"]
[16003,"Hot Dog, All Meat     ","Ball Park ",10000016720,null,"80/2.0z",80,null,{"$f":"ROUND($H$20*$G$20/G20,2)","v":0},"Cs",null,{"$f":"IF(OR(ISBLANK(K20),K20=0,H20=0,ISBLANK(H20)),,ROUND(K20+$L$3,2))","v":0},{"$f":"ROUND(I20*L20,2)","v":0},{"$f":"ROUND(L20/G20,4)","v":0}]
[null,"Frozen, fully cooked, made from skeletal cuts, IMPS #800, No artificial color,, ","Kent Quality Foods ",304320,null,"160/2.0z",160,null,{"$f":"ROUND($H$20*$G$20/G21,2)","v":0},"Cs",null,{"$f":"IF(OR(ISBLANK(K21),K21=0,H20=0,ISBLANK(H20)),,ROUND(K21+$L$3,2))","v":0},{"$f":"ROUND(I21*L21,2)","v":0},0]
[null,"8 per lb, 150-250 calories with no more than 7 g sat fat and 700 mg ","Bryan ",10000016668,null,"80/2.0z",80,null,{"$f":"ROUND($H$20*$G$20/G22,2)","v":0},"Cs",27,{"$f":"IF(OR(ISBLANK(K22),K22=0,H20=0,ISBLANK(H20)),,ROUND(K22+$L$3,2))","v":0},{"$f":"ROUND(I22*L22,2)","v":0},0]
[null,"sodium per svg. One portion provides 2 M/MA. May contain Sodium Nitrite","Carolina Pride ","3140CN",null,"80/2.0z",80,null,{"$f":"ROUND($H$20*$G$20/G23,2)","v":0},"Cs",null,{"$f":"IF(OR(ISBLANK(K23),K23=0,H20=0,ISBLANK(H20)),,ROUND(K23+$L$3,2))","v":0},{"$f":"ROUND(I23*L23,2)","v":0},0]
[null," Possible Allergens:  None Listed","Farmland/Smithfield ","811527CN",null,"80/2.0z",80,null,{"$f":"ROUND($H$20*$G$20/G24,2)","v":0},"Cs",null,{"$f":"IF(OR(ISBLANK(K24),K24=0,H20=0,ISBLANK(H20)),,ROUND(K24+$L$3,2))","v":0},0,0]
[16004,"Hot Dog, Turkey","Briar Street ",10000016751,null,"10Lb",80,null,{"$f":"ROUND($H$25*$G$25/G25,2)","v":0},"Cs",10.8,{"$f":"IF(OR(ISBLANK(K25),K25=0,H25=0,ISBLANK(H25)),,ROUND(K25+$L$3,2))","v":0},0,0]
[null,"Frozen, made form mechanically separated turkey meat blended with ","Butterball ","22655-61886",null,"2/5Lb",80,null,{"$f":"ROUND($H$25*$G$25/G26,2)","v":0},"Cs",null,{"$f":"IF(OR(ISBLANK(K26),K26=0,H25=0,ISBLANK(H25)),,ROUND(K26+$L$3,2))","v":0},0,0]
[null,"natural flavoring/color and spices, 8 per lbs, 100-150 calories with no more ","Perdue ",65669,null,"2/5Lb",80,null,{"$f":"ROUND($H$25*$G$25/G27,2)","v":0},"Cs",null,{"$f":"IF(OR(ISBLANK(K27),K27=0,H25=0,ISBLANK(H25)),,ROUND(K27+$L$3,2))","v":0},0,0]
[null,"than 5 g sat fat and 750 mg sodium per serving.  One portion to provide"]
[null,"2 M/MA.  May contain Sodium Nitrite."]
[null," "]
[null,"Possible Allergens: None Listed"]
[16005,"Hot Dog, Turkey/Beef Low Sodium and Reduced Fat","Kent Quality Foods ",676421,null,"160/2.0oz",160,null,{"$f":"ROUND(H32*G32/G32,2)","v":0},"Cs",26.8,{"$f":"IF(OR(ISBLANK(K32),K32=0,H32=0,ISBLANK(H32)),,ROUND(K32+$L$3,2))","v":0},{"$f":"ROUND(I32*L32,2)","v":0},{"$f":"ROUND(L32/G32,4)","v":0}]
[null,"Frozen made of mechanically separated turkey meat blended with natural"]
[null,"flavoring/color and spices and beef 100-150 calories with no more than "]
[null,"4 g sat fat and 350 mg sodium per serving.  One portion  to provide 2 M/MA"]
[null,"May contain sodium nitrite"]
[null,"Possible Allergens: None Listed"]
[16006,"Hot Dog, Turkey Low Sodium and Reduced Fat","Kent Quality Foods ",142676,null,"160/2.0oz",160,100,{"$f":"ROUND(H38*G38/G38,2)","v":100},"Cs",24.8,{"$f":"IF(OR(ISBLANK(K38),K38=0,H38=0,ISBLANK(H38)),,ROUND(K38+$L$3,2))","v":24.8},{"$f":"ROUND(I38*L38,2)","v":2480},{"$f":"ROUND(L38/G38,4)","v":0.155}]
[null,"Frozen made of mechanically separated turkey meat blended with natural"]
[null,"flavoring/color and spices 100-150 calories with no more than 4 g sat fat "]
[null," and 350 mg sodium per serving.  One portion  to provide 2 M/MA"]
[null,"May contain sodium nitrite"]
[null,"Possible Allergens: None Listed"]
[16007,"Corn Dog, Chicken, WG","Foster Farms ",95150,null,"72/4.0z",72,null,{"$f":"ROUND(H44*G44/G44,2)","v":0},"Cs",25.84,{"$f":"IF(OR(ISBLANK(K44),K44=0,H44=0,ISBLANK(H44)),,ROUND(K44+$L$3,2))","v":0},{"$f":"ROUND(I44*L44,2)","v":0},{"$f":"ROUND(L44/G44,4)","v":0}]
[null,"Frozen, fully cooked, sweet batter dipped frankfurter, whole wheat flour "]
[null,"and cornmeal 200-300 calories with no more than 3 g sat fat and 400 mg "]
[null,"sodium per serving. One portion to provide 2 M/MA and 2 OEG May contain "]
[null,"Sodium Nitrite, SMART SNACK COMPLIANT"]
[null,"Possible Allergens: Wheat, Soy ,Eggs, Gluten"]
[16008,"Corn Dog, Turkey, WG","State Fair  ",10000028322,null,"48/4.0z",48,null,{"$f":"ROUND($H$50*$G$50/G50,2)","v":0},"Cs",null,{"$f":"IF(OR(ISBLANK(K50),K50=0,H50=0,ISBLANK(H50)),,ROUND(K50+$L$3,2))","v":0},{"$f":"ROUND(I50*L50,2)","v":0},{"$f":"ROUND(L50/G50,4)","v":0}]
[null,"Frozen, oven ready, sweet batter dipped frankfurter, whole wheat flour ","Don Lee Farms","CN84072WG",null,"72/4.0z",48,null,{"$f":"ROUND($H$50*$G$50/G51,2)","v":0},"Cs",22.68,{"$f":"IF(OR(ISBLANK(K51),K51=0,H50=0,ISBLANK(H50)),,ROUND(K51+$L$3,2))","v":0},{"$f":"ROUND(I51*L51,2)","v":0},{"$f":"ROUND(L51/G51,4)","v":0}]
[null,"and cornmeal with stick. 200-300 calories with no more than 4 g sat fat "]
[null,"and 850 mg sodium per serving. One portion to provide 2 M/MA and 2 OEG"]
[null,"May contain sodium nitrite"]
[null,"Possible Allergens: Wheat, Soy, Eggs, Milk"," ",null,null," "," ",null," "," ",null," "," "," "]
[16009,"Corn Dog, Turkey, WG Reduced Fat","State Fair ",1000009988,null,"72/4z",72,100,{"$f":"ROUND(H56*G56/G56,2)","v":100},"Cs",0,{"$f":"IF(OR(ISBLANK(K56),K56=0,H56=0,ISBLANK(H56)),,ROUND(K56+$L$3,2))","v":0},{"$f":"ROUND(I56*L56,2)","v":0},{"$f":"ROUND(L56/G56,4)","v":0}]
[null,"Frozen, oven ready, sweet batter dipped frankfurter, whole wheat flour "]
[null,"and cornmeal with stick 200-300 calories with no more than 1.5 g sat fat "]
[null,"with ≤ 30% calories from fat and 1.5 g sat fat per serving.  One portion"]
[null,"to provide 2 M/MA and 2 OEG May contain Sodium Nitrite"]
[null,"Possible Allergens: Wheat, Soy, Eggs, Milk"]
[16010,"Corndog Nuggets, Chicken                             "," House of Raeford ",20452,null,"2/5 lbs",40,null,{"$f":"ROUND($H$62*$G$62/G62,2)","v":0},"Cs",null,{"$f":"IF(OR(ISBLANK(K62),K62=0,H62=0,ISBLANK(H62)),,ROUND(K62+$L$3,2))","v":0},{"$f":"ROUND(I62*L62,2)","v":0},{"$f":"ROUND(L62/G62,4)","v":0}]
[null,"Frozen, Oven Ready, sweet batter dipped frankfurter of mechanically ","Foster Farms ",96086,null,"2/5 lbs",40,null,{"$f":"ROUND($H$62*$G$62/G63,2)","v":0},"Cs",15.4,{"$f":"IF(OR(ISBLANK(K63),K63=0,H62=0,ISBLANK(H62)),,ROUND(K63+$L$3,2))","v":0},{"$f":"ROUND(I63*L63,2)","v":0},{"$f":"ROUND(L63/G63,4)","v":0}]
[null,"separated chicken meat, WG flour and cornmeal, 200-300 calories with no "]
[null,"no more than 4 g sat fat and 450 mg sodium per serving. CN Labeled for 6  "]
[null,"to provide 2 M/MA and 2 OEG.  May contain Sodium Nitrite"]
[null,"Possible Allergens:  Wheat, Soy, Eggs, and Milk "]
[16011,"Corndog Nuggets, Turkey                                   ","House of Raeford ",20420,null,"240/.667z",40,50,{"$f":"ROUND($H$68*$G$68/G68,2)","v":50},"Cs",18.100000000000001,{"$f":"IF(OR(ISBLANK(K68),K68=0,H68=0,ISBLANK(H68)),,ROUND(K68+$L$3,2))","v":18.100000000000001},{"$f":"ROUND(I68*L68,2)","v":905},{"$f":"ROUND(L68/G68,4)","v":0.45250000000000001}]
[null,"Frozen, Oven Ready, sweet batter dipped frankfurter of mechanically ","State Fair ",1000009180,null,"240/.667 z",40,null,{"$f":"ROUND($H$62*$G$62/G69,2)","v":0},null,null,{"$f":"IF(OR(ISBLANK(K69),K69=0,H68=0,ISBLANK(H68)),,ROUND(K69+$L$3,2))","v":0},{"$f":"ROUND(I69*L69,2)","v":0},{"$f":"ROUND(L69/G69,4)","v":0}]
[null,"separated turkey meat, WG flour and cornmeal, 200-300 calories with no "]
[null,"more than 2 g sat fat and 450 mg sodium per serving. CN Labeled for 6 to "]
[null,"to provide 2 M/MA and 2 OEG.  May contain Sodium Nitrite"]
[null,"Possible Allergens:  Wheat, Soy, Eggs, and Milk "]
[null,null,null,null,null,null,null,null,null,"Page Total",null,null,{"$f":"SUMIF(M14:M73,\">0\")","v":3385}]

{"sheet":"Eggs","index":11,"n_rows":57,"n_cols":25,"rows_kept":57,"cut":false,"hidden":false,"merged":[[2,15,4,15],[2,16,4,16],[1,5,1,13],[0,5,0,13],[2,6,2,10]]}
[null,{"$f":"'Recap Sheet'!A2","v":"School Food Authority or Agency Name:"},null,null,null,{"$f":"'Recap Sheet'!A3","v":"Bidder's Name:"}]
[18001,{"$f":"'Recap Sheet'!B2","v":"Marion County School District"},"Return to Recap Sheet",null,null,{"$f":"'Recap Sheet'!B3","v":0},null,null,null,null,null,null,null,null,null,null,null,null,"Commodity"]
[20000,"Description","Approved",null,null,null,"Firm Fixed Fee",null,null,null,null,{"$f":"'Recap Sheet'!B4","v":0},null,null,"Manufacturer","Vendor Pack","Servings per case","Processing ","Pounds of",null,"Total Cost","NOI ?","NOI ","Net NOI","Fee for Serivce"]
["SCPA",null,"Brand Name","Manufacturers","Distributor","Vendor","Svgs","Est.","Bid ","Bid","Unit","Unit Price","Total ","Cost per","USDA Product",null,null,"Fee For","DF Needed","Commodity","Proc Fee + ","Enter","Net ","Cost Per","Cost Per Serv."]
[" Code",null,"or Manufacturer","Code","Code","Pack","per unit","Bid Qty","Qty","Unit","Price","plus Fee","Price","Unit","Code",null,null,"Service","Per Case","Value ","Comm Value","Y or N","Price","Serving","Fee+ Commodity"]
[null,"Eggs",null,null,null,null,null,null,null,null,null,null,null,null,"Eggs, Whole Liquid Bulk Tank",null,100047,"Commodity Value per lb",null,0.53900000000000003]
[]
[18001,"Eggs, Liquid Whole with Citric Acid, Pasteurized","Michael Foods ","46025-65123",null,"296/1.62z",296,null,{"$f":"ROUND($H$8*$G$8/G8,2)","v":0},"Cs",null,{"$f":"IF(OR(ISBLANK(K8),K8=0,H8=0,ISBLANK(H8)),,ROUND(K8+$L$3,2))","v":0},30,{"$f":"ROUND(L8/G8,4)","v":0},"46025-65123","296/1.62z",296,null,29.88,{"$f":"ROUND($T$6*S8,2)","v":16.11},{"$f":"IF(ISBLANK(O8),,R8+T8)","v":16.11},"Y"]
[null,"Frozen, homogenized, USDA Inspected","Sunny Fresh/Cargill ",10080,null,"480/1.0z",480,null,{"$f":"ROUND($H$8*$G$8/G9,2)","v":0},"Cs",40.590000000000003,{"$f":"IF(OR(ISBLANK(K9),K9=0,H8=0,ISBLANK(H8)),,ROUND(K9+$L$3,2))","v":0},{"$f":"ROUND(I9*L9,2)","v":0},{"$f":"ROUND(L9/G9,4)","v":0},10080,"6/5#",480,24.45,29.95,{"$f":"ROUND($T$6*S9,2)","v":16.14},{"$f":"IF(ISBLANK(O9),,R9+T9)","v":40.590000000000003},"Y",24.450000000000003,5.0937500000000004E-2,{"$f":"IF(V9=\"N\",IF(ISNUMBER(R9),(R9+T9)/Q9))","v":false}]
[null," "]
[null,"Possible Allergens:  Eggs"," ",null,null," "," ",null," "," ",null," "," "," ",null,null,null,null," "," ",null,null," ",null," "]
[18002,"Egg Patty, Round","Michael Foods ",85017,null,"300/1.25z",300,30,{"$f":"ROUND($H$12*$G$12/G12,2)","v":30},"Cs",34.9,{"$f":"IF(OR(ISBLANK(K12),K12=0,H12=0,ISBLANK(H12)),,ROUND(K12+$L$3,2))","v":34.9},{"$f":"ROUND(I12*L12,2)","v":1047},{"$f":"ROUND(L12/G12,4)","v":0.1163},85017,"300/1.25  oz",300,26.39,15.79,{"$f":"ROUND($T$6*S12,2)","v":8.51},{"$f":"IF(ISBLANK(O12),,R12+T12)","v":34.9},"Y",26.39,8.7966666666666665E-2,{"$f":"IF(V12=\"N\",IF(ISNUMBER(R12),(R12+T12)/Q12))","v":false}]
[null,"Frozen, IQF, Fully cooked, USDA inspected pasteurized whole eggs,","Sunny Fresh/Cargill ",40710,null,"369/1.25z",369,null,{"$f":"ROUND($H$12*$G$12/G13,2)","v":24.39},"Cs",null,{"$f":"IF(OR(ISBLANK(K13),K13=0,H12=0,ISBLANK(H12)),,ROUND(K13+$L$3,2))","v":0},{"$f":"ROUND(I13*L13,2)","v":0},{"$f":"ROUND(L13/G13,4)","v":0},40710,"369/1.25 oz",369,null,21.49,{"$f":"ROUND($T$6*S13,2)","v":11.58},{"$f":"IF(ISBLANK(O13),,R13+T13)","v":11.58},"Y"]
[null,"Approx. 3\" pattie 40-100 calories with no more than 2g sat fat and "]
[null,"125 mg sodium per serving. One portion to provide min 1 M/MA"]
[null,"Possible Allergens:  Egg, Milk, Soy"]
[null,null,null,null,null,null,null,null,null,null,null,null,null,null,null,null,null,null," "," ",null,null," ",null," "]
[18003,"Eggs, Scrambled, Pre-Cooked Refrigerated","(18-19) Michael Foods ",85877,null,"12/1.65z",165,null,{"$f":"ROUND($H$18*$G$18/G18,2)","v":0},"Cs",39.99,{"$f":"IF(OR(ISBLANK(K18),K18=0,H18=0,ISBLANK(H18)),,ROUND(K18+$L$3,2))","v":0},{"$f":"ROUND(I18*L18,2)","v":0},{"$f":"ROUND(L18/G18,4)","v":0},"46025-85877","165/2.15z",165,31.81,15.17,{"$f":"ROUND($T$6*S18,2)","v":8.18},{"$f":"IF(ISBLANK(O18),,R18+T18)","v":39.989999999999995},"Y",31.810000000000002,0.19278787878787881,{"$f":"IF(V18=\"N\",IF(ISNUMBER(R18),(R18+T18)/Q18))","v":false}]
[null,"Frozen, IQF, Fully cooked, USDA inspected pasteurized whole eggs, "," ",null,null," "," ",null," "," ",null," "," "," ",null,null,null,null," "," ",null,null," ",null," "]
[null,"45-50 calories with no more than 2g sat fat and 150 mg sodium per "]
[null,"per 1 oz. portions.  A 1 oz. portion provides min. 1 M/MA"]
[null,"Possible Allergens:  Egg, Milk, Soy",null,null,null,null,null,null,null,null,null,null,null,null,null,null,null,null," "," ",null,null," ",null," "]
[18004,"Eggs, Scrambled, Pre-Cooked, Frozen","Michael Foods Discontinued",85019,null,"4/5 lbs",320,null,{"$f":"ROUND($H$23*$G$23/G23,2)","v":0},"Cs",null,{"$f":"IF(OR(ISBLANK(K23),K23=0,H23=0,ISBLANK(H23)),,ROUND(K23+$L$3,2))","v":0},{"$f":"ROUND(I23*L23,2)","v":0},{"$f":"ROUND(L23/G23,4)","v":0},null,null,null,null,null,{"$f":"ROUND($T$6*S23,2)","v":0},{"$f":"IF(ISBLANK(O23),,R23+T23)","v":0},"Y"]
[null,"Frozen, IQF, Fully cooked, USDA Inspected pasteurized whole eggs, ","Sunny Fresh/Cargill ",40927,null,"4/5 lbs",320,null,{"$f":"ROUND($H$23*$G$23/G24,2)","v":0},"Cs",36.369999999999997,{"$f":"IF(OR(ISBLANK(K24),K24=0,H23=0,ISBLANK(H23)),,ROUND(K24+$L$3,2))","v":0},{"$f":"ROUND(I24*L24,2)","v":0},{"$f":"ROUND(L24/G24,4)","v":0},40927,"4/5 lbs",320,26.46,18.93,{"$f":"ROUND($T$6*S24,2)","v":10.199999999999999},{"$f":"IF(ISBLANK(O24),,R24+T24)","v":36.659999999999997},"Y",26.169999999999998,8.178125E-2,{"$f":"IF(V24=\"N\",IF(ISNUMBER(R24),(R24+T24)/Q24))","v":false}]
[null,"45-50 calories with no more than 2g saturated fat and 150 mg sodium  "]
[null,"per 1 oz. portions.  A 1 oz. portion provides min. 1 M/MA"]
[]
[null,"Possible Allergens:  Egg, Milk, Soy",null,null,null,null,null,null,null,null,null,null,null,null,null,null,null,null," "," ",null,null," ",null," "]
[18004,"Egg Omelet Cheddar Cheese","Michael Foods ",85037,null,"144/2.0z.",144,null,{"$f":"ROUND($H$29*$G$29/G29,2)","v":0},"Cs",43.9,{"$f":"IF(OR(ISBLANK(K29),K29=0,H29=0,ISBLANK(H29)),,ROUND(K29+$L$3,2))","v":0},{"$f":"ROUND(I29*L29,2)","v":0},{"$f":"ROUND(L29/G29,4)","v":0},85037,"144/2.0 oz",144,37.1,12.61,{"$f":"ROUND($T$6*S29,2)","v":6.8},{"$f":"IF(ISBLANK(O29),,R29+T29)","v":43.9},"Y",37.1,0.25763888888888892,{"$f":"IF(V29=\"N\",IF(ISNUMBER(R29),(R29+T29)/Q29))","v":false}]
[null,"Frozen, IQF, Fully cooked, USDA inspected pasteurized whole eggs "," ",null,null," "," ",null," "," ",null," "," "," ",null,null,null,null," "," ",null,null," ",null," "]
[null,"with cheddar cheese filling. Oven baked, 100-200 calories with no "]
[null,"more than 4 g saturated fat and 300 mg sodium per serving.  "]
[null,"CN Labled for one portion to provide min. 2 M/MA"]
[null,"Possible Allergens: Egg, Milk, Soy",null,null,null,null,null,null,null,null,null,null,null,null,null,null,null,null," "," ",null,null," ",null," "]
[18005,"Skillet Frittata w/Egg, Cheese, Veg and Ham, IW","Sunny Fresh/Cargill ",40263,null,"96/3.35z",96,null,{"$f":"ROUND($H$35*$G$35/G35,2)","v":0},"Cs",54.85,{"$f":"IF(OR(ISBLANK(K35),K35=0,H35=0,ISBLANK(H35)),,ROUND(K35+$L$3,2))","v":0},{"$f":"ROUND(I35*L35,2)","v":0},{"$f":"ROUND(L35/G35,4)","v":0},40263,"96/3.35 oz.",96,49.58,9.77,{"$f":"ROUND($T$6*S35,2)","v":5.27},{"$f":"IF(ISBLANK(O35),,R35+T35)","v":54.849999999999994},"Y",49.58,0.51645833333333335,{"$f":"IF(V35=\"N\",IF(ISNUMBER(R35),(R35+T35)/Q35))","v":false}]
[null,"Frozen, IQF, Fully cooked, 50-200 calories with no more than 5g "," ",null,null," "," ",null," "," ",null," "," "," ",null,null,null,null," "," ",null,null," ",null," "]
[null,"sat fat and 550 mg sodium per serving.  One portion provides min. "]
[null,"2 M/MA and 1 OEG"]
[null,"Possible Allergens:  Egg, Milk, Soy",null,null,null,null,null,null,null,null,null,null,null,null,null,null,null,null," "," ",null,null," ",null," "]
[18006,"Skillet Frittata w/Egg, Cheese, and Turkey Sausage Bulk","Sunny Fresh/Cargill ",40184,null,"225/2.20z",225,null,{"$f":"ROUND($H$40*$G$40/G40,2)","v":0},"Cs",77.94,{"$f":"IF(OR(ISBLANK(K40),K40=0,H40=0,ISBLANK(H40)),,ROUND(K40+$L$3,2))","v":0},{"$f":"ROUND(I40*L40,2)","v":0},{"$f":"ROUND(L40/G40,4)","v":0},40184,"225/2.20 oz",225,65.89,22.36,{"$f":"ROUND($T$6*S40,2)","v":12.05},{"$f":"IF(ISBLANK(O40),,R40+T40)","v":77.94},"Y",65.89,0.29284444444444446,{"$f":"IF(V40=\"N\",IF(ISNUMBER(R40),(R40+T40)/Q40))","v":false}]
[null,"Frozen, IQF, Fully cooked, 50-150 calories with no more than 4g"," ",null,null," "," ",null," ","  ",null," "," "," ",null,null,null,null," "," ",null,null," ",null," "]
[null,"saturated fat and 350 mg sodium per serving.  One portion provides  "]
[null,"min 2 M/MA"]
[null,"Possible Allergens:  Egg, Milk, Soy"]
[null,null,null,null,null,null,null,null,null,null,null,null,null,null,null,null,null,null," "," ",null,null," ",null," "]
[18007,"Eggs, Hard Cooked, Peeled, Pillow -Pak/Dry Packed","Michael Foods ",85018,null,"12/12",144,25,{"$f":"ROUND($H$46*$G$46/G46,2)","v":25},"Cs",24.52,{"$f":"IF(OR(ISBLANK(K46),K46=0,H46=0,ISBLANK(H46)),,ROUND(K46+$L$3,2))","v":24.52},{"$f":"ROUND(I46*L46,2)","v":613},{"$f":"ROUND(L46/G46,4)","v":0.17030000000000001},85018,"12/12",144,16.43,15,{"$f":"ROUND($T$6*S46,2)","v":8.09},{"$f":"IF(ISBLANK(O46),,R46+T46)","v":24.52},"Y",16.43,0.11409722222222222,{"$f":"IF(V46=\"N\",IF(ISNUMBER(R46),(R46+T46)/Q46))","v":false}]
[null,"Frozen, IQF, Fully cooked, 50-150 calories with no more than 4 g ","Sunny Fresh/Cargill ",50038,null,"8/18",144,null,{"$f":"ROUND($H$46*$G$46/G47,2)","v":25},"Cs",null,{"$f":"IF(OR(ISBLANK(K47),K47=0,H46=0,ISBLANK(H46)),,ROUND(K47+$L$3,2))","v":0},{"$f":"ROUND(I47*L47,2)","v":0},{"$f":"ROUND(L47/G47,4)","v":0},50038,"8/18",144,null,14.04,{"$f":"ROUND($T$6*S47,2)","v":7.57},{"$f":"IF(ISBLANK(O47),,R47+T47)","v":7.57},"Y"]
[null,"saturated fat and 350 mg sodium per serving.  One portion provides","Allmark ",63212,null,"12/12",144,null,{"$f":"ROUND($H$46*$G$46/G48,2)","v":25},"Cs",null,{"$f":"IF(OR(ISBLANK(K48),K48=0,H46=0,ISBLANK(H46)),,ROUND(K48+$L$3,2))","v":0},{"$f":"ROUND(I48*L48,2)","v":0},{"$f":"ROUND(L48/G48,4)","v":0}]
[null,"2 M/MA"]
[null,"Possible Allergens:  Egg, Milk, Soy"," ",null,null," "," ",null," "," ",null," "," "," ",null,null,null,null," "," ",null,null," ",null," "]
[18008,"French Toast Sticks, WG Cinnamon IW","(18-19) Sunny Fresh/Cargill ",40094,null,"110/2.90z",110,30,{"$f":"ROUND(H51*G51/G51,2)","v":30},"Cs",50.88,{"$f":"IF(OR(ISBLANK(K51),K51=0,H51=0,ISBLANK(H51)),,ROUND(K51+$L$3,2))","v":50.88},{"$f":"ROUND(I51*L51,2)","v":1526.4},{"$f":"ROUND(L51/G51,4)","v":0.46250000000000002},40094,"110/2.9z",110,47.52,6.24,{"$f":"ROUND($T$6*S51,2)","v":3.36},{"$f":"IF(ISBLANK(O51),,R51+T51)","v":50.88},"Y",47.52,0.43200000000000005,{"$f":"IF(V51=\"N\",IF(ISNUMBER(R51),(R51+T51)/Q51))","v":false}]
[null,"Frozen, Heat and Serve, 150-250 calories with no more than 2 g sat ",null,null,null,null,null,null,null,null,null,null,null,null,null,null,null,null," "," ",null,null," ",null," "]
[null,"fat and 350 mg sodium per svg. CN Labeled for three (3) sticks to "]
[null,"provide min. 1 M/MA and 1.5 OEG"," ",null,null,null,null,null,null,null,null,null,null,null,null,null,null,null," "," ",null,null," ",null," "]
[null,"Possible Allergens: Milk, Soy, Wheat"," ",null,null,null,null,null,null,null,null,null,null,null,null,null,null,null," "," ",null,null," ",null," "]
[]
[null,null,null,null,null,null,null,0,null,"Page Total",null,null,{"$f":"SUMIF(M9:M56,\">0\")","v":3186.4}]

{"sheet":"Frozen Potato ","index":12,"n_rows":98,"n_cols":25,"rows_kept":98,"cut":false,"hidden":false,"merged":[[0,5,0,13],[1,5,1,13],[2,6,2,10],[0,18,0,24],[2,15,4,15],[2,16,4,16]]}
[null,{"$f":"'Recap Sheet'!A2","v":"School Food Authority or Agency Name:"},null,null,null,{"$f":"'Recap Sheet'!A3","v":"Bidder's Name:"}]
[20001,{"$f":"'Recap Sheet'!B2","v":"Marion County School District"},"Return to Recap Sheet",null,null,{"$f":"'Recap Sheet'!B3","v":0}]
[22000,"Description","Approved",null,null,null,"Firm Fixed Fee",null,null,null,null,{"$f":"'Recap Sheet'!B4","v":0},null,null,"Manufacturer","Vendor Pack","Servings per case","Processing","Pounds of",null,"Total Cost","NOI ?","NOI ","Net NOI","Fee for Serivce"]
["SCPA",null,"Brand Name","Manufacturers","Distributor","Vendor","Svgs","Est.","Bid ","Bid","Unit","Unit Price","Total ","Cost per","USDA Product",null,null,"Fee For","DF Needed","Commodity","Proc Fee + ","Enter","Net ","Cost Per","Cost Per Serv."]
[" Code",null,"or Manufacturer","Code","Code","Pack","per unit","Bid Qty","Qty","Unit","Price","plus Fee","Price","Unit","Code",null,null,"Service","Per Case","Value ","Comm Value","Y or N","Price","Serving","Fee+ Commodity"]
[null,"Potato Products, Frz",null,null,null,null,null,null,null,null,null,null,null,null,"Potatos",null,100506,"Commodity Value per lb",null,0.1313]
[]
[20001,100,"McCain/Ore-Ida ","OIF00055A",null,"6/5 Lb ",160,null,{"$f":"ROUND(H8*G8/G8,2)","v":0},"Cs",20.45,{"$f":"IF(OR(ISBLANK(K8),K8=0,H8=0,ISBLANK(H8)),,ROUND(K8+$L$3,2))","v":0},{"$f":"ROUND(I8*L8,2)","v":0},{"$f":"ROUND(L8/G8,4)","v":0},"OIF00055A","6/5 lbs",160,0,54.55,{"$f":"ROUND($T$6*S8,2)","v":7.16},{"$f":"IF(ISBLANK(O8),,R8+T8)","v":7.16},"Y",13.29,8.3062499999999997E-2,{"$f":"IF(V8=\"N\",IF(ISNUMBER(R8),(R8+T8)/Q8))","v":false}]
[null,"Frozen. Made from white, USDA Grade A potatoes. Extra Long or Long Fancy.   ","Lamb Weston ","R45",null,"6/5 Lb ",160,null,{"$f":"ROUND(H8*G8/G9,2)","v":0},"Cs",null,{"$f":"IF(OR(ISBLANK(K9),K9=0,H8=0,ISBLANK(H8)),,ROUND(K9+$L$3,2))","v":0},{"$f":"ROUND(I9*L9,2)","v":0},{"$f":"ROUND(L9/G9,4)","v":0},"R45","6/5 lbs",160,null,54.55,{"$f":"ROUND($T$6*S9,2)","v":7.16},{"$f":"IF(ISBLANK(O9),,R9+T9)","v":7.16},"Y"]
[null,"No tropical oils, 0 trans fat, 100-150 calories, no more than 1g sat fat and no more than ","Simplot ",71179221227,null,"6/5 Lb ",160,null,{"$f":"ROUND(H8*G8/G10,2)","v":0},"Cs",null,{"$f":"IF(OR(ISBLANK(K10),K10=3,H8=0,ISBLANK(H8)),,ROUND(K10+$L$3,2))","v":0},{"$f":"ROUND(I10*L10,2)","v":0},{"$f":"ROUND(L10/G10,4)","v":0},71179221227,"6/5 lbs",160,null,54.55,{"$f":"ROUND($T$6*S10,2)","v":7.16},{"$f":"IF(ISBLANK(O10),,R10+T10)","v":7.16},"Y"]
[null,"50 mg sodium per 1/2c svg"]
[null,"Possible Allergens: None Listed "]
[20002,"French Fries, 3/8\" Straight Cut, Ovenable, Low Sodium","Simplot ",71179026709,null,"6/5 Lb",160,100,{"$f":"ROUND($H$13*$G$13/G13,2)","v":100},"Cs",0,{"$f":"IF(OR(ISBLANK(K13),K13=0,H13=0,ISBLANK(H13)),,ROUND(K13+$L$3,2))","v":0},{"$f":"ROUND(I13*L13,2)","v":0},{"$f":"ROUND(L13/G13,4)","v":0},71177926709,"6/5 lbs",160,null,54.55,{"$f":"ROUND($T$6*S13,2)","v":7.16},{"$f":"IF(ISBLANK(O13),,R13+T13)","v":7.16},"Y",false]
[null,"Frozen, Made from white, USDA Grade A potatoes. Extra Long or Long Fancy."]
[null,"No tropical oils, 0 trans fat, 100-150 calories, no more than 1g sat fat and no more than"]
[null,"30 mg sodium per 1/2c svg"]
[null,"Possible Allergens: None Listed "]
[20003,"French Fries, Shoestring 1/4-5/16\", Coated","Lamb Weston ","S34",null,"6/4.5 Lb",144,null,{"$f":"ROUND($H$18*$G$18/G18,2)","v":0},"Cs",null,{"$f":"IF(OR(ISBLANK(K18),K18=0,H18=0,ISBLANK(H18)),,ROUND(K18+$L$3,2))","v":0},{"$f":"ROUND(I18*L18,2)","v":0},{"$f":"ROUND(L18/G18,4)","v":0},"S34","6/4.5 lbs",144,null,49.09,{"$f":"ROUND($T$6*S18,2)","v":6.45},{"$f":"IF(ISBLANK(O18),,R18+T18)","v":6.45},"Y"]
[null,"Frozen, USDA LF or XLF, Grade A, Low moisture, 100-150 than 1 g saturated fat  and ","Simplot ",71179036357,null,"6/5 Lb",200,null,{"$f":"ROUND($H$18*$G$18/G19,2)","v":0},"Cs",null,{"$f":"IF(OR(ISBLANK(K19),K19=0,H18=0,ISBLANK(H18)),,ROUND(K19+$L$3,2))","v":0},{"$f":"ROUND(I19*L19,2)","v":0},{"$f":"ROUND(L19/G19,4)","v":0},71179036357,"6/5 lbs",200,null,54.55,7.16,{"$f":"IF(ISBLANK(O19),,R19+T19)","v":7.16},"Y"]
[null,"300 mg sodium per 1/2 cup veg serving","Cavendish ","56210-05311-2",null,"6/4.5 lb",191,null,{"$f":"ROUND($H$18*$G$18/G20,2)","v":0},"Cs",24.15,{"$f":"IF(OR(ISBLANK(K20),K20=3,H18=0,ISBLANK(H18)),,ROUND(K20+$L$3,2))","v":0},{"$f":"ROUND(I20*L20,2)","v":0},{"$f":"ROUND(L20/G20,4)","v":0},"56210-05311-2","6/4.5 lbs",191,0,49.09,6.45,{"$f":"IF(ISBLANK(O20),,R20+T20)","v":6.45},"Y",17.7,9.2670157068062822E-2,{"$f":"IF(V20=\"N\",IF(ISNUMBER(R20),(R20+T20)/Q20))","v":false}]
[null,"Possible Allergens:  None Listed "]
[20004,"French Fries, 3/8\", Regular cut (Fried or Baked) Coated","Lamb Weston ","S57",null,"6/5 Lb",160,null,{"$f":"ROUND(H22*G22/G22,2)","v":0},"Cs",null,{"$f":"IF(OR(ISBLANK(K22),K22=0,H22=0,ISBLANK(H22)),,ROUND(K22+$L$3,2))","v":0},{"$f":"ROUND(I22*L22,2)","v":0},{"$f":"ROUND(L22/G22,4)","v":0},"S57","6/5 lbs",160,null,54.55,{"$f":"ROUND($T$6*S22,2)","v":7.16},{"$f":"IF(ISBLANK(O22),,R22+T22)","v":7.16},"Y"]
[null,"Frozen. Made from white, USDA Grade A potatoes, Extra Long or Long Fancy. ","McCain ","MCF03788",null,"6/5 Lb",160,null,{"$f":"ROUND(H22*G22/G23,2)","v":0},"Cs",25.9,{"$f":"IF(OR(ISBLANK(K23),K23=0,H22=0,ISBLANK(H22)),,ROUND(K23+$L$3,2))","v":0},{"$f":"ROUND(I23*L23,2)","v":0},{"$f":"ROUND(L23/G23,4)","v":0},"MCF03788","6/5 lbs",160,0,54.55,7.16,{"$f":"IF(ISBLANK(O23),,R23+T23)","v":7.16},"Y",18.739999999999998,0.11712499999999999,{"$f":"IF(V23=\"N\",IF(ISNUMBER(R23),(R23+T23)/Q23))","v":false}]
[null,"No tropical oils, 0 trans fat, 50-150 calories, no more than 1g sat fat and no more than "]
[null,"400 mg sodium per 1/2c svg"]
[null,"Possible Allergens: None Listed "]
[20005,"French Fries, 3/8\" Straight Cut, (ovenable), Reduced Sodium, Seasoned ","McCain ","MCX04717",null,"6/5 Lb",160,100,{"$f":"ROUND(H27*G27/G27,2)","v":100},"Cs",31.3,{"$f":"IF(OR(ISBLANK(K27),K27=0,H27=0,ISBLANK(H27)),,ROUND(K27+$L$3,2))","v":31.3},{"$f":"ROUND(I27*L27,2)","v":3130},{"$f":"ROUND(L27/G27,4)","v":0.1956},"MCX04717","6/5 lbs",160,0,54.55,{"$f":"ROUND($T$6*S27,2)","v":7.16},{"$f":"IF(ISBLANK(O27),,R27+T27)","v":7.16},"Y",24.14,0.15087500000000001,{"$f":"IF(V27=\"N\",IF(ISNUMBER(R27),(R27+T27)/Q27))","v":false}]
[null,"Frozen. Made from white, USDA Grade A potatoes, Extra Long or Long Fancy with a blend   "]
[null,"of  spices. 100-150 Calories with 1g Sat fat and 150 mg Sodium per 1/2 c serving"]
[null,"No tropical oils. 0 Trans Fat.  "]
[null,"Possible Allergens: None Listed "]
[20006,"Potato Baby Bakers","Simplot ",71179000488,null,"6/2.5 lbs",73,null,{"$f":"ROUND(H32*G32/G32,2)","v":0},"Cs",0,{"$f":"IF(OR(ISBLANK(K32),K32=0,H32=0,ISBLANK(H32)),,ROUND(K32+$L$3,2))","v":0},{"$f":"ROUND(I32*L32,2)","v":0},{"$f":"ROUND(L32/G32,4)","v":0},7117900048,"6/2.5 lbs",73,null,18.75,{"$f":"ROUND($T$6*S32,2)","v":2.46},{"$f":"IF(ISBLANK(O32),,R32+T32)","v":2.46},"Y"]
[null,"Frozen, whole miniature potatoes seasoned with garlic and black pepper, bake and serve, "]
[null,"80-150 cals with no more than 1 g sat fat and 200 mg sodium per 1/2 cup vegetable serving"]
[null,"Possible Allergens: None Listed "]
[20007,"Potato Roasters","McCain ","MCF03927",null,"6/5 Lb",160,20,{"$f":"ROUND(H36*G36/G36,2)","v":20},"Cs",31,{"$f":"IF(OR(ISBLANK(K36),K36=0,H36=0,ISBLANK(H36)),,ROUND(K36+$L$3,2))","v":31},{"$f":"ROUND(I36*L36,2)","v":620},{"$f":"ROUND(L36/G36,4)","v":0.1938},"MCF03927","6/5 lbs",160,0,54.55,{"$f":"ROUND($T$6*S36,2)","v":7.16},{"$f":"IF(ISBLANK(O36),,R36+T36)","v":7.16},"Y",23.84,0.14899999999999999,{"$f":"IF(V36=\"N\",IF(ISNUMBER(R36),(R36+T36)/Q36))","v":false}]
[null,"Frozen, diced, roasted potatoes seasoned with garlic, rosemary and herbs, bake and serve, "]
[null,"100-200 cals with no more than 1 g sat fat and 200 mg of sodium per 1/2 c vegetable svg"]
[null,"Possible Allergens: None Listed "]
[20008,"Potato Rounds/Tots","Lamb Weston ","H30",null,"6/5 Lb",160,null,{"$f":"ROUND(H40*G40/G40,2)","v":0},"Cs",null,{"$f":"IF(OR(ISBLANK(K40),K40=0,H40=0,ISBLANK(H40)),,ROUND(K40+$L$3,2))","v":0},{"$f":"ROUND(I40*L40,2)","v":0},{"$f":"ROUND(L40/G40,4)","v":0},"H30","6/5 lbs",160,null,54.55,{"$f":"ROUND($T$6*S40,2)","v":7.16},{"$f":"IF(ISBLANK(O40),,R40+T40)","v":7.16},"Y"]
[null,"Frozen, Grade A, Crisp golden brown exterior, 100-200 calories with no more than 2 g ","McCain/Ore-Ida ","OIF00215A",null,"6/5 Lb",160,null,{"$f":"ROUND(H40*G40/G41,2)","v":0},"Cs",24.7,{"$f":"IF(OR(ISBLANK(K41),K41=0,H40=0,ISBLANK(H40)),,ROUND(K41+$L$3,2))","v":0},{"$f":"ROUND(I41*L41,2)","v":0},{"$f":"ROUND(L41/G41,4)","v":0},"OIF00215A","6/5 lbs",160,0,54.55,7.16,{"$f":"IF(ISBLANK(O41),,R41+T41)","v":7.16},"Y",17.54,0.109625,{"$f":"IF(V41=\"N\",IF(ISNUMBER(R41),(R41+T41)/Q41))","v":false}]
[null,"sat fat and 350 mg per 1/2 c vegetable serving","Simplot ",71179004189,null,"6/5 Lb",160,null,{"$f":"ROUND(H40*G40/G42,2)","v":0},"Cs",null,{"$f":"IF(OR(ISBLANK(K42),K42=0,H40=0,ISBLANK(H40)),,ROUND(K42+$L$3,2))","v":0},{"$f":"ROUND(I42*L42,2)","v":0},{"$f":"ROUND(L42/G42,4)","v":0},71179004189,"6/5 lbs",160,null,54.55,7.16,{"$f":"IF(ISBLANK(O42),,R42+T42)","v":7.16},"Y"]
[null,"Possible Allergens: Soy"]
[20009,"Potato Rounds/Tots, Low Sodium","(18-19) McCain/Ore-Ida ",1000002789,null,"6/5 Lb",156,200,{"$f":"ROUND(H44*G44/G44,2)","v":200},"Cs",31.1,{"$f":"IF(OR(ISBLANK(K44),K44=0,H44=0,ISBLANK(H44)),,ROUND(K44+$L$3,2))","v":31.1},{"$f":"ROUND(I44*L44,2)","v":6220},{"$f":"ROUND(L44/G44,4)","v":0.19939999999999999},1000002789,"6/5 lbs",156,0,54.55,{"$f":"ROUND($T$6*S44,2)","v":7.16},{"$f":"IF(ISBLANK(O44),,R44+T44)","v":7.16},"Y",23.94,0.15346153846153848,{"$f":"IF(V44=\"N\",IF(ISNUMBER(R44),(R44+T44)/Q44))","v":false}]
[null,"Frozen, Grade A, Crisp golden brown exterior, 90-200 calories with no more than 2 g sat fat "]
[null,"and 170 mg sodium per 1/2 c vegetable serving"]
[null,"Possible Allergens: None Listed "]
[20010,"Potato, Shaped ","McCain/Ore-Ida ","OIF03456 ",null,"6/4 lb",128,null,{"$f":"ROUND(H48*G48/G48,2)","v":0},"Cs",27.82,{"$f":"IF(OR(ISBLANK(K48),K48=0,H48=0,ISBLANK(H48)),,ROUND(K48+$L$3,2))","v":0},{"$f":"ROUND(I48*L48,2)","v":0},{"$f":"ROUND(L48/G48,4)","v":0},"OIF03456","6/4 lbs",128,0,43.64,{"$f":"ROUND($T$6*S48,2)","v":5.73},{"$f":"IF(ISBLANK(O48),,R48+T48)","v":5.73},"Y",22.09,0.172578125,{"$f":"IF(V48=\"N\",IF(ISNUMBER(R48),(R48+T48)/Q48))","v":false}]
[null,"Frozen, mashed and formed, 100-200 calories with no more than 1 g sat fat and 200 mg ","Lamb Weston ","S0026",null,"6/5 lb",160,null,{"$f":"ROUND(H48*G48/G49,2)","v":0},"Cs",null,{"$f":"IF(OR(ISBLANK(K49),K49=0,H48=0,ISBLANK(H48)),,ROUND(K49+$L$3,2))","v":0},{"$f":"ROUND(I49*L49,2)","v":0},{"$f":"ROUND(L49/G49,4)","v":0},"S0026","6/5 lbs",160,null,54.55,7.16,{"$f":"IF(ISBLANK(O49),,R49+T49)","v":7.16},"Y"]
[null,"sodium per 1/2 c vegetable serving"]
[null,"Possible Allergens:  None Listed "]
[20011,"Potato, Emoticon Mashed Potato Shapes","McCain ",1000006639,null,"6/4 lbs",128,null,{"$f":"ROUND(H52*G52/G52,2)","v":0},"Cs",26.79,{"$f":"IF(OR(ISBLANK(K52),K52=0,H52=0,ISBLANK(H52)),,ROUND(K52+$L$3,2))","v":0},{"$f":"ROUND(I52*L52,2)","v":0},{"$f":"ROUND(L52/G52,4)","v":0},1000006639,"6/4 lbs",128,0,36.22,{"$f":"ROUND($T$6*S52,2)","v":4.76},{"$f":"IF(ISBLANK(O52),,R52+T52)","v":4.76},"Y",22.03,0.17210937500000001,{"$f":"IF(V52=\"N\",IF(ISNUMBER(R52),(R52+T52)/Q52))","v":false}]
[null,"Frozen, mashed and formed, 100-200 calories with no more than 1 g sat fat and 200 mg "]
[null,"sodium per 1/2 c vegetable serving.  Four pieces is equal to 1/2 cup serving"]
[null,"Possible Allergens:  None Listed "]
[20012,"French Fries, Spirals, Battered Red Sodium","(18-19) McCain/Ore-Ida ",1000004108,null,"6/4 lbs",183,50,{"$f":"ROUND(H56*G56/G56,2)","v":50},"Cs",25.99,{"$f":"IF(OR(ISBLANK(K56),K56=0,H56=0,ISBLANK(H56)),,ROUND(K56+$L$3,2))","v":25.99},{"$f":"ROUND(I56*L56,2)","v":1299.5},{"$f":"ROUND(L56/G56,4)","v":0.14199999999999999},1000004108,"6/4 lbs",183,0,43.64,{"$f":"ROUND($T$6*S56,2)","v":5.73},{"$f":"IF(ISBLANK(O56),,R56+T56)","v":5.73},"Y",20.259999999999998,0.11071038251366119,{"$f":"IF(V56=\"N\",IF(ISNUMBER(R56),(R56+T56)/Q56))","v":false}]
[null,"Frozen, USDA Grade A, 100-200 calories with no more thatn 1 g saturated fat and 200 mg "]
[null,"sodium per 1/2 c vegetable serving"]
[null,"Possible Allergens:  None Listed "]
[20013,"Potato Sticks, Seasoned Reduced Sodium ","McCain ","MCX04717",null,"6/5 Lb",160,50,{"$f":"ROUND(H60*G60/G60,2)","v":50},"Cs",null,{"$f":"IF(OR(ISBLANK(K60),K60=0,H60=0,ISBLANK(H60)),,ROUND(K60+$L$3,2))","v":0},{"$f":"ROUND(I60*L60,2)","v":0},{"$f":"ROUND(L60/G60,4)","v":0},"MCX04717","6/5 lbs",160,0,54.55,{"$f":"ROUND($T$6*S60,2)","v":7.16},{"$f":"IF(ISBLANK(O60),,R60+T60)","v":7.16},"Y",null,null,{"$f":"IF(V60=\"N\",IF(ISNUMBER(R60),(R60+T60)/Q60))","v":false}]
[null,"Frozen, USDA Grade A 100-200 calories with no more than 1 g sat fat and 150 mg sodium "]
[null,"per 1/2 c veg svg."]
[null,"Possible Allergens:  None Listed "]
[20014,"Potato Waffle Cut","McCain/Ore-Ida ","MCL03623",null,"6/5 Lb",144,150,{"$f":"ROUND(H64*G64/G64,2)","v":150},"Cs",26.81,{"$f":"IF(OR(ISBLANK(K64),K64=0,H64=0,ISBLANK(H64)),,ROUND(K64+$L$3,2))","v":26.81},{"$f":"ROUND(I64*L64,2)","v":4021.5},{"$f":"ROUND(L64/G64,4)","v":0.1862},"MCL03623","6/4.5 lbs",144,0,49.09,{"$f":"ROUND($T$6*S64,2)","v":6.45},{"$f":"IF(ISBLANK(O64),,R64+T64)","v":6.45},"Y",20.36,0.1413888888888889,{"$f":"IF(V64=\"N\",IF(ISNUMBER(R64),(R64+T64)/Q64))","v":false}]
[null,"Frozen, USDA Grade A, 100-200 calories with no more than 2 g saturated fat and 600 mg  "]
[null,"sodium per 1/2 c vegetable serving"]
[null,"Possible Allergens:  None Listed "]
[20015,"Potato Wedge, 8-10 Cut, (Bake or Fry)","McCain/Ore-Ida ","OIF00024A",null,"6/5 Lb",160,150,{"$f":"ROUND(H68*G68/G68,2)","v":150},"Cs",26.88,{"$f":"IF(OR(ISBLANK(K68),K68=0,H68=0,ISBLANK(H68)),,ROUND(K68+$L$3,2))","v":26.88},{"$f":"ROUND(I68*L68,2)","v":4032},{"$f":"ROUND(L68/G68,4)","v":0.16800000000000001},"OIF00024A","6/5 lbs",160,0,54.55,{"$f":"ROUND($T$6*S68,2)","v":7.16},{"$f":"IF(ISBLANK(O68),,R68+T68)","v":7.16},"Y",19.72,0.12325,{"$f":"IF(V68=\"N\",IF(ISNUMBER(R68),(R68+T68)/Q68))","v":false}]
[null,"Frozen, USDA Grade A, 50-150 calories with no more than 1 g saturated fat and 50 mg ","Simplot ",71179238010,null,"6/5 Lb",160,null,{"$f":"ROUND(H68*G68/G69,2)","v":150},"Cs",null,{"$f":"IF(OR(ISBLANK(K69),K69=0,H68=0,ISBLANK(H68)),,ROUND(K69+$L$3,2))","v":0},{"$f":"ROUND(I69*L69,2)","v":0},{"$f":"ROUND(L69/G69,4)","v":0},71179238010,"6/5 lbs",160,null,54.55,7.16,{"$f":"IF(ISBLANK(O69),,R69+T69)","v":7.16},"Y"]
[null,"sodium per 1/2 c vegetable serving"]
[null,"Possible Allergens:  None Listed "]
[20016,"Hash Brown Rounds ","(18-19_ McCain ",1000006188,null,"6/5 Lb",160,50,{"$f":"ROUND(H72*G72/G72,2)","v":50},"Cs",34,{"$f":"IF(OR(ISBLANK(K72),K72=0,H72=0,ISBLANK(H72)),,ROUND(K72+$L$3,2))","v":34},{"$f":"ROUND(I72*L72,2)","v":1700},{"$f":"ROUND(L72/G72,4)","v":0.21249999999999999},1000000496,"6/5 lbs",160,0,54.55,{"$f":"ROUND($T$6*S72,2)","v":7.16},{"$f":"IF(ISBLANK(O72),,R72+T72)","v":7.16},"Y",26.84,0.16775000000000001,{"$f":"IF(V72=\"N\",IF(ISNUMBER(R72),(R72+T72)/Q72))","v":false}]
[null,"Frozen, USDA Grade A, 50-150 calories with no more than 1 g saturated fat and 250 mg "]
[null,"sodium per 1/2c vegetable serving"]
[null,"Possible Allergens:  None Listed "]
[null,"Category:  Sweet Potatoes",null,null,null,null,null,null,null,null,null,null,null,null,"Sweet Potatos",null,100980,null,null,0.2646]
[20017,"Potato, Sweet Potato Fries, 3/8\" Crinkle Cut","Lamb Weston ","L0084",null,"5/3 Lb",80,100,{"$f":"ROUND(H77*G77/G77,2)","v":100},"Cs",0,{"$f":"IF(OR(ISBLANK(K77),K77=0,H77=0,ISBLANK(H77)),,ROUND(K77+$L$3,2))","v":0},{"$f":"ROUND(I77*L77,2)","v":0},{"$f":"ROUND(L77/G77,4)","v":0},"L0084","5/3 lbs",80,null,29.41,{"$f":"ROUND($T$76*S77,2)","v":7.78},{"$f":"IF(ISBLANK(O77),,R77+T77)","v":7.78},"Y"]
[null,"Frozen, Grade A, 80-200 calories with no more than 1 g sat fat and 250 mg sodium per ","Simplot ",71179020356,null,"6/2.5 Lb",80,null,{"$f":"ROUND(H77*G77/G78,2)","v":100},"Cs",0,{"$f":"IF(OR(ISBLANK(K78),K78=0,H77=0,ISBLANK(H77)),,ROUND(K78+$L$3,2))","v":0},{"$f":"ROUND(I78*L78,2)","v":0},{"$f":"ROUND(L78/G78,4)","v":0},71179020356,"6/2.5 lbs",80,null,29.41,{"$f":"ROUND($T$76*S78,2)","v":7.78},{"$f":"IF(ISBLANK(O78),,R78+T78)","v":7.78},"Y"]
[null,"1/2 c Red/Orange Veg serving "]
[null,"Possible Allergens:  None Listed "]
[20018,"Potato, Sweet Potato Fries  3/8\" Straight Cut","Lamb Weston ","L8000",null,"5/3 Lb",80,null,{"$f":"ROUND(H81*G81/G81,2)","v":0},"Cs",0,{"$f":"IF(OR(ISBLANK(K81),K81=0,H81=0,ISBLANK(H81)),,ROUND(K81+$L$3,2))","v":0},{"$f":"ROUND(I81*L81,2)","v":0},{"$f":"ROUND(L81/G81,4)","v":0},null,null,null,null,29.41,{"$f":"ROUND($T$76*S81,2)","v":7.78},{"$f":"IF(ISBLANK(O81),,R81+T81)","v":0},"Y",false]
[null,"Frozen, Grade A, 80-200 calories with no more than 1 g sat fat and 250 mg sodium per "]
[null,"1/2 c Red/Orange Veg serving "]
[null,"Possible Allergens:  None Listed "]
[20019,"Potato, Sweet Potato, Waffle Cut ","Lamb Weston ","L0090",null,"5/3 Lb",80,100,{"$f":"ROUND(H85*G85/G85,2)","v":100},"Cs",null,{"$f":"IF(OR(ISBLANK(K85),K85=0,H85=0,ISBLANK(H85)),,ROUND(K85+$L$3,2))","v":0},{"$f":"ROUND(I85*L85,2)","v":0},{"$f":"ROUND(L85/G85,4)","v":0},"L0090","5/3 lbs",80,null,29.41,{"$f":"ROUND($T$76*S85,2)","v":7.78},{"$f":"IF(ISBLANK(O85),,R85+T85)","v":7.78},"Y",false]
[null,"Frozen, Grade A. 50-200 calories with no more than 2 g sat fat and 250 mg sodium per","McCain ","MCF05074",null,"6/2.5 lbs",80,null,{"$f":"ROUND(H85*G85/G86,2)","v":100},"Cs",24.38,{"$f":"IF(OR(ISBLANK(K86),K86=0,H85=0,ISBLANK(H85)),,ROUND(K86+$L$3,2))","v":24.38},{"$f":"ROUND(I86*L86,2)","v":2438},{"$f":"ROUND(L86/G86,4)","v":0.30480000000000002},"MCF05074","6/2.5lbs",80,0,29.41,{"$f":"ROUND($T$76*S86,2)","v":7.78},{"$f":"IF(ISBLANK(O86),,R86+T86)","v":7.78},"Y",16.599999999999998,0.20749999999999996,{"$f":"IF(V86=\"N\",IF(ISNUMBER(R86),(R86+T86)/Q86))","v":false}]
[null,"1/2 c Red/Orange Veg serving "]
[null,"Possible Allergens:  None Listed "]
[20020,"Sweet Potato Mini Puffs","Lamb Weston ","L0094",null,"6/2.5 lbs",80,300,{"$f":"ROUND(H89*G89/G89,2)","v":300},"Cs",0,{"$f":"IF(OR(ISBLANK(K89),K89=0,H89=0,ISBLANK(H89)),,ROUND(K89+$L$3,2))","v":0},{"$f":"ROUND(I89*L89,2)","v":0},{"$f":"ROUND(L89/G89,4)","v":0},"L0094","6/2.5 lbs",80,null,29.41,{"$f":"ROUND($T$76*S89,2)","v":7.78},{"$f":"IF(ISBLANK(O89),,R89+T89)","v":7.78},"Y",false]
[null,"Frozen. Grade A , 100-200 calories with no more than 1 g sat fat and 250 mg"," ",null," "," "," ",null," "," ",null," "," "," ",null,null,null,null," "," ",null,null,null," "," "]
[null,"and 250 mg sodium per 1/2 c Red/Orange Veg. "]
[null,"Possible Allergens:  None Listed "]
[20021,"Sweet Potato Wedge, 10 cut","McCain ","MCF04712",null,"6/2.5 lbs",80,null,{"$f":"ROUND(H93*G93/G93,2)","v":0},"Cs",23.79,{"$f":"IF(OR(ISBLANK(K93),K93=0,H93=0,ISBLANK(H93)),,ROUND(K93+$L$3,2))","v":0},{"$f":"ROUND(I93*L93,2)","v":0},{"$f":"ROUND(L93/G93,4)","v":0},"MC04712","6/2.5 lbs",80,0,29.41,{"$f":"ROUND($T$76*S93,2)","v":7.78},{"$f":"IF(ISBLANK(O93),,R93+T93)","v":7.78},"Y",16.009999999999998,0.20012499999999997,{"$f":"IF(V93=\"N\",IF(ISNUMBER(R93),(R93+T93)/Q93))","v":false}]
[null,"Frozen, Grade A 100-200 calories with no more than 1 g sat fat and 250 mg sodium per "," ",null,null," "," ",null," "," ",null," "," "," ",null,null,null,null," "," ",null,null,null," "," "]
[null,"1/2 c Red/Orange Veg serving "]
[null,"Possible Allergens:  None Listed "]
[]
[null,null,null,null,null,null,null,null,null,"Page Total",null,null,{"$f":"SUMIF(M6:M96,\">0\")","v":23461}]

{"sheet":"Fruit","index":13,"n_rows":128,"n_cols":25,"rows_kept":128,"cut":false,"hidden":false,"merged":[[84,1,84,6],[0,5,0,13],[1,5,1,13],[2,6,2,10],[0,18,0,23],[2,15,4,15],[2,16,4,16]]}
[null,{"$f":"'Recap Sheet'!A2","v":"School Food Authority or Agency Name:"},null,null,null,{"$f":"'Recap Sheet'!A3","v":"Bidder's Name:"}]
[22001,{"$f":"'Recap Sheet'!B2","v":"Marion County School District"},"Return to Recap Sheet",null,null,{"$f":"'Recap Sheet'!B3","v":0}]
[24000,"Description","Approved",null,null,null,"Firm Fixed Fee",null,null,null,null,{"$f":"'Recap Sheet'!B4","v":0},null,null,"Manufacturer","Vendor Pack","Servings per case","Processing","Pounds of",null,"Total Cost","NOI ?","Net ","Net NOI","Fee for Serivce"]
["SCPA","Federal Regulations require that all foods purchased for Child Nutrition Programs be of \"domestic origin\" to the ","Brand Name","Manufacturers","Distributor","Vendor","Svgs","Est.","Bid ","Bid","Unit","Unit Price","Total ","Cost per","USDA Product",null,null,"Fee for ","DF Needed","Commodity","Proc Fee + ","Enter","NOI ","Cost Per ","Cost Per Serv."]
[" Code","maximum extent possible with two exceptions. In addition, mandarin oranges & pineapple are exempt from requirement.","or Manufacturer","Code","Code","Pack","per unit","Bid Qty","Qty","Unit","Price","plus Fee","Price","Unit","Code",null,null,"Service","Per Case","Value ","Comm Value","Y or N","Price","Serving","Fee+ Commodity"]
[null,"Shelf-stable Fruit ",null,null,null,null,null,null,null,null,null,null,null,null,"Apples",null,110149,"Commodity Value per lb",null,0.2722]
[]
[22001,"Applesauce, Cups, Sweetened","National Food Group ","A1500-282A",null,"96/4.5z",96,null,{"$f":"ROUND($H$8*$G$8/G8,2)","v":0},"Cs",19.489999999999998,{"$f":"IF(OR(ISBLANK(K8),K8=0,H8=0,ISBLANK(H8)),,ROUND(K8+$L$3,2))","v":0},{"$f":"ROUND(I8*L8,2)","v":0},{"$f":"ROUND(L8/G8,4)","v":0},"A1500","96/4.50 oz",96,16.77,10,{"$f":"ROUND($T$6*S8,2)","v":2.72},{"$f":"IF(ISBLANK(O8),,R8+T8)","v":19.489999999999998},"Y",16.77,0.1746875,{"$f":"IF(V8=\"N\",IF(ISNUMBER(R8),(R8+T8)/Q8))","v":false}]
[null,"Shelf Stable, Individual portion cup, color foil or mylar top","White House/Ntl Fruit ","718-1884",null,"96/4.5z",96,null,{"$f":"ROUND($H$8*$G$8/G9,2)","v":0},"Cs",null,{"$f":"IF(OR(ISBLANK(K9),K9=0,H8=0,ISBLANK(H8)),,ROUND(K9+$L$3,2))","v":0},{"$f":"ROUND(I9*L9,2)","v":0},{"$f":"ROUND(L9/G9,4)","v":0},null,null,null,null,null,null,null,null,null,null,{"$f":"R9/G9","v":0}]
[null,"One portion provides 1/2 c FV for CN programs No Imports",null,null,null,null,null,null,null,null,null,null,null,null,null,null,null,null,null,null,null,null,null,null," "]
[22002,"Applesauce, Cups, Unsweetened","National Food Group ","A3500-282A",null,"96/4.5z",96,500,{"$f":"ROUND($H$11*$G$11/G11,2)","v":500},"Cs",null,{"$f":"IF(OR(ISBLANK(K11),K11=0,H11=0,ISBLANK(H11)),,ROUND(K11+$L$3,2))","v":0},{"$f":"ROUND(I11*L11,2)","v":0},{"$f":"ROUND(L11/G11,4)","v":0},"A3500","96/4.50 oz",96,16.77,10,{"$f":"ROUND($T$6*S11,2)","v":2.72},{"$f":"IF(ISBLANK(O11),,R11+T11)","v":19.489999999999998},"Y",16.77,0.1746875,{"$f":"IF(V11=\"N\",IF(ISNUMBER(R11),(R11+T11)/Q11))","v":false}]
[null,"Shelf Stable, Individual portion cup, color foil or mylar top","Motts ",10065615,null,"72/4.5z",72,null,{"$f":"ROUND($H$11*$G$11/G12,2)","v":666.67},"Cs",13.68,{"$f":"IF(OR(ISBLANK(K12),K12=0,H11=0,ISBLANK(H11)),,ROUND(K12+$L$3,2))","v":13.68},9120.0499999999993,0.19,null,null,null,null,null,null,null,null,null,null,{"$f":"R12/G12","v":0}]
[null,"One portion provides 1/2 c FV for CN programs No Imports","Knouse (Musselman) ","FFASU1350MUS01",null,"96/4.5z",96,null,{"$f":"ROUND($H$11*$G$11/G13,2)","v":500},"Cs",null,{"$f":"IF(OR(ISBLANK(K13),K13=0,H11=0,ISBLANK(H11)),,ROUND(K13+$L$3,2))","v":0},0,0,null,null,null,null,null,null,null,null,null,null,0]
[null," ","White House/Ntl Fruit ","717-1884",null,"96/4.5z",96,null,{"$f":"ROUND($H$11*$G$11/G14,2)","v":500},"Cs",null,{"$f":"IF(OR(ISBLANK(K14),K14=0,H11=0,ISBLANK(H11)),,ROUND(K14+$L$3,2))","v":0},0,0,null,null,null,null,null,null,null,null,null,null,0]
[null,null,"Peterson Farms","ASA10001",null,"96/4.5z",96,null,{"$f":"ROUND($H$11*$G$11/G15,2)","v":500},"Cs",null,{"$f":"IF(OR(ISBLANK(K15),K15=0,H11=0,ISBLANK(H11)),,ROUND(K15+$L$3,2))","v":0},{"$f":"ROUND(I15*L15,2)","v":0},{"$f":"ROUND(L15/G15,4)","v":0},"ASA10001","96/4.50 oz",96,null,15,{"$f":"ROUND($T$6*S15,2)","v":4.08},{"$f":"IF(ISBLANK(O15),,R15+T15)","v":4.08},"Y"]
[22003,"Applesauce, Strawberry Flavor, Shelf Stable Cup","National Food Group ","A1590-235A",null,"96/4.,5z",96,null,{"$f":"ROUND($H$16*$G$16/G16,2)","v":0},"Cs",null,{"$f":"IF(OR(ISBLANK(K16),K16=0,H16=0,ISBLANK(H16)),,ROUND(K16+$L$3,2))","v":0},0,0,"A1590","96/4.5 oz.",96,16.77,10,{"$f":"ROUND($T$6*S16,2)","v":2.72},{"$f":"IF(ISBLANK(O16),,R16+T16)","v":19.489999999999998},"Y",16.77,0.1746875,{"$f":"IF(V16=\"N\",IF(ISNUMBER(R16),(R16+T16)/Q16))","v":false}]
[null,"Shelf Stable, Individual portion cup, color foil or mylar top","Motts ",10065614,null,"72/4.5z",72,null,{"$f":"ROUND($H$16*$G$16/G17,2)","v":0},"Cs",13.68,{"$f":"IF(OR(ISBLANK(K17),K17=0,H16=0,ISBLANK(H16)),,ROUND(K17+$L$3,2))","v":0},0,0,null,null,null,null,null,null,null,null,null,null,0]
[null,"One portion provides 1/2 c FV for CN programs No Imports","Knouse (Musselman) ","FFASU1403MUS01",null,"96/4.5z",96,null,{"$f":"ROUND($H$16*$G$16/G18,2)","v":0},"Cs",null,{"$f":"IF(OR(ISBLANK(K18),K18=0,H16=0,ISBLANK(H16)),,ROUND(K18+$L$3,2))","v":0},{"$f":"ROUND(I18*L18,2)","v":0},0,null,null,null,null,null,null,null,null,null,null,0]
[null,null,"Peterson Farms","ASA10014",null,"96/4.5z",96,null,0,"Cs",null,{"$f":"IF(OR(ISBLANK(K19),K19=0,H16=0,ISBLANK(H16)),,ROUND(K19+$L$3,2))","v":0},0,0," ASA10014 ","96/4.50 oz",96,null,15,null,null,"Y"]
[22004,"Applesauce, Strawberry Banana Flavor, Shelf Stable Cup","National Food Group ","A3790-235A",null,"96/4.,5z",96,null,{"$f":"ROUND($H$20*$G$20/G20,2)","v":0},"Cs",20.49,{"$f":"IF(OR(ISBLANK(K20),K20=0,H20=0,ISBLANK(H20)),,ROUND(K20+$L$3,2))","v":0},{"$f":"ROUND(I20*L20,2)","v":0},0,"A3790","96/4.50 oz",96,17.77,10,{"$f":"ROUND($T$6*S20,2)","v":2.72},{"$f":"IF(ISBLANK(O20),,R20+T20)","v":20.49},"Y",17.77,0.18510416666666665,{"$f":"IF(V20=\"N\",IF(ISNUMBER(R20),(R20+T20)/Q20))","v":false}]
[null,"Shelf Stable, Individual portion cup, color foil or mylar top","Peterson Farms","ASA10014",null,"96/4.5z",96,null,{"$f":"ROUND($H$20*$G$20/G21,2)","v":0},"Cs",null,{"$f":"IF(OR(ISBLANK(K21),K21=0,H20=0,ISBLANK(H20)),,ROUND(K21+$L$3,2))","v":0},{"$f":"ROUND(I21*L21,2)","v":0},0,"ASA10015","96/4.50 oz",96,null,15,{"$f":"ROUND($T$6*S21,2)","v":4.08},{"$f":"IF(ISBLANK(O21),,R21+T21)","v":4.08},"Y"]
[null,"One portion provides 1/2 c FV for CN programs No Imports",null,null,null,null,null,null,null,null,null,null,null,null,null,null,null,null,null,null,null,null,null,null," "]
[]
[22005,"Applesauce, Cinnamon, Shelf Stable Cup","National Food Group ","A1510-282A",null,"96/4.5z",96,null,{"$f":"ROUND($H$24*$G$24/G24,2)","v":0},"Cs",24.25,{"$f":"IF(OR(ISBLANK(K24),K24=0,H24=0,ISBLANK(H24)),,ROUND(K24+$L$3,2))","v":0},{"$f":"ROUND(I24*L24,2)","v":0},{"$f":"ROUND(L24/G24,4)","v":0},"A1510","96/4.50 oz",96,21.53,10,{"$f":"ROUND($T$6*S24,2)","v":2.72},{"$f":"IF(ISBLANK(O24),,R24+T24)","v":24.25},"Y",21.53,0.22427083333333334,{"$f":"IF(V24=\"N\",IF(ISNUMBER(R24),(R24+T24)/Q24))","v":false}]
[null,"Shelf Stable, Individual portion cup, color foil or mylar top"," ",null,null,null,null,null,null,null,null,null,null,null,null,null,null,null,null,null,null,null,null,null," "]
[null,"One portion provides 1/2 c FV for CN programs No Imports",null,null,null,null,null,null,null,null,null,null,null,null,null,null,null,null,null,null,null,null,null,null," "]
[]
[22006,"Applesauce, Blue Raspberry, Shelf Stable Cups","National Food Group ","A3530-282A",null,"96/4.5z",96,null,{"$f":"ROUND($H$28*$G$28/G28,2)","v":0},"Cs",24.25,{"$f":"IF(OR(ISBLANK(K28),K28=0,H28=0,ISBLANK(H28)),,ROUND(K28+$L$3,2))","v":0},{"$f":"ROUND(I28*L28,2)","v":0},{"$f":"ROUND(L28/G28,4)","v":0},"A3530","96/4.50 oz",96,21.53,10,{"$f":"ROUND($T$6*S28,2)","v":2.72},{"$f":"IF(ISBLANK(O28),,R28+T28)","v":24.25},"Y",21.53,0.22427083333333334,{"$f":"IF(V28=\"N\",IF(ISNUMBER(R28),(R28+T28)/Q28))","v":false}]
[null,"Shelf Stable, Individual portion cup, color foil or mylar top"," ",null,null,null,null,null,null,null,null,null,null,null,null,null,null,null,null,null,null,null,null,null," "]
[null,"One portion provides 1/2 c FV for CN programs No Imports",null,null,null,null,null,null,null,null,null,null,null,null,null,null,null,null,null,null,null,null,null,null," "]
[null,"Peaches",null,null,null,null,null,null,null,null,null,null,null,null,"Peaches",null,100220,null,null,0.78849999999999998,null,null,null,null," "]
[22007,"Peaches, Diced, Shelf Stable Cups","National Food Group ","A1740-235A",null,"72/4.5z",72,100,{"$f":"ROUND($H$32*$G$32/G32,2)","v":100},"Cs",40.89,{"$f":"IF(OR(ISBLANK(K32),K32=0,H32=0,ISBLANK(H32)),,ROUND(K32+$L$3,2))","v":40.89},{"$f":"ROUND(I32*L32,2)","v":4089},{"$f":"ROUND(L32/G32,4)","v":0.56789999999999996},1740,"72/4.50 oz",72,24.89,20.25,{"$f":"ROUND($T$31*S32,2)","v":15.97},{"$f":"IF(ISBLANK(O32),,R32+T32)","v":40.86},"Y",24.92,0.34611111111111115,{"$f":"IF(V32=\"N\",IF(ISNUMBER(R32),(R32+T32)/Q32))","v":false}]
[null,"Shelf Stable, Individual portion cup, color foil or mylar top"," ",null,null,null,null,null,null,null,null,null,null,null,null,null,null,null,null,null,null,null,null,null," "]
[null,"One portion provides 1/2 c FV for CN programs No Imports",null,null,null,null,null,null,null,null,null,null,null,null,null,null,null,null,null,null,null,null,null,null," "]
[null,"Pears ",null,null,null,null,null,null,null,null,null,null,null,null,"Pears",null,100225,null,null,0.77380000000000004,null,null,null,null," "]
[22008,"Pears, Diced, Shelf Stable Cups","National Food Group ","A1780-235A",null,"72/4.5z",72,100,{"$f":"ROUND($H$36*$G$36/G36,2)","v":100},"Cs",40.86,{"$f":"IF(OR(ISBLANK(K36),K36=0,H36=0,ISBLANK(H36)),,ROUND(K36+$L$3,2))","v":40.86},{"$f":"ROUND(I36*L36,2)","v":4086},{"$f":"ROUND(L36/G36,4)","v":0.5675},1780,"72/4.50 oz",72,25.19,20.25,{"$f":"ROUND($T$35*S36,2)","v":15.67},{"$f":"IF(ISBLANK(O36),,R36+T36)","v":40.86},"Y",25.189999999999998,0.34986111111111107,{"$f":"IF(V36=\"N\",IF(ISNUMBER(R36),(R36+T36)/Q36))","v":false}]
[null,"Shelf Stable, Individual portion cup, color foil or mylar top"," ",null,null,null,null,null,null,null,null,null,null,null,null,null,null,null,null,null,null,null,null,null," "]
[null,"One portion provides 1/2 c FV for CN programs No Imports",null,null,null,null,null,null,null,null,null,null,null,null,null,null,null,null,null,null,null,null,null,null," "]
[22009,"Fruit Snack, Dried Cranberries, I/W                          Meets 1/2 c Fruit","Oceanspray  Craisins",null,null,"200/1.16z",200,50,{"$f":"ROUND(H39*G39/G39,2)","v":50},"Cs",40,{"$f":"IF(OR(ISBLANK(K39),K39=0,H39=0,ISBLANK(H39)),,ROUND(K39+$L$3,2))","v":40},{"$f":"ROUND(I39*L39,2)","v":2000},{"$f":"ROUND(L39/G39,4)","v":0.2},null,null,null,null,null,null,null,null,null,null," "]
[null,"Shelf Stable","Discontinued by Manufacturer Blueberry",23446,null,null,null,null,null,null,null,null,null,null,null,null,null,null,null,null,null,null,null,null," "]
[null,null,"Cherry",23444,null,null,null,null,null,null,null,null,null,null,null,null,null,null,null,null,null,null,null,null," "]
[null,null,"Strawberry",23445,null,null,null,null,null,null,null,null,null,null,null,null,null,null,null,null,null,null,null,null," "]
[22010,null,null,null,null,null,null,null,{"$f":"ROUND(H43*G43/G43,2)","v":{"$error":"#DIV/0!"}},"Cs",null,{"$f":"IF(OR(ISBLANK(K43),K43=0,H43=0,ISBLANK(H43)),,ROUND(K43+$L$3,2))","v":0},{"$f":"ROUND(I43*L43,2)","v":{"$error":"#DIV/0!"}},{"$f":"ROUND(L43/G43,2)","v":{"$error":"#DIV/0!"}},null,null,null,null,null,null,null,null,null,null," "]
[null,null,null,null,null,null,null,null,null,null,null,null,null,null,null,null,null,null,null,null,null,null,null,null," "]
[null,null,null,null,null,null,null,null,null,null,null,null,null,null,null,null,null,null,null,null,null,null,null,null," "]
[null,null,null,null,null,null,null,null,null,null,null,null,null,null,null,null,null,null,null,null,null,null,null,null,"  "]
[22011,"Raisins","Champion ","070044-00415",null,"144/1.5z",144,100,{"$f":"ROUND(H47*G47/G47,2)","v":100},"Cs",null,{"$f":"IF(OR(ISBLANK(K47),K47=0,H47=0,ISBLANK(H47)),,ROUND(K47+$L$3,2))","v":0},{"$f":"ROUND(I47*L47,2)","v":0},{"$f":"ROUND(L47/G47,4)","v":0},null,null,null,null,null,null,null,null,null,null," "]
[null,"Seedless, dark California, Individual 1.5 oz per package","Sun-maid ","040-2020",null,"144/1.33z",144,null,{"$f":"ROUND($H$47*$G$47/G48,2)","v":100},"Cs",31.44,{"$f":"IF(OR(ISBLANK(K48),K48=0,H47=0,ISBLANK(H47)),,ROUND(K48+$L$3,2))","v":31.44},{"$f":"ROUND(L48*I48,2)","v":3144},{"$f":"ROUND(L48/G48,4)","v":0.21829999999999999},null,null,null,null,null,null,null,null,null,null," "]
[22012,"Raisins, flavored. Made from Golden Raisins","Champion Raisels (Various Flavors)",null,null,"200/1.66z",200,null,{"$f":"ROUND(H49*G49/G49,2)","v":0},"Cs",60.5,{"$f":"IF(OR(ISBLANK(K49),K49=0,H49=0,ISBLANK(H49)),,ROUND(K49+$L$3,2))","v":0},{"$f":"ROUND(I49*L49,2)","v":0},{"$f":"ROUND(L49/G49,4)","v":0},null,null,null,null,null,null,null,null,null,null," "]
[null,"Contains added sugar. Meets 1/2 c. fruit requirement. ","Orange","100-70044-00587-0",null,null,null,null,null,null,null,null,null,null,null,null,null,null,null,null,null,null,null,null," "]
[null,"Not Smart Snack Compliant","Lemon","100-70044-00586-3",null,null,null,null,null,null,null,null,null,null,null,null,null,null,null,null,null,null,null,null," "]
[null,null,"Fruit","100-70044-00589-4",null,null,null,null,null,null,null,null,null,null,null,null,null,null,null,null,null,null,null,null,"  "]
[null,null," ",null,null,null,null,null,null,null,null,null,null,null,null,null,null,null,null,null,null,null,null,null," "]
[22013,"Sidekicks Smooth Frozen Juice, 100 % Fruit Juice","Ridgefield Sidekicks",null,null,"84/4.4z",84,100,{"$f":"ROUND($H$54*$G$54/G54,2)","v":100},"Cs",26.61,{"$f":"IF(OR(ISBLANK(K54),K54=0,H54=0,ISBLANK(H54)),,ROUND(K54+'Frz Juice'!$L$3,2))","v":26.61},{"$f":"ROUND(I54*L54,2)","v":2661},{"$f":"ROUND(L54/G54,4)","v":0.31680000000000003}]
[null,"One serving provides 1/2 cup 100% Fruit Juice with no added Sugar.","Blu-Raspberry Lemon",2009,null,"84/4.4z",84]
[null,null,"Kiwi-Strawberry",2014,null,"84/4.4z",84]
[null,null,"Strawberry Mango",2015,null,"84/4.4.z",84]
[null,null,"Cherry Lemon ",2016,null,"84/4.4.z",84]
[22014,"Sidekicks Smooth Frozen Juice, 100 % Fruit Juice","Cherry Smooth ",2021,null,"84/4.4z",84,null,{"$f":"ROUND(H59*G59/G59,2)","v":0},"Cs",28.61,{"$f":"IF(OR(ISBLANK(K59),K59=0,H59=0,ISBLANK(H59)),,ROUND(K59+'Frz Juice'!$L$3,2))","v":0},{"$f":"ROUND(I59*L59,2)","v":0},{"$f":"ROUND(L59/G59,4)","v":0}]
[null,"One serving provides 1/2 cup additional vegetable and 1/2 cup red/orange"," ",null,null,null,null,null," "," ",null," "," "," "]
[22015,"Sidekicks Smooth Frozen Juice, 100 % Fruit Juice","Sunbelievable ",2020,null,"84/4.4z",84,null,{"$f":"ROUND(H61*G61/G61,2)","v":0},"Cs",28.61,{"$f":"IF(OR(ISBLANK(K61),K61=0,H61=0,ISBLANK(H61)),,ROUND(K61+'Frz Juice'!$L$3,2))","v":0},{"$f":"ROUND(I61*L61,2)","v":0},{"$f":"ROUND(L61/G61,4)","v":0}]
[null,"One serving provides 1/2 cup add veg. and 1/2 cup red/orange vegetable"," ",null,null,null,null,null," "," ",null," "," "," "]
[22016,"Fruit Pearls","Citripak",null,null,"48/1/2 cup",48,100,{"$f":"ROUND(H63*G63/G63,2)","v":100},"Cs",14.1,{"$f":"IF(OR(ISBLANK(K63),K63=0,H63=0,ISBLANK(H63)),,ROUND(K63+'Frz Juice'!$L$3,2))","v":14.1},{"$f":"ROUND(I63*L63,2)","v":1410},{"$f":"ROUND(L63/G63,4)","v":0.29380000000000001}]
[null,"Frozen, One portion to provide 1/2 cup fruit for CN program","Strawberry",882193005112]
[null,null,"Tropical",882193005129]
[null,null,"Wildberry",882193005136]
[null,null,"Lemon",882193005549]
[22017,"Fruit Freeze Cup without Spoons, All Flavors","J&J Snape-Ups and Luigis",null,null,"96/4.4z",96,null,{"$f":"ROUND(H68*G68/G68,2)","v":0},"Cs",26.3,{"$f":"IF(OR(ISBLANK(K68),K68=0,H68=0,ISBLANK(H68)),,ROUND(K68+'Frz Juice'!$L$3,2))","v":0},{"$f":"ROUND(I68*L68,2)","v":0},{"$f":"ROUND(L68/G68,4)","v":0}]
[null,"Frozen, 100% fruit juice Provides min. 20% vitamin C No added sugar, "]
[null,"Provides 1/2 cup fruit juice for CN program"]
[]
[]
[]
[22018,"Fruit Freeze Cup without Spoon, All Flavors","Cool Tropics ",null,null,"60/4.0z",60,null,{"$f":"ROUND(H74*G74/G74,2)","v":0},"Cs",18,{"$f":"IF(OR(ISBLANK(K74),K74=0,H74=0,ISBLANK(H74)),,ROUND(K74+'Frz Juice'!$L$3,2))","v":0},{"$f":"ROUND(I74*L74,2)","v":0},{"$f":"ROUND(L74/G74,4)","v":0}]
[null,"Frozen, 100% fruit juice. Provides min 20% Vitamin C. No added sugar","Kiwi Strawberry ","12002-R4"]
[null,"Provides 1/2 cup fruit juice for CN Program","Paradise Punch ","12004-R4"]
[null,null,"Blue Raspberry ",13001]
[null,"Flavor Discontinued","Sour Apple ",13006]
[null,null,"Cherry Limeade ",13007]
[null,null," "]
[22019,"Frozen Mango Puree","Dole ",10502,null,"8/30 oz.",124,null,{"$f":"ROUND(H81*G81/G81,2)","v":0},"Cs",32.5,{"$f":"IF(OR(ISBLANK(K81),K81=0,H81=0,ISBLANK(H81)),,ROUND(K81+'Frz Juice'!$L$3,2))","v":0},{"$f":"ROUND(I81*L81,2)","v":0},{"$f":"ROUND(L81/G81,4)","v":0}]
[null,"Frozen, 100% Mango Puree, can be used in smoothies"," "]
[null," "," "]
[null,"Possible Allergens:  None Listed"," "]
[null,"ITEMS BELOW THIS LINE ARE NOT DIRECT TO MANUFACTUER PRICED ITEMS. "]
[22020,"Apples, Sliced","Distributor Choice",null,null,"6/#10",6,null,{"$f":"ROUND(H86*G86/G86,2)","v":0},"Cs",null,{"$f":"IF(OR(ISBLANK(K86),K86=0,H86=0,ISBLANK(H86)),,ROUND(K86+$L$3,2))","v":0},null,null,null,null,null,null,null,null,null,null,null,null," "]
[null,"Grade A, Minimum score 90 or above, Fancy.  Solid pack, sliced, peeled, ","Fillable txt box or unprotected",null,null,null,null,null,{"$f":"ROUND(H86*G86/G87,2)","v":{"$error":"#DIV/0!"}},"Cs",null,{"$f":"IF(OR(ISBLANK(K87),K87=0,H86=0,ISBLANK(H86)),,ROUND(K87+$L$3,2))","v":0},{"$f":"ROUND(I87*L87,2)","v":{"$error":"#DIV/0!"}},{"$f":"ROUND(L87/G87,4)","v":{"$error":"#DIV/0!"}},null,null,null,null,null,null,null,null,null,null," "]
[null,"water pack.  Domestic origin. No imports. Minimum drained weight 7#  ",null,null,null,null,null,null,null,null,null,null,null,null,null,null,null,null,null,null,null,null,null,null," "]
[22021,"Applesauce (No imports)","Distributor Choice",null,null,"6/#10",6,null,{"$f":"ROUND(H89*G89/G89,2)","v":0},"Cs",null,{"$f":"IF(OR(ISBLANK(K89),K89=0,H89=0,ISBLANK(H89)),,ROUND(K89+$L$3,2))","v":0},null,null,null,null,null,null,null,null,null,null,null,null," "]
[null,"Regular, sweetened, Grade A, Minimum Score 90 or above, natural flavored.","Fillable txt box or unprotected",null,null,null,null,null,{"$f":"ROUND(H89*G89/G90,2)","v":{"$error":"#DIV/0!"}},"Cs",null,{"$f":"IF(OR(ISBLANK(K90),K90=0,H89=0,ISBLANK(H89)),,ROUND(K90+$L$3,2))","v":0},{"$f":"ROUND(I90*L90,2)","v":{"$error":"#DIV/0!"}},{"$f":"ROUND(L90/G90,4)","v":{"$error":"#DIV/0!"}},null,null,null,null,null,null,null,null,null,null," "]
[22022,"Applesauce (No imports)","Distributor Choice",null,null,"6/#10",6,200,{"$f":"ROUND(H91*G91/G91,2)","v":200},"Cs",null,{"$f":"IF(OR(ISBLANK(K91),K91=0,H91=0,ISBLANK(H91)),,ROUND(K91+$L$3,2))","v":0},null,null,null,null,null,null,null,null,null,null,null,null," "]
[null,"Unsweetened,  Grade A, Minimum Score 90 or above. (No Imports)","Fillable txt box or unprotected",null,null,null,null,null,{"$f":"ROUND(H91*G91/G92,2)","v":{"$error":"#DIV/0!"}},"Cs",null,{"$f":"IF(OR(ISBLANK(K92),K92=0,H91=0,ISBLANK(H91)),,ROUND(K92+$L$3,2))","v":0},{"$f":"ROUND(I92*L92,2)","v":{"$error":"#DIV/0!"}},{"$f":"ROUND(L92/G92,4)","v":{"$error":"#DIV/0!"}},null,null,null,null,null,null,null,null,null,null," "]
[22023,"Cherries, Maraschino Halves","Distributor Choice",null,null,"1/2 gal",1,null,{"$f":"ROUND(H93*G93/G93,2)","v":0},"Each",null,{"$f":"IF(OR(ISBLANK(K93),K93=0,H93=0,ISBLANK(H93)),,ROUND(K93+$L$3,2))","v":0},null,null,null,null,null,null,null,null,null,null,null,null," "]
[null,"Without stems, Pitted, Grade A, Minimum Score 90 or above (No Imports) ","Fillable txt box or unprotected",null,null,null,null,null,{"$f":"ROUND(H93*G93/G94,2)","v":{"$error":"#DIV/0!"}},"Cs",null,{"$f":"IF(OR(ISBLANK(K94),K94=0,H93=0,ISBLANK(H93)),,ROUND(K94+$L$3,2))","v":0},{"$f":"ROUND(I94*L94,2)","v":{"$error":"#DIV/0!"}},{"$f":"ROUND(L94/G94,4)","v":{"$error":"#DIV/0!"}},null,null,null,null,null,null,null,null,null,null," "]
[22024,"Cranberry Sauce (No Imports) ","Distributor Choice",null,null,"6/101 oz",6,null,{"$f":"ROUND(H95*G95/G95,2)","v":0},"Cs",null,{"$f":"IF(OR(ISBLANK(K95),K95=0,H95=0,ISBLANK(H95)),,ROUND(K95+$L$3,2))","v":0},null,null,null,null,null,null,null,null,null,null,null,null," "]
[null,"Jellied and strained.  US Grade A, Fancy. Minimum score 90 or above","Fillable txt box or unprotected",null,null,null,null,10,{"$f":"ROUND(H95*G95/G96,2)","v":{"$error":"#DIV/0!"}},"Cs",null,{"$f":"IF(OR(ISBLANK(K96),K96=0,H95=0,ISBLANK(H95)),,ROUND(K96+$L$3,2))","v":0},{"$f":"ROUND(I96*L96,2)","v":{"$error":"#DIV/0!"}},{"$f":"ROUND(L96/G96,4)","v":{"$error":"#DIV/0!"}},null,null,null,null,null,null,null,null,null,null," "]
[22025,"Fruit Cocktail, US Grade Choice, Minimum Score 90 or above, ","Distributor Choice",null,null,"6/#10",6,150,{"$f":"ROUND(H97*G97/G97,2)","v":150},"Cs",null,{"$f":"IF(OR(ISBLANK(K97),K97=0,H97=0,ISBLANK(H97)),,ROUND(K97+$L$3,2))","v":0},null,null,null,null,null,null,null,null,null,null,null,null," "]
[null,"Light syrup mixture to contain in order of proportion:  peaches, pears, ","Fillable txt box or unprotected",null,null,null,null,null,{"$f":"ROUND(H97*G97/G98,2)","v":{"$error":"#DIV/0!"}},"Cs",null,{"$f":"IF(OR(ISBLANK(K98),K98=0,H97=0,ISBLANK(H97)),,ROUND(K98+$L$3,2))","v":0},{"$f":"ROUND(I98*L98,2)","v":{"$error":"#DIV/0!"}},{"$f":"ROUND(L98/G98,4)","v":{"$error":"#DIV/0!"}},null,null,null,null,null,null,null,null,null,null," "]
[null,"pineapples, grapes,cherries.  (If non domestic, insert country of origin)",null,null,null,null,null,null,null,null,null,null,null,null,null,null,null,null,null,null,null,null,null,null," "]
[22026,"Fruit , Mixed (If non domestic, state country of  origin)","Distributor Choice",null,null,"6/#10",6,10,{"$f":"ROUND(H100*G100/G100,2)","v":10},"Cs",null,{"$f":"IF(OR(ISBLANK(K100),K100=0,H100=0,ISBLANK(H100)),,ROUND(K100+$L$3,2))","v":0},null,null,null,null,null,null,null,null,null,null,null,null," "]
[null,"US Grade Choice, Minimum Score 90 or above, Light syrup","Fillable txt box or unprotected",null,null,null,null,null,{"$f":"ROUND(H100*G100/G101,2)","v":{"$error":"#DIV/0!"}},"Cs",null,{"$f":"IF(OR(ISBLANK(K101),K101=0,H100=0,ISBLANK(H100)),,ROUND(K101+$L$3,2))","v":0},{"$f":"ROUND(I101*L101,2)","v":{"$error":"#DIV/0!"}},{"$f":"ROUND(L101/G101,4)","v":{"$error":"#DIV/0!"}},null,null,null,null,null,null,null,null,null,null,"  "]
[null,"mixture to contain 30-50% peaches, 25-30% pears, 6-20% grapes.",null,null,null,null,null,null,null,null,null,null,null,null,null,null,null,null,null,null,null,null,null,null," "]
[22027,"Fruit Salad, Tropical","Distributor Choice",null,null,"6/#10",6,10,{"$f":"ROUND(H103*G103/G103,2)","v":10},"Cs",null,{"$f":"IF(OR(ISBLANK(K103),K103=0,H103=0,ISBLANK(H103)),,ROUND(K103+$L$3,2))","v":0},null,null,null,null,null,null,null,null,null,null,null,null," "]
[null,"Diced, in 100% fruit Juice, No sugar added.  Pre-cut and ready to use.","Fillable txt box or unprotected",null,null,null,null,null,{"$f":"ROUND(H103*G103/G104,2)","v":{"$error":"#DIV/0!"}},"Cs",null,{"$f":"IF(OR(ISBLANK(K104),K104=0,H103=0,ISBLANK(H103)),,ROUND(K104+$L$3,2))","v":0},{"$f":"ROUND(I104*L104,2)","v":{"$error":"#DIV/0!"}},{"$f":"ROUND(L104/G104,4)","v":{"$error":"#DIV/0!"}},null,null,null,null,null,null,null,null,null,null," "]
[null,"(If non domestic, insert country of origin in text box)",null,null,null,null,null,null,null,null,null,null,null,null,null,null,null,null,null,null,null,null,null,null," "]
[22028,"Mandarin Orange, Whole Segments","Distributor Choice",null,null,"6/#10",6,250,{"$f":"ROUND(H106*G106/G106,2)","v":250},"Cs",null,{"$f":"IF(OR(ISBLANK(K106),K106=0,H106=0,ISBLANK(H106)),,ROUND(K106+$L$3,2))","v":0},null," ",null,null,null,null,null,null,null,null,null,null," "]
[null,"Whole Segments in light syrup.  US Grade A   Minimum score 90 or above. .  ","Fillable txt box or unprotected",null,null,null,null,null,{"$f":"ROUND(H106*G106/G107,2)","v":{"$error":"#DIV/0!"}},"Cs",null,{"$f":"IF(OR(ISBLANK(K107),K107=0,H106=0,ISBLANK(H106)),,ROUND(K107+$L$3,2))","v":0},{"$f":"ROUND(I107*L107,2)","v":{"$error":"#DIV/0!"}},{"$f":"ROUND(L107/G107,4)","v":{"$error":"#DIV/0!"}},null,null,null,null,null,null,null,null,null,null," "]
[null,"No broken segments. (If non dom., insert country of origin in text box)"]
[22029,"Peach Slices,  Minimum score 90 or above.   (No Imports). ","Distributor Choice",null,null,"6/#10",6,200,{"$f":"ROUND(H109*G109/G109,2)","v":200},"Cs",null,{"$f":"IF(OR(ISBLANK(K109),K109=0,H109=0,ISBLANK(H109)),,ROUND(K109+$L$3,2))","v":0},null,null,null,null,null,null,null,null,null,null,null,null," "]
[null,"Clingstone variety, packed in light syrup. Net Wt 108 oz. ","Fillable txt box or unprotected",null,null,null,null,null,{"$f":"ROUND(H109*G109/G110,2)","v":{"$error":"#DIV/0!"}},"Cs",null,{"$f":"IF(OR(ISBLANK(K110),K110=0,H109=0,ISBLANK(H109)),,ROUND(K110+$L$3,2))","v":0},{"$f":"ROUND(I110*L110,2)","v":{"$error":"#DIV/0!"}},{"$f":"ROUND(L110/G110,4)","v":{"$error":"#DIV/0!"}},null,null,null,null,null,null,null,null,null,null," "]
[null,"Minimum drained weight 66.5 oz. ",null,null,null,null,null,null,null,null,null,null,null,null,null,null,null,null,null,null,null,null,null,null," "]
[22030,"Pear Halves, (No Imports)","Distributor Choice",null,null,"6/#10",6,null,{"$f":"ROUND(H112*G112/G112,2)","v":0},"Cs",null,{"$f":"IF(OR(ISBLANK(K112),K112=0,H112=0,ISBLANK(H112)),,ROUND(K112+$L$3,2))","v":0},null,null,null,null,null,null,null,null,null,null,null,null," "]
[null,"Bartlett.  Choice, Minimum score 90 or above. .   Light syrup, 30-35 count.","Fillable txt box or unprotected",null,null,null,null,null,{"$f":"ROUND(H112*G112/G113,2)","v":{"$error":"#DIV/0!"}},"Cs",null,{"$f":"IF(OR(ISBLANK(K113),K113=0,H112=0,ISBLANK(H112)),,ROUND(K113+$L$3,2))","v":0},{"$f":"ROUND(I113*L113,2)","v":{"$error":"#DIV/0!"}},{"$f":"ROUND(L113/G113,4)","v":{"$error":"#DIV/0!"}},null,null,null,null,null,null,null,null,null,null," "]
[null,"Minimum drained weight 65 oz.  (No Imports)",null,null,null,null,null,null,null,null,null,null,null,null,null,null,null,null,null,null,null,null,null,null," "]
[22031,"Pear Slices, Barlett Choice (No Imports)","Distributor Choice",null,null,"6/#10",6,200,{"$f":"ROUND(H115*G115/G115,2)","v":200},"Cs",null,{"$f":"IF(OR(ISBLANK(K115),K115=0,H115=0,ISBLANK(H115)),,ROUND(K115+$L$3,2))","v":0},null,null,null,null,null,null,null,null,null,null,null,null," "]
[null,"Bartlett, Choice, Minimum score 90 or above. , light syrup. (No Imports)","Fillable txt box or unprotected",null,null,null,null,null,{"$f":"ROUND(H115*G115/G116,2)","v":{"$error":"#DIV/0!"}},"Cs",null,{"$f":"IF(OR(ISBLANK(K116),K116=0,H115=0,ISBLANK(H115)),,ROUND(K116+$L$3,2))","v":0},{"$f":"ROUND(I116*L116,2)","v":{"$error":"#DIV/0!"}},{"$f":"ROUND(L116/G116,4)","v":{"$error":"#DIV/0!"}},null,null,null,null,null,null,null,null,null,null," "]
[null,"Minimum drained weight 65.5 oz. ",null,null,null,null,null,null,null,null,null,null,null,null,null,null,null,null,null,null,null,null,null,null," "]
[22032,"Pineapple Slices, US Grade A, Minimum score 90 or above. ","Distributor Choice",null,null,"6/#10",6,null,{"$f":"ROUND(H118*G118/G118,2)","v":0},"Cs",null,{"$f":"IF(OR(ISBLANK(K118),K118=0,H118=0,ISBLANK(H118)),,ROUND(K118+$L$3,2))","v":0},null,null,null,null,null,null,null,null,null,null,null,null," "]
[null,"Packed in juice.(If non domestic, insert country of origin in text box)","Fillable txt box or unprotected",null,null,null,null,null,{"$f":"ROUND(H118*G118/G119,2)","v":{"$error":"#DIV/0!"}},"Cs",null,{"$f":"IF(OR(ISBLANK(K119),K119=0,H118=0,ISBLANK(H118)),,ROUND(K119+$L$3,2))","v":0},{"$f":"ROUND(I119*L119,2)","v":{"$error":"#DIV/0!"}},{"$f":"ROUND(L119/G119,4)","v":{"$error":"#DIV/0!"}},null,null,null,null,null,null,null,null,null,null,"  "]
[22033,"Pineapple Tidbits (If non domestic, insert country of origin in ","Distributor Choice",null,null,"6/#10",6,250,{"$f":"ROUND(H120*G120/G120,2)","v":250},"Cs",null,{"$f":"IF(OR(ISBLANK(K120),K120=0,H120=0,ISBLANK(H120)),,ROUND(K120+$L$3,2))","v":0},null,null,null,null,null,null,null,null,null,null,null,null," "]
[null,"text box) US Grade A Minimum score 90 or above, Packed in Juice,  ","Fillable txt box or unprotected",null,null,null,0,null,{"$f":"ROUND(H120*G120/G121,2)","v":{"$error":"#DIV/0!"}},"Cs",null,{"$f":"IF(OR(ISBLANK(K121),K121=0,H120=0,ISBLANK(H120)),,ROUND(K121+$L$3,2))","v":0},{"$f":"ROUND(I121*L121,2)","v":{"$error":"#DIV/0!"}},{"$f":"ROUND(L121/G121,4)","v":{"$error":"#DIV/0!"}}]
[null,"Min. Drained Wt 69 oz. ",null,null,null,null,null,null,null,null,null,null,null,null,null,null,null,null,null,null,null,null,null,null," "]
[22034,"Peaches, Frozen   ","Distributor Choice",null,null,"96/4.0z",96,null,{"$f":"ROUND(H123*G123/G123,2)","v":0},"Cs"]
[null,"US Grade A Choice, fzn diced peaches cups Each portion cup=1/2 cup svg","Fillable txt box ",null,null,null,null,null,{"$f":"ROUND(H123*G123/G124,2)","v":{"$error":"#DIV/0!"}},"Cs",null,{"$f":"IF(OR(ISBLANK(K124),K124=0,H124=0,ISBLANK(H124)),,ROUND(K124+'Frz Juice'!$L$3,2))","v":0},{"$f":"ROUND(I124*L124,2)","v":{"$error":"#DIV/0!"}},{"$f":"ROUND(L124/G124,4)","v":{"$error":"#DIV/0!"}}]
[22035,"Strawberries, Sliced  ","Distributor Choice",null,null,"39Lb",39,null,{"$f":"ROUND(H125*G125/G125,2)","v":0},"Cs"]
[null,"Frozen. Grade A, Sweetened  ","Fillable txt box ",null,null,null,null,null,{"$f":"ROUND(H125*G125/G126,2)","v":{"$error":"#DIV/0!"}},"Cs",null,{"$f":"IF(OR(ISBLANK(K126),K126=0,H126=0,ISBLANK(H126)),,ROUND(K126+'Frz Juice'!$L$3,2))","v":0},{"$f":"ROUND(I126*L126,2)","v":{"$error":"#DIV/0!"}},{"$f":"ROUND(L126/G126,4)","v":{"$error":"#DIV/0!"}}]
[null,null," "]
[null,null,null,null,null,null,null,null,null,"Page Total",null,null,{"$f":"SUMIF(M8:M127,\">0\")","v":26510.05},null,null,null,null,null,null,null,null,null,null,null," "]

{"sheet":"Shelf-stable Vegetables","index":14,"n_rows":102,"n_cols":25,"rows_kept":102,"cut":false,"hidden":false,"merged":[[2,16,4,16],[48,1,48,6],[0,5,0,13],[1,5,1,13],[2,6,2,10],[2,15,4,15]]}
[null,{"$f":"'Recap Sheet'!A2","v":"School Food Authority or Agency Name:"},null,null,null,{"$f":"'Recap Sheet'!A3","v":"Bidder's Name:"}]
[24001,{"$f":"'Recap Sheet'!B2","v":"Marion County School District"},"Return to Recap Sheet",null,null,{"$f":"'Recap Sheet'!B3","v":0}]
[26000,"Description","Approved",null,null,null,"Firm Fixed Fee",null,null,null,null,{"$f":"'Recap Sheet'!B4","v":0},null,null,"Manufacturer","Vendor Pack","Servings per case","Processing","Pounds of","Commodity","Total Cost","NOI ?",null,"NOI ","Fee for Serivce"]
["SCPA",null,"Brand Name","Manufacturers","Distributor","Vendor","Svgs","Est.","Bid ","Bid","Unit","Unit Price","Total ","Cost per","USDA Product",null,null,"Fee for","DF Needed","Value  Per","Proc Fee + ","Enter","NOI ","Price/","Cost Per Serv."]
[" Code",null,"or Manufacturer","Code","Code","Pack","per unit","Bid Qty","Qty","Unit","Price","plus Fee","Price","Unit","Code",null,null,"Service","Per Case","Case","Comm Value","Y or N","Price","Serving","Fee+ Commodity"]
[null,"Shelf-stable / Canned Vegetables",null,null,null,null,null,null,null,null,null,null,null,null,"Potatoes Dehydrated",null,110227,"Commodity Value per lb",null,8.3199999999999996E-2]
[]
[24001,"Potatoes, Mashed, Complete","Basic American",76468,null,"12/28z",504,100,{"$f":"ROUND($H$8*$G$8/G8,2)","v":100},"Cs",45.39,{"$f":"IF(OR(ISBLANK(K8),H8=0,ISBLANK(H8)),,ROUND(K8+$L$3,2))","v":45.39},{"$f":"ROUND(I8*L8,2)","v":4539},{"$f":"ROUND(L8/G8,4)","v":9.01E-2},76468,"12/28 oz",504,null,105,{"$f":"ROUND($T$6*S8,2)","v":8.74},{"$f":"IF(ISBLANK(O8),,R8+T8)","v":8.74},"Y",36.65,7.271825396825396E-2,{"$f":"IF(V8=\"N\",IF(ISNUMBER(R8),(R8+T8)/Q8))","v":false}]
[null,"Shelf stable, add water only, mix, rest, and serve preparation, Fully ","Excel Potato Pearls"]
[null,"seasoned, No soy, No imports, Serving size 1/2 c prepared"," ",null,null,null,null,null,null,null,null,null,null,null,null,null,null,null," "," ",null,null," "," "," "]
[null,"Possible Allergens:  Milk, Sulfites",null,null,null,null,null,null,null,null,null,null,null,null,null,null,null,null," "," ",null,null," "," "," "]
[24002,"Potatoes, Mashed, Complete","Idahoan",2970000313,null,"12/26z",457,null,{"$f":"ROUND(H12*G12/G12,2)","v":0},"Cs",40.090000000000003,{"$f":"IF(OR(ISBLANK(K12),H12=0,ISBLANK(H12)),,ROUND(K12+$L$3,2))","v":0},{"$f":"ROUND(I12*L12,2)","v":0},{"$f":"ROUND(L12/G12,4)","v":0},2970000313,"12/26 oz.",457,0,97.5,{"$f":"ROUND($T$6*S12,2)","v":8.11},{"$f":"IF(ISBLANK(O12),,R12+T12)","v":8.11},"Y",31.980000000000004,6.9978118161925604E-2,{"$f":"IF(V12=\"N\",IF(ISNUMBER(R12),(R12+T12)/Q12))","v":false}]
[null,"Shelf Stable, Add  water only, mix, rest, and serve preparation Fully "]
[null,"seasoned, No imports, Serving size 1/2 c ÷ 1 teaspoon prepared ",null,null,null,null,null,null,null,null,null,null,null,null,null,null,null,null," "," ",null,null," "," "," "]
[null,"Possible Allergens:  Milk, Sulfites",null,null,null,null,null,null,null,null,null,null,null,null,null,null,null,null," "," ",null,null," "," "," "]
[null,null,null,null,null,null,null,null,null,null,null,null,null,null,"Tomato Paste",null,100332,"Commodity Value per lb",null,0.47760000000000002]
[24003,"Salsa, Mild, Thick and Chunky, Nutritionally Enhanced","Red Gold","REDSC99",null,"6/#10",210,null,{"$f":"ROUND(H17*G17/G17,2)","v":0},"Cs",26.86,{"$f":"IF(OR(ISBLANK(K17),K17=0,H17=0,ISBLANK(H17)),,ROUND(K17+$L$3,2))","v":0},{"$f":"ROUND(I17*L17,2)","v":0},{"$f":"ROUND(L17/G17,4)","v":0},"REDSC99","6/#10",210,24.04,5.9,{"$f":"ROUND($T$16*S17,2)","v":2.82},{"$f":"IF(ISBLANK(O17),,R17+T17)","v":26.86},"Y",24.04,0.11447619047619047,{"$f":"IF(V17=\"N\",IF(ISNUMBER(R17),(R17+T17)/Q17))","v":false}]
[null,"Canned, Grade A 3 oz. = 1/2 c Red/Orange Vegetable",null,null,null," "," ",null," "," ",null,null,null,null,null,null,null,null," "," ",null,null," "," "," "]
[24004,"Tomatoes, Crushed","Red Gold ","RPKDX99",null,"6/#10",286,10,{"$f":"ROUND(H19*G19/G19,2)","v":10},"Cs",21.09,{"$f":"IF(OR(ISBLANK(K19),K19=0,H19=0,ISBLANK(H19)),,ROUND(K19+$L$3,2))","v":21.09},{"$f":"ROUND(L19*I19,2)","v":210.9},{"$f":"ROUND(L19/G19,4)","v":7.3700000000000002E-2},"RPKDX99","6/#10",286,12.77,17.41,{"$f":"ROUND($T$16*S19,2)","v":8.32},{"$f":"IF(ISBLANK(O19),,R19+T19)","v":21.09},"Y",12.77,4.4650349650349648E-2,{"$f":"IF(V19=\"N\",IF(ISNUMBER(R19),(R19+T19)/Q19))","v":false}]
[null,"Grade B, Extra Standard, Packed in tomato juice.  Drained weight 64 oz.  ",null,null,null," "," ",null," "," ",null," "," "," "]
[null,"2 oz. = 1/2 cup Red/Orange Vegetable"," ",null,null," ",null,null,null,null,null,null,null,null,null,null,null,null,null,null,null,null,null,null," "]
[24005,"Tomatoes, Diced","Red Gold ","RPKBR99",null,"6/#10",286,10,{"$f":"ROUND(H22*G22/G22,2)","v":10},"Cs",20.27,{"$f":"IF(OR(ISBLANK(K22),K22=0,H22=0,ISBLANK(H22)),,ROUND(K22+$L$3,2))","v":20.27},{"$f":"ROUND(L22*I22,2)","v":202.7},{"$f":"ROUND(L22/G22,4)","v":7.0900000000000005E-2}]
[null,"Grade B, Extra Standard, Packed in tomato juice.  Drained weight 64 oz.  "]
[null,"2 oz. = 1/2 cup Red/Orange Vegetable"," ",null,null," ",null,null,null,null,null,null,null,null,null,null,null,null,null,null,null,null,null,null," "]
[24006,"Tomato Paste","Red Gold ","RPKUA99",null,"6/#10",666,10,{"$f":"ROUND(H25*G25/G25,2)","v":10},"Cs",33.14,{"$f":"IF(OR(ISBLANK(K25),K25=0,H25=0,ISBLANK(H25)),,ROUND(K25+$L$3,2))","v":33.14},{"$f":"ROUND(L25*I25,2)","v":331.4},{"$f":"ROUND(L25/G25,4)","v":4.9799999999999997E-2},"RPKUA99","6/#10",666,null,30.97,{"$f":"ROUND($T$16*S25,2)","v":14.79},{"$f":"IF(ISBLANK(O25),,R25+T25)","v":14.79},"Y"]
[null,null,"Hunt's ","27000-38835",null,"6/111z",564,null,{"$f":"ROUND($H$25*$G$25/G26,2)","v":11.81},"Cs",null,{"$f":"IF(OR(ISBLANK(K26),K26=0,H25=0,ISBLANK(H25)),,ROUND(K26+$L$3,2))","v":0},{"$f":"ROUND(L26*I26,2)","v":0},0]
[null,"Minimum 24% solids, Grade A.  1 oz. = 1/2 c Red/Orange Vegetable  ","Kraft/Heinz",130005731000,null,"6/#10",555,null,{"$f":"ROUND($H$25*$G$25/G27,2)","v":12},"Cs",null,{"$f":"IF(OR(ISBLANK(K27),K27=0,H25=0,ISBLANK(H25)),,ROUND(K27+$L$3,2))","v":0},{"$f":"ROUND(L27*I27,2)","v":0},0,"130005731000","6/#10",555,0,32.11,{"$f":"ROUND($T$16*S27,2)","v":15.34},{"$f":"IF(ISBLANK(O27),,R27+T27)","v":15.34},"Y",12.469999999999999,2.2468468468468467E-2,{"$f":"IF(V27=\"N\",IF(ISNUMBER(R27),(R27+T27)/Q27))","v":false}]
[null," ",null,null,null,null,null,null,null,null,null," ","  "," "]
[24007,"Tomato Sauce","Red Gold ","RPKHA99",null,"6/#10",265,10,{"$f":"ROUND(H29*G29/G29,2)","v":10},"Cs",null,{"$f":"IF(OR(ISBLANK(K29),K29=0,H29=0,ISBLANK(H29)),,ROUND(K29+$L$3,2))","v":0},{"$f":"ROUND(L29*I29,2)","v":0},{"$f":"ROUND(L29/G29,4)","v":0},"RPKHA99","6/#10",265,14.47,9.7200000000000006,{"$f":"ROUND($T$16*S29,2)","v":4.6399999999999997},{"$f":"IF(ISBLANK(O29),,R29+T29)","v":19.11},"Y",14.469999999999999,5.4603773584905653E-2,{"$f":"IF(V29=\"N\",IF(ISNUMBER(R29),(R29+T29)/Q29))","v":false}]
[null,null,"Heinz ",130005724000,null,"6/#10",295,null,{"$f":"ROUND(H29*G29/G30,2)","v":8.98},"Cs",21.1,{"$f":"IF(OR(ISBLANK(K30),K30=0,H29=0,ISBLANK(H29)),,ROUND(K30+$L$3,2))","v":21.1},{"$f":"ROUND(L30*I30,2)","v":189.48},7.1499999999999994E-2,"130005724000","6/#10",295,null,9.57,{"$f":"ROUND($T$16*S30,2)","v":4.57},{"$f":"IF(ISBLANK(O30),,R30+T30)","v":4.57},"Y"]
[null,"US Grade A.  Canned, 3 oz. = 1/2 c Red/Orange Vegetable"]
[null,null,null,null,null,null,null,null,null,null,null,null,null,null,null,null,null,null,null,null,null,null,null,null," "]
[24008,"Ketchup, Tomato","Red Gold ","REDY599",null,"6/#10",1151,10,{"$f":"ROUND(H33*G33/G33,2)","v":10},"Cs",20.71,{"$f":"IF(OR(ISBLANK(K33),K33=0,H33=0,ISBLANK(H33)),,ROUND(K33+$L$3,2))","v":20.71},{"$f":"ROUND(I33*L33,2)","v":207.1},{"$f":"ROUND(L33/G33,4)","v":1.7999999999999999E-2},"REDY599","6/#10",1151,16.02,9.81,{"$f":"ROUND($T$16*S33,2)","v":4.6900000000000004},{"$f":"IF(ISBLANK(O33),,R33+T33)","v":20.71},"Y",16.02,1.3918331885317116E-2,{"$f":"IF(V33=\"N\",IF(ISNUMBER(R33),(R33+T33)/Q33))","v":false}]
[null,null,"Hunt's ","27000-38251",null,"6/114z",1140,null,{"$f":"ROUND(H33*G33/G34,2)","v":10.1},"Cs",null,{"$f":"IF(OR(ISBLANK(K34),K34=0,H33=0,ISBLANK(H33)),,ROUND(K34+$L$3,2))","v":0},{"$f":"ROUND(I34*L34,2)","v":0},{"$f":"ROUND(L34/G34,4)","v":0}]
[null,"Canned, Grade A, Fancy, 33% solid","Kraft/Heinz ",130005129000,null,"6#10",1140,null,{"$f":"ROUND(H33*G33/G35,2)","v":10.1},"Cs",null,{"$f":"IF(OR(ISBLANK(K35),K35=0,H33=0,ISBLANK(H33)),,ROUND(K35+$L$3,2))","v":0},{"$f":"ROUND(L35*I35,2)","v":0},{"$f":"ROUND(L35/G35,2)","v":0},130005129000,"6/#10",1140,null,9.3000000000000007,{"$f":"ROUND($T$16*S35,2)","v":4.4400000000000004},{"$f":"IF(ISBLANK(O35),,R35+T35)","v":4.4400000000000004},"Y"]
[]
[null," ",null,null,null,null,null,null,null,null,null,null,null,null,null,null,null,null,null,null,null,null,null,null," "]
[24009,"Sauce, Marinara","Red Gold ","RPKNA99",null,"6/#10",225,null,{"$f":"ROUND(H38*G38/G38,2)","v":0},"Cs",26.52,{"$f":"IF(OR(ISBLANK(K38),K38=0,H38=0,ISBLANK(H38)),,ROUND(K38+$L$3,2))","v":0},{"$f":"ROUND(L38*I38,2)","v":0},{"$f":"ROUND(L38/G38,4)","v":0},"RPKNA99","6/#10",225,22.93,7.52,{"$f":"ROUND($T$16*S38,2)","v":3.59},{"$f":"IF(ISBLANK(O38),,R38+T38)","v":26.52},"Y",22.93,0.10191111111111111,{"$f":"IF(V38=\"N\",IF(ISNUMBER(R38),(R38+T38)/Q38))","v":false}]
[null,"Canned, Grade ! Fancy,  2.8 oz = 1/2 c Red/Orange Vegetable",null,null,null," "," ",null," "," ",null," "," "," "]
[null," ",null,null,null,null,null,null,null,null,null,null,null,null,null,null,null,null,null,null,null,null,null,null," "]
[24010,"Sauce, Spaghetti Smooth","Red Gold ","RPKMA99",null,"6/#10",265,null,{"$f":"ROUND(H41*G41/G41,2)","v":0},"Cs",22.5,{"$f":"IF(OR(ISBLANK(K41),K41=0,H41=0,ISBLANK(H41)),,ROUND(K41+$L$3,2))","v":0},{"$f":"ROUND(I41*L41,2)","v":0},{"$f":"ROUND(L41/G41,4)","v":0},"RPKMA9C","6/#10",265,17.399999999999999,10.67,{"$f":"ROUND($T$16*S41,2)","v":5.0999999999999996},{"$f":"IF(ISBLANK(O41),,R41+T41)","v":22.5},"Y",17.399999999999999,6.5660377358490563E-2,{"$f":"IF(V41=\"N\",IF(ISNUMBER(R41),(R41+T41)/Q41))","v":false}]
[null,"Canned, US Grade A, Crediting statement with amount to provide 1/2c ","Heinz ",130005880000,null,"6/#10",141,null,{"$f":"ROUND(H41*G41/G41,2)","v":0},"Cs",null,{"$f":"IF(OR(ISBLANK(K42),K42=0,H41=0,ISBLANK(H41)),,ROUND(K42+$L$3,2))","v":0},{"$f":"ROUND(I42*L42,2)","v":0},{"$f":"ROUND(L42/G42,2)","v":0},130005880000,"6/#10",141,null,11.9,{"$f":"ROUND($T$16*S42,2)","v":5.68},{"$f":"IF(ISBLANK(O42),,R42+T42)","v":5.68},"Y"]
[null,"Red/Orange Vegetable"]
[24011,"Sauce, Spaghetti, Nutritionally Balanced","Red Gold ","RPKMA9E",null,"6/#10",265,20,{"$f":"ROUND(H44*G44/G44,2)","v":20},"Cs",25.28,{"$f":"IF(OR(ISBLANK(K44),K44=0,H44=0,ISBLANK(H44)),,ROUND(K44+$L$3,2))","v":25.28},{"$f":"ROUND(I44*L44,2)","v":505.6},{"$f":"ROUND(L44/G44,4)","v":9.5399999999999999E-2},"RPKMA9E","6/#10",265,20.350000000000001,10.32,{"$f":"ROUND($T$16*S44,2)","v":4.93},{"$f":"IF(ISBLANK(O44),,R44+T44)","v":25.28},"Y",20.350000000000001,7.6792452830188679E-2,{"$f":"IF(V44=\"N\",IF(ISNUMBER(R44),(R44+T44)/Q44))","v":false}]
[null,"Canned, US Grade A, 3 oz. = 1/2 c Red/Orange Vegetable","Heinz ",130000104500,null,"6/#10",141,null,{"$f":"ROUND(H44*G44/G44,2)","v":20},"Cs",null,{"$f":"IF(OR(ISBLANK(K45),K45=0,H44=0,ISBLANK(H44)),,ROUND(K45+$L$3,2))","v":0},{"$f":"ROUND(I45*L45,2)","v":0},{"$f":"ROUND(L45/G45,2)","v":0},13000588000,"6/#10",141,0,11.9,{"$f":"ROUND($T$16*S45,2)","v":5.68},{"$f":"IF(ISBLANK(O45),,R45+T45)","v":5.68},"Y"]
[null," "]
[24012,"Beans, Pinto (Southwest)","Bush's","39400-01071",null,"6/#10",138,null,{"$f":"ROUND($H$8*$G$8/G47,2)","v":365.22},"Cs",31.24,{"$f":"IF(OR(ISBLANK(K47),H47=0,ISBLANK(H47)),,ROUND(K47+$L$3,2))","v":0},{"$f":"ROUND(I47*L47,2)","v":0},{"$f":"ROUND(L47/G47,4)","v":0}]
[null,"USDA Grade A 1/2 cup serving meets 2 oz. M/MA and 1/2 cup vegetable"]
[null,"ITEMS BELOW THIS LINE ARE NOT DIRECT TO MANUFACTUER PRICED ITEMS."]
[24013,"Beans, Refried Dehydrated","Basic Amercian Foods",10166,null,"6/28.1z",138,10,{"$f":"ROUND($H$8*$G$8/G50,2)","v":365.22},"Cs",null,{"$f":"IF(OR(ISBLANK(K50),H50=0,ISBLANK(H50)),,ROUND(K50+$L$3,2))","v":0},{"$f":"ROUND(I50*L50,2)","v":0},{"$f":"ROUND(L50/G50,2)","v":0}]
[null,"Seasoned vegetarian refried beans"]
[24014,"Turnip Greens, chopped","Distributor Choice",null,null,"6/#10",6,null,{"$f":"ROUND(H52*G52/G52,2)","v":0},"Cs",null,null,null,null,null,null,null,null,null,null,null,null,null,null," "]
[null,"Fancy, Minimum drained weight 58 oz (No Imports) ","Fillable txt box or unprotected",null,null,null,null,null,{"$f":"ROUND(H52*G52/G53,2)","v":{"$error":"#DIV/0!"}},"Cs",null,{"$f":"IF(OR(ISBLANK(K53),K53=0,H53=0,ISBLANK(H53)),,ROUND(K53+$L$3,2))","v":0},{"$f":"ROUND(I53*L53,2)","v":{"$error":"#DIV/0!"}},{"$f":"ROUND(L53/G53,4)","v":{"$error":"#DIV/0!"}}]
[]
[24015,"Beans, Green (No Imports)","Distributor Choice",null,null,"6/#10",6,null,{"$f":"ROUND(H55*G55/G55,2)","v":0},"Cs"]
[null,"Sieve 3 or 4; variety Blue Lake; Style cut, no strings; ","Fillable txt box or unprotected",null,null,null,0,null,{"$f":"ROUND(H55*G55/G56,2)","v":{"$error":"#DIV/0!"}},"Cs",0,{"$f":"IF(OR(ISBLANK(K56),K56=0,H55=0,ISBLANK(H55)),,ROUND(K56+$L$3,2))","v":0},{"$f":"ROUND(I56*L56,2)","v":{"$error":"#DIV/0!"}},{"$f":"ROUND(L56/G56,4)","v":{"$error":"#DIV/0!"}}]
[null,"Drained weight 63 oz.  Grade A Fancy "]
[24016,"Beans, Lima, Green (No Imports)","Distributor Choice",null,null,"6/#10",6,null,{"$f":"ROUND(H58*G58/G58,2)","v":0},"Cs"]
[null,"Grade A, minimum drained weight 71 oz ","Fillable txt box or unprotected",null,null,null,0,null,{"$f":"ROUND(H58*G58/G59,2)","v":{"$error":"#DIV/0!"}},"Cs",0,{"$f":"IF(OR(ISBLANK(K59),K59=0,H58=0,ISBLANK(H58)),,ROUND(K59+$L$3,2))","v":0},{"$f":"ROUND(I59*L59,2)","v":{"$error":"#DIV/0!"}},{"$f":"ROUND(L59/G59,4)","v":{"$error":"#DIV/0!"}}]
[24017,"Beans, Pintos (No Imports)","Distributor Choice",null,null,"6/#10",6,200,{"$f":"ROUND($H$47*$G$47/G60,2)","v":0},"Cs"]
[null,"USDA Grade A ","Fillable txt box or unprotected",null,null,null,0,null,{"$f":"ROUND(H60*G60/G61,2)","v":{"$error":"#DIV/0!"}},"Cs",0,{"$f":"IF(OR(ISBLANK(K61),K61=0,H60=0,ISBLANK(H60)),,ROUND(K61+$L$3,2))","v":0},{"$f":"ROUND(I61*L61,2)","v":{"$error":"#DIV/0!"}},{"$f":"ROUND(L61/G61,4)","v":{"$error":"#DIV/0!"}}]
[24018,"Beans, Black, Fancy  (No Imports)","Distributor Choice",null,null,"6/#10",6,null,{"$f":"ROUND($H$62*$G$62/G62,2)","v":0},"Cs"]
[null,"USDA Grade A ","Fillable txt box or unprotected",null,null,null,null,null,{"$f":"ROUND(H62*G62/G63,2)","v":{"$error":"#DIV/0!"}},"Cs",null,{"$f":"IF(OR(ISBLANK(K63),K63=0,H62=0,ISBLANK(H62)),,ROUND(K63+$L$3,2))","v":0},{"$f":"ROUND(I63*L63,2)","v":{"$error":"#DIV/0!"}},{"$f":"ROUND(L63/G63,4)","v":{"$error":"#DIV/0!"}}]
[24019,"Beans with Pork (No Imports)","Distributor Choice",null,null,"6/#10",6,null,{"$f":"ROUND(H64*G64/G64,2)","v":0},"Cs"]
[null,"First Quality Grade A,    Small White beans, in tomato sauce pack, with pork.  ","Fillable txt box or unprotected",null,null,null,null,null,{"$f":"ROUND(H64*G64/G65,2)","v":{"$error":"#DIV/0!"}},"Cs",null,{"$f":"IF(OR(ISBLANK(K65),K65=0,H64=0,ISBLANK(H64)),,ROUND(K65+$L$3,2))","v":0},{"$f":"ROUND(I65*L65,2)","v":{"$error":"#DIV/0!"}},{"$f":"ROUND(L65/G65,4)","v":{"$error":"#DIV/0!"}}]
[null,"Drained weight 85 oz.  Minimum score 90 or above;  (No Imports)"]
[24020,"Beans, Baked (No Imports)","Distributor Choice",null,null,"6/#10",6,null,{"$f":"ROUND(H67*G67/G67,2)","v":0},"Cs"]
[null,"Dry mature beans,  baked in brown sugar, molasses","Fillable txt box or unprotected",null,null,null,null,null,{"$f":"ROUND(H67*G67/G68,2)","v":{"$error":"#DIV/0!"}},"Cs",null,{"$f":"IF(OR(ISBLANK(K68),K68=0,H67=0,ISBLANK(H67)),,ROUND(K68+$L$3,2))","v":0},{"$f":"ROUND(I68*L68,2)","v":{"$error":"#DIV/0!"}},{"$f":"ROUND(L68/G68,4)","v":{"$error":"#DIV/0!"}}]
[null,"or New England sauce. (No soy beans.)  Min.score 90 or above; Grade A"]
[24021,"Vegetarian Beans, Small White beans, in tomato sauce pack. ","Distributor Choice",null,null,"6/#10",6,null,{"$f":"ROUND($H$70*$G$70/G70,2)","v":0},"Cs"]
[null,"(No Imports) Drained weight 85 oz.  Minimum score 90 or above; Grade A","Fillable txt box or unprotected",null,null,null,null,null,{"$f":"ROUND(H70*G70/G71,2)","v":{"$error":"#DIV/0!"}},"Cs",null,{"$f":"IF(OR(ISBLANK(K71),K71=0,H70=0,ISBLANK(H70)),,ROUND(K71+$L$3,2))","v":0},{"$f":"ROUND(I71*L71,2)","v":{"$error":"#DIV/0!"}},{"$f":"ROUND(L71/G71,4)","v":{"$error":"#DIV/0!"}}]
[24022,"Bean, Kidney, Light (No Imports)","Distributor Choice",null,null,"6/#10",6,20,{"$f":"ROUND($H$72*$G$72/G72,2)","v":20},"Cs"]
[null,null,"Fillable txt box or unprotected",null,null,null,null,null,{"$f":"ROUND(H72*G72/G73,2)","v":{"$error":"#DIV/0!"}},"Cs",null,{"$f":"IF(OR(ISBLANK(K73),K73=0,H72=0,ISBLANK(H72)),,ROUND(K73+$L$3,2))","v":0},{"$f":"ROUND(I73*L73,2)","v":{"$error":"#DIV/0!"}},{"$f":"ROUND(L73/G73,4)","v":{"$error":"#DIV/0!"}}]
[24023,"Carrots, Sliced (No Imports)","Distributor Choice",null,null,"6/#10",6,null,{"$f":"ROUND($H$74*$G$74/G74,2)","v":0},"Cs"]
[null,"Medium Fancy, 3/15-5/16 inch cut ","Fillable txt box or unprotected",null,null,null,null,null,{"$f":"ROUND(H74*G74/G75,2)","v":{"$error":"#DIV/0!"}},"Cs",null,{"$f":"IF(OR(ISBLANK(K75),K75=0,H74=0,ISBLANK(H74)),,ROUND(K75+$L$3,2))","v":0},{"$f":"ROUND(I75*L75,2)","v":{"$error":"#DIV/0!"}},{"$f":"ROUND(L75/G75,4)","v":{"$error":"#DIV/0!"}}]
[24024,"Corn, Whole Kernel (No Imports)","Distributor Choice",null,null,"6/#10",6,null,{"$f":"ROUND(H76*G76/G76,2)","v":0},"Cs"]
[null,"Golden; drained net weight per #10 can 72 oz.  Grade A, Fancy","Fillable txt box or unprotected",null,null,null,null,null,{"$f":"ROUND(H76*G76/G77,2)","v":{"$error":"#DIV/0!"}},"Cs",null,{"$f":"IF(OR(ISBLANK(K77),K77=0,H76=0,ISBLANK(H76)),,ROUND(K77+$L$3,2))","v":0},{"$f":"ROUND(I77*L77,2)","v":{"$error":"#DIV/0!"}},{"$f":"ROUND(L77/G77,4)","v":{"$error":"#DIV/0!"}}]
[null,"Minimum score 90; must be packed in enamel lined tins "]
[24025,"Mixed Vegetables (No Imports)","Distributor Choice",null,null,"6/#10 ",6,null,{"$f":"ROUND(H79*G79/G79,2)","v":0},"Cs"]
[null,"US Grade A Fancy, Mix to inc. carrots, pots, celery, peas,corn,& lima beans","Fillable txt box or unprotected",null,null,null,null,null,{"$f":"ROUND(H79*G79/G80,2)","v":{"$error":"#DIV/0!"}},"Cs",null,{"$f":"IF(OR(ISBLANK(K80),K80=0,H79=0,ISBLANK(H79)),,ROUND(K80+$L$3,2))","v":0},{"$f":"ROUND(I80*L80,2)","v":{"$error":"#DIV/0!"}},{"$f":"ROUND(L80/G80,4)","v":{"$error":"#DIV/0!"}}]
[24026,"Onions, Chopped, Dehydrated (No Imports)","Distributor Choice",null,null,"6/2Lb",12,20,{"$f":"ROUND(H81*G81/G81,2)","v":20},"Cs"]
[null,"White.  Yield 1# dehydrated equals 5# fresh.  US Grade A   ","Fillable txt box or unprotected",null,null,null,null,null,{"$f":"ROUND(H81*G81/G82,2)","v":{"$error":"#DIV/0!"}},"Cs",null,{"$f":"IF(OR(ISBLANK(K82),K82=0,H81=0,ISBLANK(H81)),,ROUND(K82+$L$3,2))","v":0},{"$f":"ROUND(I82*L82,2)","v":{"$error":"#DIV/0!"}},{"$f":"ROUND(L82/G82,4)","v":{"$error":"#DIV/0!"}}]
[24027,"Peas and Carrots (No Imports)","Distributor Choice",null,null,"6/#10",6,null,{"$f":"ROUND(H83*G83/G83,2)","v":0},"Cs"]
[null,"June peas and diced carrots.  Carrots equal to Grade A, Fancy, Peas Grade 5  ","Fillable txt box or unprotected",null,null,null,null,null,{"$f":"ROUND(H83*G83/G84,2)","v":{"$error":"#DIV/0!"}},"Cs",null,{"$f":"IF(OR(ISBLANK(K84),K84=0,H83=0,ISBLANK(H83)),,ROUND(K84+$L$3,2))","v":0},{"$f":"ROUND(I84*L84,2)","v":{"$error":"#DIV/0!"}},{"$f":"ROUND(L84/G84,4)","v":{"$error":"#DIV/0!"}}]
[24028,"Peas, Black-eyed (No Imports) ","Distributor Choice",null,null,"6/#10",6,null,{"$f":"ROUND(H85*G85/G85,2)","v":0},"Cs"]
[null,"Grade A, Fancy.  Green, fresh peas, 3 sieve.  Minimum drained weight 72 oz ","Fillable txt box or unprotected",null,null,null,null,null,{"$f":"ROUND(H85*G85/G86,2)","v":{"$error":"#DIV/0!"}},"Cs",null,{"$f":"IF(OR(ISBLANK(K86),K86=0,H85=0,ISBLANK(H85)),,ROUND(K86+$L$3,2))","v":0},{"$f":"ROUND(I86*L86,2)","v":{"$error":"#DIV/0!"}},{"$f":"ROUND(L86/G86,4)","v":{"$error":"#DIV/0!"}}]
[24029,"Peas, Field (No Imports)","Distributor Choice",null,null,"6/#10",6,null,{"$f":"ROUND(H87*G87/G87,2)","v":0},"Cs"]
[null,"Grade A, Fancy.  May include snaps.  Minimum drained weight 73 oz.  ","Fillable txt box or unprotected",null,null,null,null,null,{"$f":"ROUND(H87*G87/G88,2)","v":{"$error":"#DIV/0!"}},"Cs",null,{"$f":"IF(OR(ISBLANK(K88),K88=0,H87=0,ISBLANK(H87)),,ROUND(K88+$L$3,2))","v":0},{"$f":"ROUND(I88*L88,2)","v":{"$error":"#DIV/0!"}},{"$f":"ROUND(L88/G88,4)","v":{"$error":"#DIV/0!"}}]
[24030,"Peas, Green (No Imports) ","Distributor Choice",null,null,"6/#10",6,null,{"$f":"ROUND(H89*G89/G89,2)","v":0},"Cs"]
[null,"Grade A, Fancy.  Sieve No. 3 or smaller either sweet or","Fillable txt box or unprotected",null,null,null,null,null,{"$f":"ROUND(H89*G89/G90,2)","v":{"$error":"#DIV/0!"}},"Cs",null,{"$f":"IF(OR(ISBLANK(K90),K90=0,H89=0,ISBLANK(H89)),,ROUND(K90+$L$3,2))","v":0},{"$f":"ROUND(I90*L90,2)","v":{"$error":"#DIV/0!"}},{"$f":"ROUND(L90/G90,4)","v":{"$error":"#DIV/0!"}}]
[null,"early variety.  Score 90 or higher.  Minimum drained weight 72 oz  "]
[24031,"Squash, Sliced (No Imports)","Distributor Choice",null,null,"6/#10",6,null,{"$f":"ROUND(H92*G92/G92,2)","v":0},"Cs"]
[null,"Grade A, Minimum drained weight 61 oz ","Fillable txt box or unprotected",null,null,null,null,null,{"$f":"ROUND(H92*G92/G93,2)","v":{"$error":"#DIV/0!"}},"Cs",null,{"$f":"IF(OR(ISBLANK(K93),H92=0,ISBLANK(H92)),,ROUND(K93+$L$3,2))","v":0},{"$f":"ROUND(I93*L93,2)","v":{"$error":"#DIV/0!"}},{"$f":"ROUND(L93/G93,4)","v":{"$error":"#DIV/0!"}}]
[24032,"Sweet Potatoes, Cut (No Imports) ","Distributor Choice",null,null,"6/#10",6,100,{"$f":"ROUND(H94*G94/G94,2)","v":100},"Cs"]
[null,"Grade A, Fancy.  Packed in syrup.  Minimum drained weight 73 oz.  First Quality","Fillable txt box or unprotected",null,null,null,null,null,{"$f":"ROUND(H94*G94/G95,2)","v":{"$error":"#DIV/0!"}},"Cs",null,{"$f":"IF(OR(ISBLANK(K95),H94=0,ISBLANK(H94)),,ROUND(K95+$L$3,2))","v":0},{"$f":"ROUND(I95*L95,2)","v":{"$error":"#DIV/0!"}},{"$f":"ROUND(L95/G95,4)","v":{"$error":"#DIV/0!"}}]
[24033,"Potatoes, White Diced (No Imports)","Distributor Choice",null,null,"6/#10",6,10,{"$f":"ROUND(H96*G96/G96,2)","v":10},"Cs",null,null,null,null,null,null,null,null," "," ",null,null," "," "," "]
[null,"Grade A, Fancy, First Quality.  White Irish Pack: 6/#10 ","Fillable txt box or unprotected",null,null,null,null,null,{"$f":"ROUND(H96*G96/G97,2)","v":{"$error":"#DIV/0!"}},"Cs",null,{"$f":"IF(OR(ISBLANK(K97),K97=0,H96=0,ISBLANK(H96)),,ROUND(K97+$L$3,2))","v":0},{"$f":"ROUND(I97*L97,2)","v":{"$error":"#DIV/0!"}},{"$f":"ROUND(L97/G97,4)","v":{"$error":"#DIV/0!"}},null,null,null,null," "," ",null,null," "," "," "]
[24034,"Potatoes, White, Whole (No Imports)","Distributor Choice",null,null,"6/#10",6,null,{"$f":"ROUND(H98*G98/G98,2)","v":0},"Cs",null,null,null,null,null,null,null,null," "," ",null,null," "," "," "]
[null,"Small whole size 2.  100 count per #10 can. First Quality (No Imports)","Fillable txt box or unprotected",null,null,null,null,null,{"$f":"ROUND(H98*G98/G99,2)","v":{"$error":"#DIV/0!"}},"Cs",null,{"$f":"IF(OR(ISBLANK(K99),K99=0,H96=0,ISBLANK(H96)),,ROUND(K99+$L$3,2))","v":0},{"$f":"ROUND(I99*L99,2)","v":{"$error":"#DIV/0!"}},{"$f":"ROUND(L99/G99,4)","v":{"$error":"#DIV/0!"}}]
[27035,"Beans, Garbanzo","Distributor Choice",null,null,"6/#10",6,null,{"$f":"ROUND(H100*G100/G100,2)","v":0},"Cs"]
[null,null,"Fillable txt box or unprotected",null,null,null,null,null,{"$f":"ROUND(H100*G100/G101,2)","v":{"$error":"#DIV/0!"}},"Cs",null,{"$f":"IF(OR(ISBLANK(K101),K101=0,H98=0,ISBLANK(H98)),,ROUND(K101+$L$3,2))","v":0},{"$f":"ROUND(I101*L101,2)","v":{"$error":"#DIV/0!"}},{"$f":"ROUND(L101/G101,4)","v":{"$error":"#DIV/0!"}}]
[null,null,null,null,null,null,null,null,null,"Page Total",null,null,{"$f":"SUMIF(M6:M101,\">0\")","v":6186.1799999999994}]

{"sheet":"Breakfast Products","index":15,"n_rows":339,"n_cols":25,"rows_kept":339,"cut":false,"hidden":false,"merged":[[2,16,4,16],[330,1,330,6],[0,5,0,13],[1,5,1,13],[2,6,2,10],[2,15,4,15]]}
[null,{"$f":"'Recap Sheet'!A2","v":"School Food Authority or Agency Name:"},null,null,null,{"$f":"'Recap Sheet'!A3","v":"Bidder's Name:"},null,null,null,null,null,null,null,null,null,null,null,null,"Commodity"]
[28001,{"$f":"'Recap Sheet'!B2","v":"Marion County School District"},"Return to Recap Sheet",null,null,{"$f":"'Recap Sheet'!B3","v":0}]
[30000,"Description","Approved",null,null,null,"Firm Fixed Fee",null,null,null,null,{"$f":"'Recap Sheet'!B4","v":0},null,null,"Manufacturer","Vendor Pack","Servings per case","Processing","Pounds of","USDA","Total Cost","NOI ?",null,"NOI ","Net "]
["SCPA",null,"Brand Name","Manufacturers","Distributor","Vendor","Svgs","Est.","Bid ","Bid","Unit","Unit Price","Total ","Cost per","USDA Product",null,null,"Fee for","DF Needed","Value","Proc Fee + ","Enter","NOI ","Price/","Cost Per"]
[" Code",null,"or Manufacturer","Code","Code","Pack","per unit","Bid Qty","Qty","Unit","Price","plus Fee","Price","Unit","Code",null,null,"Service","Per Case","Per Case","Comm Value","Y or N","Price","Serving","Serving"]
[null,"Breakfast Products",null,null,null,null,null,null,null,null,null,null,null,null,"Beef Coarse Grd 60#",null,null,100154,2.6869999999999998,"Flour Bread Bulk",null,null,100912,0.2054]
[null,null,null,null,null,null,null,null,null,null,null,null,null,null,"Eggs, Whole Liquid Bulk Tank",null,null,100047,0.53900000000000003]
[28001,"Bar, Mini Breakfast Bar                                                                    ","J& J Snacks ",null,null,"96/1.25z",96,null,{"$f":"ROUND(H8*G8/G8,2)","v":0},"Cs",21.15,{"$f":"IF(OR(ISBLANK(K8),K8=0,H8=0,ISBLANK(H8)),,ROUND(K8+$L$3,2))","v":0},{"$f":"ROUND(I8*L8,2)","v":0},{"$f":"ROUND(L8/G8,4)","v":0},null,null,null,null," "," ",null,null," "," "," "]
[null,"WGR, Thaw and serve, One serving provides 1 oz. OEG","Maple Brown Sugar ",40452,null,null,null,null,null,null,null,null,null,null,null,null,null,null," "," ",null,null," "," "," "]
[null," ","Oatmeal Chocolate Chip ",40454,null,null,null,null,null,null,null,null,null,null,null,null,null,null," "," ",null,null," "," "," "]
[null,null,"Brownie ",40455]
[null,"Possible Allergens:  Wheat, Soy, Milk and Eggs","Banana Chocolate Chunk ",40456]
[28002,"Bar, Whole Grain Oat Bar, Fruit Filled","NutriGrain Bar",null,null,"96/1.55z",96,null,{"$f":"ROUND(H13*G13/G13,2)","v":0},"Cs",26.5,{"$f":"IF(OR(ISBLANK(K13),K13=0,H13=0,ISBLANK(H13)),,ROUND(K13+$L$3,2))","v":0},{"$f":"ROUND(I13*L13,2)","v":0},{"$f":"ROUND(L13/G13,4)","v":0},null,null,null,null," "," ",null,null," "," ","  "]
[null,"WGR, IW, Single Serve, Made w/ real fruit puree. One bar provides 1 OEG","Strawberry ","38000-59772",null,null,null,null,null,null,null,null,null,null,null,null,null,null," "," ",null,null," "," "," "]
[null,"SMART SNACKS COMPLIANT ","Blueberry  ","38000-90819",null,null,null,null,null,null,null,null,null,null,null,null,null,null," "," ",null,null," "," "," "]
[null,"Possible Allergens:  Milk, Soy,Wheat, and Eggs,","Apple Cinnamon","38000-59779",null,null,null,null,null,null,null,null,null,null,null,null,null,null," "," ",null,null," "," "," "]
[28003,"Biscuit, Chicken, IW.                                        WGR","Grand Strand Sandwich Co.  ",4009,null,"90/3.6z",90,200,{"$f":"ROUND($H$17*$G$17/G17,2)","v":200},"Cs",38.700000000000003,{"$f":"IF(OR(ISBLANK(K17),K17=0,H17=0,ISBLANK(H17)),,ROUND(K17+$L$3,2))","v":38.700000000000003},{"$f":"ROUND(I17*L17,2)","v":7740},{"$f":"ROUND(L17/G17,4)","v":0.43},null,null,null,null," "," ",null,null," "," "," "]
[null,"Breaded chicken patty with alternate protein and or egg additives.  ","Snak Time ","STF9645NL/72",null,"100/2.85z",100,null,{"$f":"ROUND($H$17*$G$17/G18,2)","v":180},"Cs",null,{"$f":"IF(OR(ISBLANK(K18),K18=0,H18=0,ISBLANK(H18)),,ROUND(K18+$L$3,2))","v":0},{"$f":"ROUND(I18*L18,2)","v":0},{"$f":"ROUND(L18/G18,4)","v":0},null,null,null,null," "," ",null,null," "," "," "]
[null,"Contains 0 Trans Fat "," ",null,null," "," ",null," "," ",null," ","  "," ",null,null,null,null," "," ",null,null," "," "," "]
[28004,"Biscuit, Yeast Raised Potato Sausage (twin pack) WGR","(18-19) Snak Time ","STF9420NL/60",null,"100/2.60z",100,200,{"$f":"ROUND($H$20*$G$20/G20,2)","v":200},"Cs",null,{"$f":"IF(OR(ISBLANK(K20),K20=0,H20=0,ISBLANK(H20)),,ROUND(K20+$L$3,2))","v":0},{"$f":"ROUND(I20*L20,2)","v":0},{"$f":"ROUND(L20/G20,4)","v":0},null,null,null,null," "," ",null,null," "," "," "]
[null,"Fully cooked, each portion provides 1 M/MA and 1.75 OEG"," ",null,null,null,null,null," "," ",null," "," "," ",null,null,null,null," "," ",null,null," "," "," "]
[null,"Contains 0 Trans Fat "," ",null,null,null,null,null," "," ",null," "," "," ",null,null,null,null," "," ",null,null," "," "," "]
[28005,"Biscuit, Peach Cobbler","Tasty Brands ","22020IW",null,"100/2.8z",100,null,{"$f":"ROUND($H$23*$G$23/G23,2)","v":0},"Cs",44,{"$f":"IF(OR(ISBLANK(K23),K23=0,H23=0,ISBLANK(H23)),,ROUND(K23+$L$3,2))","v":0},{"$f":"ROUND(I23*L23,2)","v":0},{"$f":"ROUND(L23/G23,4)","v":0},null,null,null,null," "," ",null,null," "," "," "]
[null,"0 Trans fat. One serving provides 2 equivalent grains "," ",null,null," "," ",null," "," ",null," "," "," ",null,null,null,null," "," ",null,null," "," "," "]
[null," "," ",null,null," "," ",null," "," ",null," "," "," ",null,null,null,null," "," ",null,null," "," "," "]
[28006,"Bread, Breakfast Slice Whole Wheat","Super Bakery",null,null,"70/3.4z",70,100,{"$f":"ROUND(H26*G26/G26,2)","v":100},"Cs",31.58,{"$f":"IF(OR(ISBLANK(K26),K26=0,H26=0,ISBLANK(H26)),,ROUND(K26+$L$3,2))","v":31.58},{"$f":"ROUND(I26*L26,2)","v":3158},{"$f":"ROUND(L26/G26,4)","v":0.4511},null,null,null,null," "," ",null,null," "," "," "]
[null,"Frozen, IW, Thaw and serve.  Product meets a minimum of 1.5 OEG","Super Slice Super Blueberry",6073,null,"70/3.4z",70,null,null,null,null,null,null,null,null,null,null,null," "," ",null,null," "," "," "]
[null,"220-280 calories with 2g of Sat fat or less, 0 trans fat, 220 mg of Sodium ","Super Slice Super Banana",6071,null,"70/3.4z",70,null,null,null,null,null,null,null,null,null,null,null," "," ",null,null," "," "," "]
[null,"or less, WGR","Super Slice Super Pumpkin",6075,null,"70/3.4z",70,null,null,null,null,null,null,null,null,null,null,null," "," ",null,null," "," "," "]
[null,null,"Super Slice Super Lemon",6047,null,"70/3.4z",70,null,null,null,null,null,null,null,null,null,null,null," "," ",null,null," "," "," "]
[28007,"Breakfast Bites,WG Pancake and Pork","Jimmy Dean",10000019011,null,"180/.85z",63,100,{"$f":"ROUND(H31*G31/G31,2)","v":100},"Cs",22,{"$f":"IF(OR(ISBLANK(K31),K31=0,H31=0,ISBLANK(H31)),,ROUND(K31+$L$3,2))","v":22},{"$f":"ROUND(I31*L31,2)","v":2200},{"$f":"ROUND(L31/G31,4)","v":0.34920000000000001},null,null,null,null," "," ",null,null," "," "," "]
[null,"WGR, Frozen, Heat and Serve.  Whole Grain batter around a pre-cooked ",null,null,null,null,null,null,null,null,null,null,null,null,null,null,null,null," "," ",null,null," "," "," "]
[null,"ground pork sausage link w/TV.  3 g sat fat or less, 0 trans fat, 500 mg"]
[null,"sodiium of less.  Three (3) bites = one serving",null,null,null,null,null,null,null,null,null,null,null,null,null,null,null,null," "," ",null,null," "," "," "]
[null,null,null,null,null,null,null,null,null,null,null,null,null,null,null,null,null,null," "," ",null,null," "," "," "]
[28008,"Breakfast Item, Whole Grain Grahams","Kelloggs Crunchmania  ",null,null,"100/1.76z",100,null,{"$f":"ROUND(H36*G36/G36,2)","v":0},"Cs",29,{"$f":"IF(OR(ISBLANK(K36),K36=0,H36=0,ISBLANK(H36)),,ROUND(K36+$L$3,2))","v":0},{"$f":"ROUND(I36*L36,2)","v":0},{"$f":"ROUND(L36/G36,4)","v":0},null,null,null,null," "," ",null,null," "," "," "]
[null,"Bite size whole grain grahams.  Meets 2.0 OEG","Cinnamon Bun"," 38000- 24518",null,null,null,null,null,null,null,null,null,null,null,null,null,null," "," ",null,null," "," "," "]
[null,null,"French Toast"," 38000- 24520",null,null,null,null,null,null,null,null,null,null,null,null,null,null," "," ",null,null," "," "," "]
[28009,"Breakfast Kits, Kelloggs & ES Breaks         WGR  2.0 OEG"," Kelloggs (Morning Jump Starts) ",null,null,"44Ct",44,100,{"$f":"ROUND(H39*G39/G39,2)","v":100},"Cs",null,{"$f":"IF(OR(ISBLANK(K39),K39=0,H39=0,ISBLANK(H39)),,ROUND(K39+$L$3,2))","v":0},{"$f":"ROUND(I39*L39,2)","v":0},{"$f":"ROUND(L39/G39,4)","v":0},null,null,null,null," "," ",null,null," "," "," "]
[null,"Each kit provides: 2oz equivalent  grain, 1/2 cup fruit serving, ","Blue Frosted Flaked R/ S","38000-51091",null,null,null,null,null,null,null,null,null,null,null,null,null,null," "," ",null,null," "," "," "]
[null,"plus a spoon/napkin kit, each master case  includes trash bag.","Froot Loops R/S","38000-78792",null,null,null,null,null,null,null,null,null,null,null,null,null,null," "," ",null,null," "," "," "]
[null,"Contains 3 Ct Keebler Graham Cracker, 1.0 oz Cereal Bowl","Green Apple Jacks R/S","38000-78791",null,null,null,null,null,null,null,null,null,null,null,null,null,null," "," ",null,null," "," "," "]
[null,"and 100% Fruit juice","Crunchmania","38000-19201",null,null,null,null,null,null,null,null,null,null,null,null,null,null," "," ",null,null," "," "," "]
[null,null,"Nutrigrain","38000-18589"]
[]
[null,null,"ES Breaks",null,null,"60Ct",60,null,{"$f":"ROUND(H39*G39/G46,2)","v":73.33},"Cs",44.64,{"$f":"IF(OR(ISBLANK(K46),K46=0,H46=0,ISBLANK(H46)),,ROUND(K46+$L$3,2))","v":0},{"$f":"ROUND(I46*L46,2)","v":0},{"$f":"ROUND(L46/G46,4)","v":0},null,null,null,null," "," ",null,null," "," "," "]
[null,null,"Fruit Loops Red Sugar",61123,null,null,null,null,null,null,null,null,null,null,null,null,null,null," "," ",null,null," "," "," "]
[null,null,"Apple Cinnamon Cherrios",61118]
[null,null,"Trix RS",61114]
[null,null,"Lucky Charms",61103]
[null,null,null,null,null,null,null,null,null,null,null,null,null,null,null,null,null,null," "," ",null,null," "," "," "]
[null,null,null,null,null,null,null,null,null,null,null,null,null,null,null,null,null,null," "," ",null,null," "," "," "]
[null,null,"ES Breaks",null,null,"72 ct",72,null,{"$f":"ROUND(H39*G39/G53,2)","v":61.11},"Cs",53.57,{"$f":"IF(OR(ISBLANK(K53),K53=0,H53=0,ISBLANK(H53)),,ROUND(K53+$L$3,2))","v":0},{"$f":"ROUND(I53*L53,2)","v":0},{"$f":"ROUND(L53/G53,4)","v":0}]
[null,null,"Cinnammon Toast Crunch Red Sugar",61119,null,null,null,null,null,null,null,null,null,null,null,null,null,null,null,null,null,null,null,null," "]
[null,null,"Honey Nut Cherrios",61105,null,null,null,null,null,null,null,null,"  ",null,null,null,null,null," "," ",null,null," "," "," "]
[null,null,"Frosted Flakes RS",61106,null,null,null,null,null,null,null,null," "]
[28010,"Cereal, General Mills, Assorted Flavors,                                     WGR               ","General Mills ",null,null,"96 Ct",96,100,{"$f":"ROUND(H57*G57/G57,2)","v":100},"Cs",19.8,{"$f":"IF(OR(ISBLANK(K57),K57=0,H57=0,ISBLANK(H57)),,ROUND(K57+$L$3,2))","v":19.8},{"$f":"ROUND(I57*L57,2)","v":1980},{"$f":"ROUND(L57/G57,4)","v":0.20630000000000001},null,null,null,null," "," ",null,null," "," "," "]
[null," Made from whole grain.  Prepackaged,  Bowl pack.  ","Apple Cinnamon Cheerios WG",31879,null,null,null,null,null,null,null,null,null,null,null,null,null,null," "," ",null,null," "," "," "]
[null,"1 oz Cereal = 1oz Equivalent Grain ","Cheerios Whole Grain",32262,null,null,null,null,null,null,null,null,null,null,null,null,null,null," "," ",null,null," "," "," "]
[null,null,"Cinnamon Toast Crunch Whole Grain",11815,null,null,null,null,null,null,null,null,null,null,null,null,null,null," "," ",null,null," "," "," "]
[null,null,"Golden Grahams Whole Grain",11943,null,null,null,null,null,null,null,null,null,null,null,null,null,null," "," ",null,null," "," "," "]
[null,null,"Honey Nut Cheerios Whole Grain",11918,null,null,null,null,null,null,null,null,null,null,null,null,null,null," "," ",null,null," "," ","  "]
[null,null,"Honey Nut Chex Whole Grain",11866,null,null,null,null,null,null,null,null,null,null,null,null,null,null," "," ",null,null," "," "," "]
[null,null,"Lucky Charms Whole Grain",31917,null,null,null,null,null,null,null,null,null,null,null,null,null,null," "," ",null,null," "," "," "]
[null,null,"Multigrain Cheerios",32263,null,null,null,null,null,null,null,null,null,null,null,null,null,null," "," ",null,null," "," "," "]
[null,null,"Reese's Puffs Whole Grain",31919,null,null,null,null,null,null,null,null,null,null,null,null,null,null," "," ",null,null," "," "," "]
[null,null,"Total Raisin Bran Whole Grain",12392,null,null,null,null,null,null,null,null,null,null,null,null,null,null," "," ",null,null," "," "," "]
[null,null,"Fruity Cheerios Whole Grain",31916,null,null,null,null,null,null,null,null,null,null,null,null,null,null," "," ",null,null," "," "," "]
[null,null,"Frosted Corn Flakes Whole Grain",11768,null,null,null,null,null,null,null,null,null,null,null,null,null,null," "," ",null,null," "," "," "]
[null,null," ",null,null,null,null,null,null,null,null,null,null,null,null,null,null,null," "," ",null,null," "," "," "]
[null," "," ",null,null,null,null,null,null,null,null,null,null,null,null,null,null,null," "," ",null,null," "," "," "]
[null," ",null,null,null,null,null,null,null,null,null,null,null,null,null,null,null,null," "," ",null,null," "," "," "]
[28011,"Cereal, General Mills, Assorted Flavors 2 oz cup pack WGR","General Mills",null,null,"60/2 oz",60,null,{"$f":"ROUND(H73*G73/G73,2)","v":0},"Cs",23.95,{"$f":"IF(OR(ISBLANK(K73),K73=0,H73=0,ISBLANK(H73)),,ROUND(K73+$L$3,2))","v":0},{"$f":"ROUND(I73*L73,2)","v":0},{"$f":"ROUND(L73/G73,4)","v":0}," "," "," "," "," "," ",null," "]
[null,"Made with Whole grain, prepackaged, bowl pack, 2 oz. cereal equals ","Honey Nut Cherrios Gluten Free",14882000]
[null,"2 OEG","Chex Cinnamon Gluten Free",14883000]
[null,null,"Cinnamon Toast Crunch",14886000]
[null,null,"Cocoa Puffs, R/S",14885000]
[null,null,"Chex Blueberry Gluten Free",17262000]
[null,null,"Lucky Charms Gluten Free",14884000]
[28012,"Cereal, General Mills, Reduced Sugar, Assorted Flavors   WGR"," General Mills",null,null,"96 Ct",96,100,{"$f":"ROUND(H80*G80/G80,2)","v":100},"Cs",19.8,{"$f":"IF(OR(ISBLANK(K80),K80=0,H80=0,ISBLANK(H80)),,ROUND(K80+$L$3,2))","v":19.8},{"$f":"ROUND(I80*L80,2)","v":1980},{"$f":"ROUND(L80/G80,4)","v":0.20630000000000001},null,null,null,null," "," ",null,null," "," "," "]
[null,"Made from whole grain.  Prepackaged, Bowl Pack.  ","Redu Sugar Cinnamon Toast Crunch",29444,null,null,null,null,null,null,null,null,null,null,null,null,null,null," "," ",null,null," "," "," "]
[null,"1oz Cereal provides  1 oz Grain Equivalent","Reduced Sugar Trix",31922,null,null,null,null,null,null,null,null,null,null,null,null,null,null," "," ",null,null," "," "," "]
[null,null,"Reduced Sugar Cocoa Puffs",31888,null,null,null,null,null,null,null,null,null,null,null,null,null,null," "," ",null,null," "," "," "]
[28013,"Cereal, Kelloggs, Assorted Flavors, WGR","Kelloggs  ",null,null,"96 Ct",96,null,{"$f":"ROUND(H84*G84/G84,2)","v":0},"Cs",22,{"$f":"IF(OR(ISBLANK(K84),K84=0,H84=0,ISBLANK(H84)),,ROUND(K84+$L$3,2))","v":0},{"$f":"ROUND(I84*L84,2)","v":0},{"$f":"ROUND(L84/G84,4)","v":0},null,null,null,null," "," ",null,null," "," "," "]
[null,"Prepackaged, bowl pack  1oz Cereal provides  1oz Equivalent Grain","38000-00896 Raisin Bran ","38000-00896",null,null,null,null,null,null,null,null,null,null,null,null,null,null," "," ",null,null," "," "," "]
[null,"CACFP APPROVED","Frosted Mini Wheats. Bite Size","38000-04996",null,null,null,null,null,null,null,null,null,null,null,null,null,null," "," ",null,null," "," "," "]
[null,"Discontinued","Choc Frsted Mini Whts Bite-size","38000-45861",null,null,null,null,null,null,null,null,null,null,null,null,null,null," "," ",null,null," "," "," "]
[null,"CACFP APPROVED","Rice Krispies, WG-Gluten Free ","38000-78789",null,null,null,null,null,null,null,null,null,null,null,null,null,null," "," ",null,null," "," "," "]
[null,null,null,null,null,null,null,null,null,null,null,null,null,null,null,null,null,null," "," ",null,null," "," "," "]
[28014,"Cereal, Kelloggs, Reduced Sugar, WGR"," Kelloggs  ",null,null,"96 Ct",96,100,{"$f":"ROUND(H90*G90/G90,2)","v":100},"Cs",20,{"$f":"IF(OR(ISBLANK(K90),K90=0,H90=0,ISBLANK(H90)),,ROUND(K90+$L$3,2))","v":20},{"$f":"ROUND(I90*L90,2)","v":2000},{"$f":"ROUND(L90/G90,4)","v":0.20830000000000001},null,null,null,null," "," ",null,null," "," "," "]
[null,"Prepackaged, bowl pack  1oz Cereal provides  1oz Equivalent Grain","Reduced Sugar, Froot Loops","38000-78788",null,null,null,null,null,null,null,null,null,null,null,null,null,null," "," ",null,null," "," "," "]
[null,null,"Reduced Sugar, Apple Jacks","38000-78787",null,null,null,null,null,null,null,null,null,null,null,null,null,null," "," ",null,null," "," "," "]
[null,null,"Red Sugar,Frosted Flakes, MG","38000-54998",null,null,null,null,null,null,null,null,null,null,null,null,null,null," "," ",null,null," "," "," "]
[null,"CACFP APPROVED","Cinnamon Flakes MultiGrain","38000-78786",null,null,null,null,null,null,null,null,null,null,null,null,null,null," "," ",null,null," "," "," "]
[null,null,null,null,null,null,null,null,null,null,null,null,null,null,null,null,null,null," "," ",null,null," "," "," "]
[null,null,null,null,null,null,null,null,null,null,null,null,null,null,null,null,null,null," "," ",null,null," "," "," "]
[28015,"Cereal, Post Consumer Brands, Assorted Flavors, WGR","Post Consumer Brands",null,null,"96 Ct",96,null,{"$f":"ROUND(H97*G97/G97,2)","v":0},"Cs",17.48,{"$f":"IF(OR(ISBLANK(K97),K97=0,H97=0,ISBLANK(H97)),,ROUND(K97+$L$3,2))","v":0},{"$f":"ROUND(I97*L97,2)","v":0},{"$f":"ROUND(L97/G97,4)","v":0},null,null,null,null," "," ",null,null," "," "," "]
[null,"Prepackaged, Bowl Pack.  ","Cinnamon Toasters",3915,null,"96/1z",96,null,null,null,null,null,null,null,null,null,null,null," "," ",null,null," "," "," "]
[null,"1 oz Cereal = 1oz Equivalent Grain ","Honey Scooter  ",27597,null,"96/1z",96,null,null,null,null,null,null,null,null,null,null,null," "," ",null,null," "," "," "]
[null,null,"Marshmallow Mateys (RS)",27596,null,"96/1z",96,null,null,null,null,null,null,null,null,null,null,null," "," ",null,null," "," "," "]
[null,null,"Honey Graham Squares  ",4515,null,"96/1z",96,null,null,null,null,null,null,null,null,null,null,null," "," ",null,null," "," "," "]
[null,null,"Raisin Bran  ","O715",null,"96/1.25z",96,null,null,null,null,null,null,null,null,null,null,null," "," ",null,null," "," "," "]
[null,"CACFP APPROVED","Scooter (RS)",27164,null,"96/1z",96,null,null,null,null,null,null,null,null,null,null,null," "," ",null,null," "," "," "]
[null,null," ",null,null," "," ",null,null,null,null,null,null,null,null,null,null,null," "," ",null,null," "," "," "]
[null,null,null,null,null,null,null,null,null,null,null,null,null,null,null,null,null,null," "," ",null,null," "," "," "]
[28016,"Cereal, Single Serve Pouch","Kellogg's ",null,null,"96/1.0z",96,null,{"$f":"ROUND(H106*G106/G106,2)","v":0},"Cs",20.16,{"$f":"IF(OR(ISBLANK(K106),K106=0,H106=0,ISBLANK(H106)),,ROUND(K106+$L$3,2))","v":0},{"$f":"ROUND(I106*L106,2)","v":0},{"$f":"ROUND(L106/G106,4)","v":0},null,null,null,null," "," ",null,null," "," "," "]
[null,"No high fructose corn syrup","Frosted Flakes Multi-Grain RS","38000-11465",null," ",null,null,null,null,null,null,null,null,null,null,null,null," "," ",null,null," "," "," "]
[null,"One serving equals 1 OEG","Fruit Loops RS","38000-11467",null,null,null,null,null,null,null,null,null,null,null,null,null,null," "," ",null,null," "," "," "]
[null,"Possible Allergens:  Wheat, Soy, and Milk","Apple Jacks RS","38000-11469",null,null,null,null,null,null,null,null,null,null,null,null,null,null," "," ",null,null," "," "," "]
[null,null," ",null,null,null,null,null,null,null,null,null,null,null,null,null,null,null," "," ",null,null," "," "," "]
[28017,"Cereal, Single Serve Pouch Discontinued by Manufacturer","General Mills",null,null,null,null,null,{"$f":"ROUND(H111*G111/G111,2)","v":{"$error":"#DIV/0!"}},"Cs",null,{"$f":"IF(OR(ISBLANK(K111),K111=0,H111=0,ISBLANK(H111)),,ROUND(K111+$L$3,2))","v":0},{"$f":"ROUND(I111*L111,2)","v":{"$error":"#DIV/0!"}},{"$f":"ROUND(L111/G111,4)","v":{"$error":"#DIV/0!"}},null,null,null,null," "," ",null,null," "," "," "]
[null,"No high fructose corn syrup","Cinnamon Crunch",17733,null," ",null,null,null,null,null,null,null,null,null,null,null,null," "," ",null,null," "," "," "]
[null,"One serving equals 1 OEG","Golden Grahams",41574,null,null,null,null,null,null,null,null,null,null,null,null,null,null," "," ",null,null," "," "," "]
[null,"Possible Allergens:  Wheat, Soy, and Milk"," ",null,null,null,null,null,null,null,null,null,null,null,null,null,null,null," "," ",null,null," "," "," "]
[null,null," ",null,null,null,null,null,null,null,null,null,null,null,null,null,null,null," "," ",null,null," "," "," "]
[28018,"Cereal Bar, WGR","General Mills",null,null,"96/1.42z",96,null,{"$f":"ROUND($H$116*$G$116/G116,2)","v":0},"Cs",23.69,{"$f":"IF(OR(ISBLANK(K116),K116=0,H116=0,ISBLANK(H116)),,ROUND(K116+$L$3,2))","v":0},{"$f":"ROUND(I116*L116,2)","v":0},{"$f":"ROUND(L116/G116,4)","v":0},null,null,null,null," "," ",null,null," "," "," "]
[null,"Contains 0-150 calories and not more than 1 gm saturated fat and ","Cinnamon Toast Crunch  ",45576,null,null,null,null,null,null,null,null,null,null,null,null,null,null," "," ",null,null," "," "," "]
[null,"0-150 mg sodium per serving","Cocoa Puffs   ",45577,null,null,null,null,null,null,null,null,null,null,null,null,null,null," "," ",null,null," "," "," "]
[null," ","Fruity Cheerios  ",31912,null,null,null,null,null,null,null,null,null,null,null,null,null,null," "," ",null,null," "," "," "]
[null,null,"Team Cherrios",31914,null,null,null,null,null,null,null,null,null,null,null,null,null,null," "," ",null,null," "," "," "]
[null,"Smart Snacks Compliant ","Trix",31915,null,null,null,null,null,null,null,null,null,null,null,null,null,null," "," ",null,null," "," "," "]
[28019,"Cereal Bar, WGR","Kellogg",null,null,"96/1.34z",96,50,{"$f":"ROUND($H$122*$G$122/G122,2)","v":50},"Cs",24.85,{"$f":"IF(OR(ISBLANK(K122),K122=0,H122=0,ISBLANK(H122)),,ROUND(K122+$L$3,2))","v":24.85},{"$f":"ROUND(I122*L122,2)","v":1242.5},{"$f":"ROUND(L122/G122,4)","v":0.25890000000000002},null,null,null,null," "," ",null,null," "," "," "]
[null,"made from Whole Grain Oats","Chocolate","38000-91612",null,null,null,null,null,null,null,null,null,null,null,null,null,null," "," ",null,null," "," "," "]
[null,"Calories 150 or less, 0 Trans fat; Saturated Fat 1g or less;  ","Apple Cinnamon","38000-48396",null,null,null,null,null,null,null,null,null,null,null,null,null,null," "," ",null,null," "," "," "]
[null,"90- 140mg Sodium  per serving.","Berry","38000-54937",null,null,null,null,null,null,null,null,null,null,null,null,null,null," "," ",null,null," "," "," "]
[null,null," ",null,null,null,null,null,null,null,null,null,null,null,null,null,null,null," "," ",null,null," "," "," "]
[null,"SMART SNACK COMPLIANT"," ",null,null,null,null,null,null,null,null,null,null,null,null,null,null,null," "," ",null,null," "," "," "]
[null,null,null,null,null,null,null,null,null,null,null,null,null,null,null,null,null,null," "," ",null,null," "," "," "]
[28020,"Cinnamon Rolls, IW","Pillsbury Mini Cinnis",133686000,null,"72/2.29z",72,25,{"$f":"ROUND(H129*G129/G129,2)","v":25},"Cs",null,{"$f":"IF(OR(ISBLANK(K129),K129=0,H129=0,ISBLANK(H129)),,ROUND(K129+$L$3,2))","v":0},{"$f":"ROUND(I129*L129,2)","v":0},{"$f":"ROUND(L129/G129,4)","v":0},null,null,null,null," "," ",null,null," "," "," "]
[null,"Thaw /Heat/ Serve, One serving provides 2 oz Equivalent Grains ","Hadley Farms","1375IW",null,"144/2.7z",144,null,{"$f":"ROUND(H129*G129/G130,2)","v":12.5},"Cs",44.73,{"$f":"IF(OR(ISBLANK(K130),K130=0,H129=0,ISBLANK(H129)),,ROUND(K130+$L$3,2))","v":44.73},{"$f":"ROUND(I130*L130,2)","v":559.13},{"$f":"ROUND(L130/G130,4)","v":0.31059999999999999},null,null,null,null," "," ",null,null," "," "," "]
[null,null,null,null,null,null,null,null,null,null,null,null,null,null,null,null,null,null," "," ",null,null," "," "," "]
[28021,"Cinnamon Rolls,  Whole Wheat  Frz. Dough                          WGR","Bridgford ",6718,null,"160/2.25z",160,null,{"$f":"ROUND(H132*G132/G132,2)","v":0},"Cs",30.8,{"$f":"IF(OR(ISBLANK(K132),K132=0,H132=0,ISBLANK(H132)),,ROUND(K132+$L$3,2))","v":0},{"$f":"ROUND(I132*L132,2)","v":0},{"$f":"ROUND(L132/G132,4)","v":0},null,null,null,null," "," ",null,null," "," "," "]
[null,"Pre-sliced cinnamon roll dough, IQF. 0 trans fat, 1 g sat fat"]
[null,"Thaw, proof and bake",null,null,null,null,null,null,null,null,null,null,null,null,null,null,null,null," "," ",null,null," "," "," "]
[null,"One serving provides not more than 2oz Equivalent grains",null,null,null,null,null,null,null,null,null,null,null,null,null,null,null,null," "," ",null,null," "," "," "]
[28022,"Cinnamon Rolls,  Whole Wheat                            WGR","Pillsbury/General Mills ",111111000,null,"100/2.7z",100,25,0,"Cs",25.25,0,0,{"$f":"ROUND(L136/G136,4)","v":0}]
[null,"Frozen. Freezer to Oven format.. 200-300 calories with no more than"]
[null,"6 g  saturated fat and 400 mg sodium per serving. One portion"]
[null,"to provide min. 2 OEG"]
[null,"Possible Allergens: Wheat, Soy, Milk, Egg"]
[28023,"Doughnut Mini,  IW WGR","Super Bakery Powdered",null,null,null,72,null,null,null,null,null,null,null,null,null,null,null," "," ",null,null," "," "," "]
[null,"One serving provides 2oz OEG","Powdered",7787,null,"72/3.2z",72,50,{"$f":"ROUND(H142*G141/G141,2)","v":50},"Cs",36.47,{"$f":"IF(OR(ISBLANK(K142),K142=0,H142=0,ISBLANK(H142)),,ROUND(K142+$L$3,2))","v":36.47},{"$f":"ROUND(I142*L142,2)","v":1823.5},{"$f":"ROUND(L142/G142,4)","v":0.50649999999999995},null,null,null,null," "," ",null,null," "," "," "]
[null,"Frozen. Thaw and serve.    ","Chocolate Enrobed",7786,null,"72/3.z",72,null,{"$f":"ROUND(H143*G141/G141,2)","v":0},"Cs",41.49,{"$f":"IF(OR(ISBLANK(K143),K143=0,H143=0,ISBLANK(H143)),,ROUND(K143+$L$3,2))","v":0},{"$f":"ROUND(I143*L143,2)","v":0},{"$f":"ROUND(L143/G143,4)","v":0},null,null,null,null," "," ",null,null," "," "," "]
[null,"SMART SNACK COMPLIANT"," ",null,null,null,null,null,null,null,null,null,null,null,null,null,null,null," "," ",null,null," "," "," "]
[28024,"Doughnut Holes, Bulk ","(18-19) Rich's ",2725,null,"384/.41z",128,null,{"$f":"ROUND(H145*G145/G145,2)","v":0},"Cs",25.58,{"$f":"IF(OR(ISBLANK(K145),K145=0,H145=0,ISBLANK(H145)),,ROUND(K145+$L$3,2))","v":0},{"$f":"ROUND(I145*L145,2)","v":0},{"$f":"ROUND(L145/G145,4)","v":0},2725,"10 lb",128,24.69,4.33,{"$f":"ROUND($X$6*S145,2)","v":0.89},{"$f":"IF(ISBLANK(O145),,R145+T145)","v":25.580000000000002},"Y",{"$f":"IF(ISNUMBER(K145),IF(V145=\"Y\",(K145-T145)))","v":24.689999999999998},{"$f":"W145/G145","v":0.19289062499999998},{"$f":"IF(V145=\"N\",IF(ISNUMBER(R145),(R145+T145)/Q145))","v":false}]
[null,"Frozen, thaw, heat and serve 100-200 calories with no more than 4 g ",null,null,null,null,null,null,null,null,null,null,null,null,null,null,null,null," "," ",null,null," "," "," "]
[null,"sat fat and 200 mg of sodium per serving. One portion to provide min"]
[null,"1 OEG",null,null,null,null,null,null,null,null,null,null,null,null,null,null,null,null," "," ",null,null," "," "," "]
[null,"Possible Allergens: Wheat, Soy, Milk",null,null,null,null,null,null,null,null,null,null,null,null,null,null,null,null," "," ",null,null," "," "," "]
[28025,"Doughnut, Yeast Raised Donut, WG","(18-19) Rich's",14839,null,"84/2.45z",84,null,{"$f":"ROUND(H150*G150/G150,2)","v":0},"Cs",28.75,{"$f":"IF(OR(ISBLANK(K150),K150=0,H150=0,ISBLANK(H150)),,ROUND(K150+$L$3,2))","v":0},{"$f":"ROUND(I150*L150,2)","v":0},{"$f":"ROUND(L150/G150,4)","v":0},14839,"84/2.45z",84,27.6,5.58,{"$f":"ROUND($X$6*S150,2)","v":1.1499999999999999},{"$f":"IF(ISBLANK(O150),,R150+T150)","v":28.75},"Y",{"$f":"IF(ISNUMBER(K150),IF(V150=\"Y\",(K150-T150)))","v":27.6},{"$f":"W150/G150","v":0.32857142857142857},{"$f":"IF(V150=\"N\",IF(ISNUMBER(R150),(R150+T150)/Q150))","v":false}]
[null,"Frozen, thaw, heat and serve 200-300 calories with no more than 7 g sat ",null,null,null,null,null,null,null,null,null,null,null,null,null,null,null,null," "," ",null,null," "," "," "]
[null,"fat and 350 mg of sodium per svg. One portion provides min. 2 OEG",null,null,null,null,null,null,null,null,null,null,null,null,null,null,null,null," "," ",null,null," "," "," "]
[null,"Possible Allergens: Wheat, Soy, Milk, and Eggs",null,null,null,null,null,null,null,null,null,null,null,null,null,null,null,null," "," ",null,null," "," "," "]
[28026,"Dunkin Stick, WGR","Super Bakery ",7010,null,"100/1.9z",100,null,{"$f":"ROUND(H154*G154/G154,2)","v":0},"Cs",30,{"$f":"IF(OR(ISBLANK(K154),K154=0,H154=0,ISBLANK(H154)),,ROUND(K154+$L$3,2))","v":0},{"$f":"ROUND(I154*L154,2)","v":0},{"$f":"ROUND(L154/G154,4)","v":0},null,null,null,null," "," ",null,null," "," "," "]
[null,"One 1.9 oz. serving equals one EOG",null,null,null,null,null,null,null,null,null,null,null,null,null,null,null,null," "," ",null,null," "," "," "]
[null,null,null,null,null,null,null,null,null,null,null,null,null,null,null,null,null,null," "," ",null,null," "," "," "]
[null," ",null,null,null,null,null,null,null,null,null,null,null,null,null,null,null,null," "," ",null,null," "," "," "]
[28027,"French Toast Sticks","Farm Rich  (4)  ",37722,null,"480/cs",120,50,{"$f":"ROUND(H158*G158/G158,2)","v":50},"Cs",33.5,{"$f":"IF(OR(ISBLANK(K158),K158=0,H158=0,ISBLANK(H158)),,ROUND(K158+$L$3,2))","v":33.5},{"$f":"ROUND(I158*L158,2)","v":1675},{"$f":"ROUND(L158/G158,4)","v":0.2792},null,null,null,null," "," ",null,null," "," "," "]
[null,"Frozen, heat and serve, 150-250 calories with no more than 2 g sat fat ","Krusteaz ",68615160346,null,"176/.78z",44,null,{"$f":"ROUND(H158*G158/G159,2)","v":136.36000000000001},"Cs",null,{"$f":"IF(OR(ISBLANK(K159),K159=0,H159=0,ISBLANK(H159)),,ROUND(K159+$L$3,2))","v":0},{"$f":"ROUND(I159*L159,2)","v":0},{"$f":"ROUND(L159/G159,4)","v":0},null,null,null,null," "," ",null,null," "," "," "]
[null,"and 350 mg sodium, CN labeled for 4 (four) sticks to provide min. 2 OEG","Right Start ","RS8627 ",null,"85/3.0",85,null,{"$f":"ROUND(H158*G158/G160,2)","v":70.59},"Cs",null,{"$f":"IF(OR(ISBLANK(K160),K160=0,H160=0,ISBLANK(H160)),,ROUND(K160+$L$3,2))","v":0},{"$f":"ROUND(I160*L160,2)","v":0},{"$f":"ROUND(L160/G160,4)","v":0},null,null,null,null," "," ",null,null," "," "," "]
[null,"Possible Allergens:  Egg, Soy, Milk and Wheat"," ",null," "," "," ",null," "," ",null,null,null,null,null,null,null,null," "," ",null,null," "," "," "]
[28028,"French Toast, Mini, WGR IW","Eggo Mini French Toast Bites",null,null,"72/3.03z",72,null,{"$f":"ROUND($H$162*$G$162/G162,2)","v":0},"Cs",24.5,{"$f":"IF(OR(ISBLANK(K162),K162=0,H162=0,ISBLANK(H162)),,ROUND(K162+$L$3,2))","v":0},{"$f":"ROUND(I162*L162,2)","v":0},{"$f":"ROUND(L162/G162,4)","v":0},null,null,null,null," "," ",null,null," "," "," "]
[null,"Frozen, heat and serve, No HFCS, Contains not more than 200 mg sodium","Chocolate Chip","38000-80801",null,null,null,null,null,null,null,null,null,null,null,null,null,null," "," ",null,null," "," "," "]
[null,"and O trans fat.  One package equals 2 OEG","Original Maple","38000-80693",null,null,null,null,null,null,null,null,null,null,null,null,null,null," "," ",null,null," "," "," "]
[null,null," ",null," "," "," ",null," "," ",null," "," "," ",null,null,null,null," "," ",null,null," "," "," "]
[28029,"French Toast, Mini, WGR IW","Pillsbury",null,null,"72/2.64z",72,null,{"$f":"ROUND($H$166*$G$166/G166,2)","v":0},"Cs",24.53,{"$f":"IF(OR(ISBLANK(K166),K166=0,H166=0,ISBLANK(H166)),,ROUND(K166+$L$3,2))","v":0},{"$f":"ROUND(I166*L166,2)","v":0},{"$f":"ROUND(L166/G166,4)","v":0},null,null,null,null," "," ",null,null," "," "," "]
[null,"Frozen, heat and serve, No HFCS, Contains not more than 200 mg sodium","Cinnamon Rush ",137309,null,null,null,null,null,null,null,null,null,null,null,null,null,null," "," ",null,null," "," "," "]
[null,"and O trans fat.  One package equals 2 OEG","Triple Berry Blast",137308," "," "," ",null,null,null,null,null,null,null,null,null,null,null," "," ",null,null," "," "," "]
[null,null," ",null," "," "," ",null," "," ",null," "," "," ",null,null,null,null," "," ",null,null," "," "," "]
[28030,"Strudel Stick, Fruit Filled","Pillsbury ",null,null,"72/2.29z",72,200,{"$f":"ROUND(H170*G170/G170,2)","v":200},"Cs",29.35,{"$f":"IF(OR(ISBLANK(K170),K170=0,H170=0,ISBLANK(H170)),,ROUND(K170+$L$3,2))","v":29.35},{"$f":"ROUND(I170*L170,2)","v":5870},{"$f":"ROUND(L170/G170,4)","v":0.40760000000000002},null,null,null,null," "," ",null,null," "," "," "]
[null,"Frozen. Heat and serve. Whole grain rich. No more than 6 g","Frudel Apple Strudel ",127852000,null,null,null,null,null,null,null,null,null,null,null,null,null,null," "," ",null,null," "," "," "]
[null,"fat and 280 mg sodium per serving. 0 trans fat. One serving","Frudel Cherry Strudel",127851000,null,null,null,null,null,null,null,null,null,null,null,null,null,null," "," ",null,null," "," "," "]
[null,"provides  2 oz Equivalent Grains",null,null,null,null,null,null,null,null,null,null,null,null,null,null,null,null," "," ",null,null," "," "," "]
[null,null,null,null,null,null,null,null,null,null,null,null,null,null,null,null,null,null," "," ",null,null," "," "," "]
[28031,"Honey Bun, IW","Super Bakery ",null,null,"80/2.75z",80,50,{"$f":"ROUND(H175*G175/G175,2)","v":50},"Cs",21.6,{"$f":"IF(OR(ISBLANK(K175),K175=0,H175=0,ISBLANK(H175)),,ROUND(K175+$L$3,2))","v":21.6},{"$f":"ROUND(I175*L175,2)","v":1080},{"$f":"ROUND(L175/G175,4)","v":0.27},null,null,null,null," "," ",null,null," "," "," "]
[null,"Frozen, thaw and serve, WGR, One serving provides 2 OEG","Goody Bun",6060,null,null,null,null,null,null,null,null,null,null,null,null,null,null," "," ",null,null," "," "," "]
[null,null,null,null,null,null,null,null,null,null,null,null,null,null,null,null,null,null," "," ",null,null," "," "," "]
[28032,"Loaf, Mini, IW,                                                                       ","Super Bakery ",null,null,"120/2.0z",120,null,{"$f":"ROUND(H178*G178/G178,2)","v":0},"Cs",31.24,{"$f":"IF(OR(ISBLANK(K178),K178=0,H178=0,ISBLANK(H178)),,ROUND(K178+$L$3,2))","v":0},{"$f":"ROUND(I178*L178,2)","v":0},{"$f":"ROUND(L178/G178,4)","v":0},null,null,null,null," "," ",null,null," "," "," "]
[null,"Frozen, thaw and serve, WGR, One serving provides 1 OEG","Blueberry",7055,null,null,null,null,null,null,null,null,null,null,null,null,null,null," "," ",null,null," "," "," "]
[null,"1 serving  provides 1 oz equivalent grain","Banana",7056,null,null,null,null,null,null,null,null,null,null,null,null,null,null," "," ",null,null," "," "," "]
[null,null,"Apple Cinnamon ",7057,null,null,null,null,null,null,null,null,null,null,null,null,null,null," "," ",null,null," "," "," "]
[28033,"Muffins, IW"," COOL MUFFINS ",null,null,"96/1.8z",96,null,{"$f":"ROUND($H$182*$G$182/G182,2)","v":0},"Cs",0,{"$f":"IF(OR(ISBLANK(K182),K182=0,H182=0,ISBLANK(H182)),,ROUND(K182+$L$3,2))","v":0},{"$f":"ROUND(I182*L182,2)","v":0},{"$f":"ROUND(L182/G182,4)","v":0},null,null,null,null," "," ",null,null," "," "," "]
[null,"Frozen, thaw and serve, One serving provides 1 OEG","Cinnamon",30921,null,null,null,null,null,null,null,null,null,null,null,null,null,null," "," ",null,null," "," "," "]
[null," ","Blueberry",30727,null,null,null,null,null,null,null,null,null,null,null,null,null,null," "," ",null,null," "," "," "]
[null,null,"Apple",30720,null,null,null,null,null,null,null,null,null,null,null,null,null,null," "," ",null,null," "," "," "]
[null,null,"Banana",30723,null,null,null,null,null,null,null,null,null,null,null,null,null,null," "," ",null,null," "," "," "]
[null,null,"Super Bakery",null,null,"72/2.0z",72,null,{"$f":"ROUND($H$182*$G$182/G187,2)","v":0},"Cs",16.2,{"$f":"IF(OR(ISBLANK(K187),K187=0,H182=0,ISBLANK(H182)),,ROUND(K187+$L$3,2))","v":0},{"$f":"ROUND(I187*L187,2)","v":0},{"$f":"ROUND(L187/G187,4)","v":0},null,null,null,null," "," ",null,null," "," "," "]
[null,null,"Blueberry",9050,null,null,null,null,null,null,null,null,null,null,null,null,null,null," "," ",null,null," "," "," "]
[null,null,"Banana",9052,null,null,null,null,null,null,null,null,null,null,null,null,null,null," "," ",null,null," "," "," "]
[null,null," ",null,null,null,null,null,null,null,null,null,null,null,null,null,null,null," "," ",null,null," "," "," "]
[28034,"Muffins, IW","Super Bakery",null,null,"96/2.0z",96,null,{"$f":"ROUND(H191*G191/G191,2)","v":0},"Cs",33.06,{"$f":"IF(OR(ISBLANK(K191),K191=0,H191=0,ISBLANK(H191)),,ROUND(K191+$L$3,2))","v":0},{"$f":"ROUND(I191*L191,2)","v":0},{"$f":"ROUND(L191/G191,4)","v":0}]
[null,"Frozen, individually wrapped Thaw & Serve muffin. Must","Super Muffin Choc withCreme Filling",9066]
[null,"conform to USDA Child Nutrition Program specifications and"]
[null,"meet 1 oz grain equivalent. Made with 51% whole grain wheat"]
[null,"flour."]
[null,"No Tropical Oils, Peanut Free Product. Made in the USA."]
[null,"One serving provides 1 OEG"]
[28035,"Muffins, Reduced Fat","Otis Spunkmeyer",null,null,"72/2.0z",72,50,{"$f":"ROUND(H198*G198/G198,2)","v":50},"Cs",null,{"$f":"IF(OR(ISBLANK(K198),K198=0,H198=0,ISBLANK(H198)),,ROUND(K198+$L$3,2))","v":0},{"$f":"ROUND(I198*L198,2)","v":0},{"$f":"ROUND(L198/G198,4)","v":0},null,null,null,null," "," ",null,null," "," "," "]
[null,"30% or less of calories from fat, 30% or less by weight of added sugar.","Wild Blueberry",10143,null,null,null,null,null,null,null,null,null,null,null,null,null,null," "," ",null,null," "," "," "]
[null,"Individually Wrapped","Banana",10144,null,null,null,null,null,null,null,null,null,null,null,null,null,null," "," ",null,null," "," "," "]
[null,"One muffin provides 1.0 oz Equivalent grain","Chocolate Chocolate Chip",10145,null,null,null,null,null,null,null,null,null,null,null,null,null,null," "," ",null,null," "," "," "]
[null,null,"Apple Cinnamon",10146,null,null,null,null,null,null,null,null,null,null,null,null,null,null," "," ",null,null," "," "," "]
[null,null,"Smart Choice",null,null,"96/2.0z",96,null,{"$f":"ROUND(H198*G198/G203,2)","v":37.5},"Cs",19,{"$f":"IF(OR(ISBLANK(K203),K203=0,H203=0,ISBLANK(H203)),,ROUND(K203+$L$3,2))","v":0},{"$f":"ROUND(I203*L203,2)","v":0},{"$f":"ROUND(L203/G203,4)","v":0},null,null,null,null," "," ",null,null," "," "," "]
[null,null,"Blueberry",2661,null,null,null,null,null,null,null,null,null,null,null,null,null,null," "," ",null,null," "," "," "]
[null,null,"Apple Cinnamon",2666,null,null,null,null,null,null,null,null,null,null,null,null,null,null," "," ",null,null," "," "," "]
[null,null,"Chocolate Chip",2670,null,null,null,null,null,null,null,null,null,null,null,null,null,null," "," ",null,null," "," "," "]
[null,null,"Banana",2675,null,null,null,null,null,null,null,null,null,null,null,null,null,null," "," ",null,null," "," "," "]
[28036,"Muffins, Reduced Fat","Chef Pierre WG (Sara Lee)",null,null,"48/2oz",48,null,{"$f":"ROUND(H208*G208/G208,2)","v":0},"Cs",12.5,{"$f":"IF(OR(ISBLANK(K208),K208=0,H208=0,ISBLANK(H208)),,ROUND(K208+$L$3,2))","v":0},{"$f":"ROUND(I208*L208,2)","v":0},{"$f":"ROUND(L208/G208,4)","v":0},null,null,null,null," "," ",null,null," "," "," "]
[null,"30% or less of calories from fat, 30% or less by weight of added sugar.","Blueberry",8860,null,null,null,null,null,null,null,null,null,null,null,null,null,null," "," ",null,null," "," "," "]
[null,"Individually Wrapped, Muffin provides 1.0 OEG","Banana",8861,null,null,null,null,null,null,null,null,null,null,null,null,null,null," "," ",null,null," "," "," "]
[28037,"Muffin, Egg and Cheese on a WG English ","Advanced Pierre ",10000068243,null,"96/3.30z",96,null,{"$f":"ROUND(H211*G211/G211,2)","v":0},"Cs",55.5,{"$f":"IF(OR(ISBLANK(K211),K211=0,H211=0,ISBLANK(H211)),,ROUND(K211+$L$3,2))","v":0},{"$f":"ROUND(I211*L211,2)","v":0},{"$f":"ROUND(L211/G211,4)","v":0},null,null,null,null," "," ",null,null," "," "," "]
[null,"Frozen, WGR, 200-300 calories and not more than 4 g saturated fat",null,null,null,null,null,null,null,null,null," "]
[null,"and 400 mg sodium per svg.  One portion to provide 1 oz. M/MA and 2 OEG"," ",null,null,null,null,null,null,null,null,null,null,null,null,null,null,null," "," ",null,null," "," "," "]
[null," Possible Allergens:  Egg, Wheat, Milk and Soy"," ",null,null,null,null,null,null,null,null,null,null,null,null,null,null,null," "," ",null,null," "," "," "]
[28038,"Muffin Top, Frozen bater Ready to bake","Pillsubry/General Mills",null,null,"112/2.1 z",112,null,{"$f":"ROUND(H215*G215/G215,2)","v":0},"Cs",29,{"$f":"IF(OR(ISBLANK(K215),K215=0,H215=0,ISBLANK(H215)),,ROUND(K215+$L$3,2))","v":0},{"$f":"ROUND(I215*L215,2)","v":0},{"$f":"ROUND(L215/G215,4)","v":0}]
[null,"Frozen WGR,  muffin top batter frozen in ","  Blueberry",111113000]
[null,"pre-portioned freezer to oven format.  no artificial flavors, no colors from","  Chocolate Chip",111114000]
[null,"artificial sources, and no high fructose corn syrup."]
[null," Each top contribuites 1.0 OEG"]
[28039,"Muffin Top WGR Frz IW","Beuna Vista","120/3.2z",null,"120/.3.2z",120,null,{"$f":"ROUND(H220*G220/G220,2)","v":0},"Cs",46,{"$f":"IF(OR(ISBLANK(K220),K220=0,H220=0,ISBLANK(H220)),,ROUND(K220+$L$3,2))","v":0},{"$f":"ROUND(I220*L220,2)","v":0},{"$f":"ROUND(L220/G220,4)","v":0}]
[null,"Cooked frozen WGR muffin top  packed individual pieces in ","Blueberry",null,63136]
[null,"case. Ready to thaw and serve. Provides 2 OEG per serving","Chocolate Chip",null,63186]
[]
[]
[28040,"Pancake Bowl with Fruit, IW","Buena Vista ",null,null,"72/3.8z",72,null,{"$f":"ROUND(H225*G225/G225,2)","v":0},"Cs",52.5,{"$f":"IF(OR(ISBLANK(K225),K225=0,H225=0,ISBLANK(H225)),,ROUND(K225+$L$3,2))","v":0},{"$f":"ROUND(I225*L225,2)","v":0},{"$f":"ROUND(L225/G225,4)","v":0},null,null,null,null," "," ",null,null," "," "," "]
[null,"Frozen, 200-300 caories and not mot more than 3 gm saturated fat and 400 mg of ","Apple ",94010,null,null,null,null,null,null,null,null,null,null,null,null,null,null," "," ",null,null," "," "," "]
[null,"sodium per serving.  One portion to provide 2 OEG and 1/2 cup fruit, WGR","Blueberry ",94020]
[null,null,"Peach ",94030]
[null,null,"Strawberry ",94040]
[null,"Possible Allergens:  Egg, Milk, Wheat, and Soy"," ",null,null,null,null,null,null,null,null,null,null,null,null,null,null,null," "," ",null,null," "," "," "]
[28041,"Pancake and Sausage on a Stick WG","Jimmy Dean WG","\n10000019010",null,"60/2.51z",60,null,{"$f":"ROUND(H231*G231/G231,2)","v":0},"Cs",null,{"$f":"IF(OR(ISBLANK(K231),K231=0,H231=0,ISBLANK(H231)),,ROUND(K231+$L$3,2))","v":0},{"$f":"ROUND(I231*L231,2)","v":0},{"$f":"ROUND(L231/G231,4)","v":0},null,null,null,null," "," ",null,null," "," "," "]
[null,"Frozen, fully, cooked, shall provide 1 M/MA and 1 OEG"]
[null," "," ",null,null,null,null,null,null,null,null,null,null,null,null,null,null,null," "," ",null,null," "," "," "]
[null,"Possible Allergens:  Milk, Eggs, Wheat and Soy"," ",null,null,null,null,null,null,null,null,null,null,null,null,null,null,null," "," ",null,null," "," "," "]
[28042,"Pancake Wrap, Maple Flavored (IW) WG","Foster Farms ",95127,null,"68/2.85z",68,null,{"$f":"ROUND(H235*G235/G235,2)","v":0},"Cs",26.4,{"$f":"IF(OR(ISBLANK(K235),K235=0,H235=0,ISBLANK(H235)),,ROUND(K235+$L$3,2))","v":0},{"$f":"ROUND(I235*L235,2)","v":0},{"$f":"ROUND(L235/G235,4)","v":0},null,null,null,null," "," ",null,null," "," "," "]
[null,"Frozen, WGR, 150-250 calories with no more than 3 gm saturated fat and ",null,null,null,null,null,null,null,null,null,null,null,null,null,null,null,null," "," ",null,null," "," "," "]
[null,"350 mg sodium per svg.  Three(3) .85 oz. links provides 1 M/MA and ",null,null,null,null,null,null,null,null,null,null,null,null,null,null,null,null," "," ",null,null," "," "," "]
[null,"1 OEG"]
[null,"Possible Allergens:  Wheat, Milk and Eggs",null,null,null,null,null,null,null,null,null,null,null,null,null,null,null,null," "," ",null,null," "," "," "]
[28043,"Pancake and Turkey Sausage on a Stick, Maple flavored","Foster Farms ",97169,null,"63/2.55z",63,100,{"$f":"ROUND(H240*G240/G240,2)","v":100},"Cs",29.74,{"$f":"IF(OR(ISBLANK(K240),K240=0,H240=0,ISBLANK(H240)),,ROUND(K240+$L$3,2))","v":29.74},{"$f":"ROUND(I240*L240,2)","v":2974},{"$f":"ROUND(L240/G240,4)","v":0.47210000000000002},null,null,null,null," "," ",null,null," "," "," "]
[null,"Frozen, heat and serve, 100-250 calories with not more than 3 g sat",null,null,null,null,null,null,null,null,null,null,null,null,null,null,null,null," "," ",null,null," "," "," "]
[null,"fat and 550 mg sodium per svg.  One svg to provide 1 M/MA and 1 OEG",null,null,null,null,null,null,null,null,null,null,null,null,null,null,null,null," "," ",null,null," "," "," "]
[null,"Possible Allergens:  Wheat, Milk, and Eggs",null,null,null,null,null,null,null,null,null,null,null,null,null,null,null,null," "," ",null,null," "," "," "]
[28044,"Pancakes, Frozen","Right Start (1)  ","RS 7245",null,"144/1.4z",144,null,{"$f":"ROUND(H244*G244/G244,2)","v":0},"Cs",0,{"$f":"IF(OR(ISBLANK(K244),K244=0,H244=0,ISBLANK(H244)),,ROUND(K244+$L$3,2))","v":0},{"$f":"ROUND(I244*L244,2)","v":0},{"$f":"ROUND(L244/G244,4)","v":0},null,null,null,null," "," ",null,null," "," "," "]
[null,"Bulk pack, 4\" Pancake, WGR"," ",null,null," "," ",null," "," ",null," "," "," ",null,null,null,null," "," ",null,null," "," "," "]
[null,"Indicate # of pancakes to equal 1 oz equivalent grain",null,null,null,null,null,null,null,null,null,null,null,null,null,null,null,null," "," ",null,null," "," "," "]
[null,null,null,null,null,null,null,null,null,null,null,null,null,null,null,null,null,null," "," ",null,null," "," "," "]
[28045,"Pancakes, Frozen, Flavored, IW","Con Agra",null,null,"80/3.0z",80,null,{"$f":"ROUND($H$248*$G$248/G248,2)","v":0},"Cs",27.49,{"$f":"IF(OR(ISBLANK(K248),K248=0,H248=0,ISBLANK(H248)),,ROUND(K248+$L$3,2))","v":0},{"$f":"ROUND(I248*L248,2)","v":0},{"$f":"ROUND(L248/G248,4)","v":0},null,null,null,null," "," ",null,null," "," "," "]
[null,"Frozen, heat and serve, WGR, One serving to provide 2 OEG","WG, Cinnamon","94643-04442",null,null,null,null,null,null,null,null,null,null,null,null,null,null," "," ",null,null," "," "," "]
[null," ","WG, Blueberry","94643-04443",null,null,null,null,null,null,null,null,null,null,null,null,null,null," "," ",null,null," "," "," "]
[]
[null,"Discontinued by Manufacturer","ES Foods",null,null,"80/3.0z",80,null,null,"Cs",null,null,null,null,null,null,null,null," "," ",null,null," "," "," "]
[null,null,"Maple Cinnamon Glaze Sandwich",16151,null,null,null,null,null,null,null,null,null,null,null,null,null,null," "," ",null,null," "," "," "]
[null,null," ",null,null,null,null,null,null,null,null,null,null,null,null,null,null,null," "," ",null,null," "," "," "]
[28046,"Pancakes, Mini, Flavored    IW                                WGR   2.0 OEG","Pillsbury",null,null,"72/3.17z",72,100,{"$f":"ROUND($H$255*$G$255/G255,2)","v":100},"Cs",null,{"$f":"IF(OR(ISBLANK(K255),K255=0,H255=0,ISBLANK(H255)),,ROUND(K255+$L$3,2))","v":0},{"$f":"ROUND(I255*L255,2)","v":0},{"$f":"ROUND(L255/G255,4)","v":0},null,null,null,null," "," ",null,null," "," "," "]
[null,"Frozen, heat and serve, ovenable packages, Less than 30% fat","Maple Burst       (CACFP Eligible)",13773200,null,null,null,null,null,null,null,null,null,null,null,null,null,null," "," ",null,null," "," "," "]
[null,"Not more than 1 g sat fat and 350 mg sodium per serving","Strawberry Splash     (CACFP Eligible)",137731000,null,null,null,null,null,null,null,null,null,null,null,null,null,null," "," ",null,null," "," "," "]
[]
[null,null,"Kelloggs",null,null,"72/3.03z",72,null,{"$f":"ROUND($H$255*$G$255/G259,2)","v":100},"Cs",null,{"$f":"IF(OR(ISBLANK(K259),K259=0,H259=0,ISBLANK(H259)),,ROUND(K259+$L$3,2))","v":0},{"$f":"ROUND(I259*L259,2)","v":0},{"$f":"ROUND(L259/G259,4)","v":0}]
[null," ","Blueberry","38000-92560",null,null,null,null,null,null,null,null,null,null,null,null,null,null," "," ",null,null," "," "," "]
[null,null,"Maple","38000-92562"]
[null,null,"Vanilla Confetti","38000-18574"]
[null,"Discontinued","Apple Flavored","38000-23210"]
[]
[null,null,"DeWafflebakkers",null,null,"72/3.0z",72,null,{"$f":"ROUND($H$255*$G$255/G265,2)","v":100},"Cs",23.41,{"$f":"IF(OR(ISBLANK(K265),K265=0,H265=0,ISBLANK(H265)),,ROUND(K265+$L$3,2))","v":0},{"$f":"ROUND(I265*L265,2)","v":0},{"$f":"ROUND(L265/G265,4)","v":0},null,null,null,null," "," ",null,null," "," "," "]
[null,"Discontinued","Cinnamon",628]
[null,null,"Blueberry",626]
[null,null,"Maple",625]
[null,null,"Banana",629]
[null,null,"Strawberry",631]
[null,null,"Chocolate Chip",633,null,null,null,null,null,null,null,null,null,null,null,null,null,null," "," ",null,null," "," "," "]
[]
[null,null,"Right Start ",null,null,"52/3.1z",52,null,{"$f":"ROUND($H$255*$G$255/G273,2)","v":138.46},"Cs",null,{"$f":"IF(OR(ISBLANK(K273),K273=0,H273=0,ISBLANK(H273)),,ROUND(K273+$L$3,2))","v":0},{"$f":"ROUND(I273*L273,2)","v":0},{"$f":"ROUND(L273/G273,4)","v":0},null,null,null,null," "," ",null,null," "," "," "]
[null,null,"Maple Mini WG","RS7155",null,null,null,null,null,null,null,null,null,null,null,null,null,null," "," ",null,null," "," "," "]
[28047,"Pancakes, Buttermilk, Frozen,                                 ","Krusteaz S80349 ","86151-80349",null,"144/1.4z",144,50,{"$f":"ROUND(H275*G275/G275,2)","v":50},"Cs",26.1,{"$f":"IF(OR(ISBLANK(K275),K275=0,H275=0,ISBLANK(H275)),,ROUND(K275+$L$3,2))","v":26.1},{"$f":"ROUND(I275*L275,2)","v":1305},{"$f":"ROUND(L275/G275,4)","v":0.18129999999999999},null,null,null,null," "," ",null,null," "," "," "]
[null,"Frozen, Heat and serve, 140--250 calories with no more than 2 g sat fat &"," ",null,null," "," ",null," "," ",null," ","  "," ",null,null,null,null," "," ",null,null," "," "," "]
[null,"600 mg sodium per serving.  Three pancakes provide min 2 OEG.  ",null,null,null,null,null,null,null,null,null,null,null,null,null,null,null,null," "," ",null,null," "," "," "]
[null,"Possible Allergens:  Wheat and Milk",null,null,null,null,null,null,null,null,null,null,null,null,null,null,null,null," "," ",null,null," "," "," "]
[28048,"Pastry, Cinnamon Toast Crunch Filled","General Mills ","1800-10978",null,"72/2.36z",72,null,{"$f":"ROUND(H279*G279/G279,2)","v":0},"Cs",28.85,{"$f":"IF(OR(ISBLANK(K279),K279=0,H279=0,ISBLANK(H279)),,ROUND(K279+$L$3,2))","v":0},{"$f":"ROUND(I279*L279,2)","v":0},{"$f":"ROUND(L279/G279,4)","v":0},null,null,null,null," "," ",null,null," "," "," "]
[null,"Frozen, Heat and serve WGR Meets 2 OEG per serving, 200-300 calories",null,null,null,null,null,null,null,null,null,null,null,null,null,null,null,null," "," ",null,null," "," "," "]
[null,"with no more than 3 g saturated fat and 300 mg of sodium per serving",null,null,null,null,null,null,null,null,null,null,null,null,null,null,null,null," "," ",null,null," "," "," "]
[null,"Possible Allergens:  Wheat and Milk",null,null,null,null,null,null,null,null,null,null,null,null,null,null,null,null," "," ",null,null," "," "," "]
[28049,"Pastry, Filled Crescent Filled ","General Mills  Grape","18000-49978",null,"72/2.9z",72,null,{"$f":"ROUND(H283*G283/G283,2)","v":0},"Cs",28.85,{"$f":"IF(OR(ISBLANK(K283),K283=0,H283=0,ISBLANK(H283)),,ROUND(K283+$L$3,2))","v":0},{"$f":"ROUND(I283*L283,2)","v":0},{"$f":"ROUND(L283/G283,4)","v":0},null,null,null,null," "," ",null,null," "," "," "]
[null,"Frozen, Heat and serve WGR Meets 2 OEG per serving, 200-300 calories   ","General Mills  Chocolate","18000-49979",null,null,null,null,null,null,null,null,null,null,null,null,null,null," "," ",null,null," "," "," "]
[null,"no more than 2 g saturated fat and 300 mg of sodium per serving",null,null,null,null,null,null,null,null,null,null,null,null,null,null,null,null," "," ",null,null," "," "," "]
[null,"Possible Allergens:  Wheat and Milk",null,null,null,null,null,null,null,null,null,null,null,null,null,null,null,null," "," ",null,null," "," "," "]
[28050,"Stick, Chorizo Seasoned Beef and Cheese ","Integrated ",180021,null,"100/2.4z",100,null,{"$f":"ROUND(H287*G287/G287,2)","v":0},"Cs",56.2,{"$f":"IF(OR(ISBLANK(K287),K287=0,H287=0,ISBLANK(H287)),,ROUND(K287+$L$3,2))","v":0},{"$f":"ROUND(I287*L287,2)","v":0},{"$f":"ROUND(L287/G287,4)","v":0},"C18021","100/2.4z",100,51.68,6.8,{"$f":"ROUND($S$6*S287,2)","v":18.27},{"$f":"IF(ISBLANK(O287),,R287+T287)","v":69.95},"N",{"$f":"IF(ISNUMBER(K287),IF(V287=\"Y\",(K287-T287)))","v":false},{"$f":"W287/G287","v":0},{"$f":"IF(V287=\"N\",IF(ISNUMBER(R287),(R287)/Q287))","v":0.51680000000000004}]
[null,"Frozen, Heat and serve WGR Meets 1 OEG & 1 M/MA per serving,100-200   ",null,null,null,null,null,null,null,null,null,null,null,null,null,null,null,null," "," ",null,null," "," "," "]
[null,"cal with not more than 4 g sat fat and 300 mg of sodium per serving",null,null,null,null,null,null,null,null,null,null,null,null,null,null,null,null," "," ",null,null," "," "," "]
[null,"Possible Allergens:  Wheat, Milk and Soy",null,null,null,null,null,null,null,null,null,null,null,null,null,null,null,null," "," ",null,null," "," "," "]
[28051,"Toaster Pastry"," Kelloggs Pop Tarts ",null,null,"72/3.53z",72,null,{"$f":"ROUND($H$291*$G$291/G291,2)","v":0},"Cs",30.6,{"$f":"IF(OR(ISBLANK(K291),K291=0,H291=0,ISBLANK(H291)),,ROUND(K291+$L$3,2))","v":0},{"$f":"ROUND(L291*I291,2)","v":0},{"$f":"ROUND(L291/G291,4)","v":0},null,null,null,null," "," ",null,null," "," "," "]
[null,"Product meets WGR.  One serving provides 2oz equivalent grain.","Frosted  Cinnamon WG  ","38000-55125",null,null,null,null,null,null,null,null,null,null,null,null,null,null," "," ",null,null," "," "," "]
[null,null,"Frosted Strawberry WG","38000-55133",null,null,null,null,null,null,null,null,null,null,null,null,null,null," "," ",null,null," "," "," "]
[null,null,"Frosted Fudge WG","38000-12073",null,null,null,null,null,null,null,null,null,null,null,null,null,null," "," ",null,null," "," "," "]
[null,null,"Blueberry WG","38000-17199",null,null,null,null,null,null,null,null,null,null,null,null,null,null," "," ",null,null," "," "," "]
[28052,"Toaster Pastry, Single Serve"," Kelloggs Pop Tarts  ",null,null,"120/1.76z",120,50,{"$f":"ROUND($H$296*$G$296/G296,2)","v":50},"Cs",32.6,{"$f":"IF(OR(ISBLANK(K296),K296=0,H296=0,ISBLANK(H296)),,ROUND(K296+$L$3,2))","v":32.6},{"$f":"ROUND(L296*I296,2)","v":1630},{"$f":"ROUND(L296/G296,4)","v":0.2717},null,null,null,null," "," ",null,null," "," "," "]
[null,"Product meets WGR.  One serving provides 1 oz equivalent grain. ","Frosted Strawberry, WG","38000-55130",null,null,null,null,null,null,null,null,null,null,null,null,null,null," "," ",null,null," "," "," "]
[null,null,"Frosted Cinnamon WG","38000-55122",null,null,null,null,null,null,null,null,null,null,null,null,null,null," "," ",null,null," "," "," "]
[null,"Smart Snacks Compliant","Blueberry WG","38000-17196",null,null,null,null,null,null,null,null,null,null,null,null,null,null," "," ",null,null," "," "," "]
[28053,"Tornados, Egg, Turkey Sausage, and Cheese WG","Ruiz Foods ",86969,null,"188/2.79z",188,null,{"$f":"ROUND($H$300*$G$300/G300,2)","v":0},"Cs",78.900000000000006,{"$f":"IF(OR(ISBLANK(K300),K300=0,H300=0,ISBLANK(H300)),,ROUND(K300+$L$3,2))","v":0},{"$f":"ROUND(I300*L300,2)","v":0},{"$f":"ROUND(L300/G300,4)","v":0},null,null,null,null," "," ",null,null," "," "," "]
[null,"One serving provides .75 oz. M/MA and 1 1/4 equivalent grains"," ",null,null," "," ",null," "," ",null," "," "," ",null,null,null,null," "," ",null,null," "," "," "]
[null,"Possible Allergens:  Milk, Eggs, Soy, and Wheat",null,null,null,null,null,null,null,null,null,null,null,null,null,null,null,null," "," ",null,null," "," "," "]
[28054,"Waffles, Bulk.  Frozen                                                   ","Bakecrafters ",1453,null,"144/1.30z",144,null,{"$f":"ROUND($H$303*$G$303/G303,2)","v":0},"Cs",14.98,{"$f":"IF(OR(ISBLANK(K303),K303=0,H303=0,ISBLANK(H303)),,ROUND(K303+$L$3,2))","v":0},{"$f":"ROUND(I303*L303,2)","v":0},{"$f":"ROUND(L303/G303,4)","v":0},null,null,null,null," "," ",null,null," "," "," "]
[null,"Frozen, WGR, Each waffle provides 1 OEG per serving"," ",null,null," "," ",null," "," ",null," "," "," ",null,null,null,null," "," ",null,null," "," "," "]
[null," ",null,null,null,null,null,null,null,null,null,null,null,null,null,null,null,null," "," ",null,null," "," "," "]
[28055,"Waffle, Dutch  WGR","J&J Snacks ",4521,null,"48/2.9z",48,50,{"$f":"ROUND($H$306*$G$306/G306,2)","v":50},"Cs",19.12,{"$f":"IF(OR(ISBLANK(K306),K306=0,H306=0,ISBLANK(H306)),,ROUND(K306+$L$3,2))","v":19.12},{"$f":"ROUND(I306*L306,2)","v":956},{"$f":"ROUND(L306/G306,4)","v":0.39829999999999999},null,null,null,null," "," ",null,null," "," "," "]
[null,"Frozen, WGR, Provides 2 OEG per serving"," ",null,null," "," ",null," "," ",null," ","  "," ",null,null,null,null," "," ",null,null," "," "," "]
[null,null," ",null,null," "," ",null," "," ",null," "," "," ",null,null,null,null," "," ",null,null," "," "," "]
[28056,"Waffles, IW,                                                                     WGR     ","Right Start","RS 9011-OV",null,"72/2.6z",72,50,{"$f":"ROUND(H309*G309/G309,2)","v":50},"Cs",0,{"$f":"IF(OR(ISBLANK(K309),K309=0,H309=0,ISBLANK(H309)),,ROUND(K309+$L$3,2))","v":0},{"$f":"ROUND(I309*L309,2)","v":0},{"$f":"ROUND(L309/G309,4)","v":0},null,null,null,null," "," ",null,null," "," "," "]
[null,"Frozen, thaw and serve, Provides 2 OEG  per serving",null,null,null,null,null,null,null,null,null,null,null,null,null,null,null,null," "," ",null,null," "," "," "]
[null,null,"Pillsbury ",null,null,"72/2.47z",72,null,{"$f":"ROUND(H309*G309/G311,2)","v":50},"Cs",24.04,{"$f":"IF(OR(ISBLANK(K311),K311=0,H309=0,ISBLANK(H309)),,ROUND(K311+$L$3,2))","v":24.04},{"$f":"ROUND(I311*L311,2)","v":1202},{"$f":"ROUND(L311/G311,4)","v":0.33389999999999997},null,null,null,null," "," ",null,null," "," "," "]
[null,null,"Blueberry Bash",132264]
[null," ","Maple Madness",132265,null,null,null,null,null,null,null,null,null,null,null,null,null,null," "," ",null,null," "," "," "]
[28057,"Wraps, Cheese, Turkey Sausage and Egg Tortilla including Wrap","Fernandos ",5264,null,"108/2.81z",108,null,{"$f":"ROUND(H314*G314/G314,2)","v":0},"Cs",46.26,{"$f":"IF(OR(ISBLANK(K314),K314=0,H314=0,ISBLANK(H314)),,ROUND(K314+$L$3,2))","v":0},{"$f":"ROUND(I314*L314,2)","v":0},{"$f":"ROUND(L314/G314,4)","v":0},null,null,null,null," "," ",null,null," "," "," "]
[null,"Frozen, each wrap provides 1 oz. M/MA and 1 OEG 150-250 calories","Ruiz Foods ",41525,null,"50/2.50z",50,null,{"$f":"ROUND(H314*G314/G315,2)","v":0},"Cs",22.58,{"$f":"IF(OR(ISBLANK(K315),K315=0,H314=0,ISBLANK(H314)),,ROUND(K315+$L$3,2))","v":0},{"$f":"ROUND(I315*L315,2)","v":0},{"$f":"ROUND(L315/G315,4)","v":0},null,null,null,null," "," ",null,null," "," "," "]
[null,"with not more than 5 sat fat and 375 mg sodium "]
[null,"Possible Allergens:  Wheat, Milk, Egg and Soy"]
[28058,"Cheese Stuffed Breakfast Pastry","Tasty Brands",null,null,null,96,null,{"$f":"ROUND(H318*G318/G318,2)","v":0},"Cs",46.08,{"$f":"IF(OR(ISBLANK(K318),K318=0,H318=0,ISBLANK(H318)),,ROUND(K318+$L$3,2))","v":0},{"$f":"ROUND(I318*L318,2)","v":0},{"$f":"ROUND(L318/G318,4)","v":0}]
[null,"Provides 2 OEG WG. Heat and serve","StrawberryBoli",53205,null,"96/3.24z"]
[null,null,"SweetBoli",53204,null,"96/2.89z"]
[]
[28059,"Egg Bites, Frz Fully Cooked","Michael Foods",null,null,"90/2.0z",90,null,{"$f":"ROUND(H322*G322/G322,2)","v":0},"Cs",35.770000000000003,{"$f":"IF(OR(ISBLANK(K322),K322=0,H322=0,ISBLANK(H322)),,ROUND(K322+$L$3,2))","v":0},{"$f":"ROUND(I322*L322,2)","v":0},{"$f":"ROUND(L322/G322,4)","v":0}]
[null,null,"Cage-Free Cheese and Sausage Egg Bites","14616-78997-00",null,null,90,null,null,null,35.770000000000003,null,null,null,"14616-78997-00","90/2.0z",90,33.299999999999997,4.58,{"$f":"ROUND($S$7*S323,2)","v":2.4700000000000002},{"$f":"IF(ISBLANK(O323),,R323+T323)","v":35.769999999999996},"Y",{"$f":"IF(ISNUMBER(K323),IF(V323=\"Y\",(K323-T323)))","v":33.300000000000004},{"$f":"W323/G323","v":0.37000000000000005},{"$f":"IF(V323=\"N\",IF(ISNUMBER(R323),(R323+T323)/Q323))","v":false}]
[null,null,"Cage-Free Three Cheese Egg Bites","14616-78998-00",null,null,90,null,null,null,35.770000000000003,null,null,null,"14616-78998-00","90/2.0z",90,32.979999999999997,5.18,{"$f":"ROUND($S$7*S324,2)","v":2.79},{"$f":"IF(ISBLANK(O324),,R324+T324)","v":35.769999999999996},"Y",{"$f":"IF(ISNUMBER(K324),IF(V324=\"Y\",(K324-T324)))","v":32.980000000000004},{"$f":"W324/G324","v":0.36644444444444446},{"$f":"IF(V324=\"N\",IF(ISNUMBER(R324),(R324+T324)/Q324))","v":false}]
[]
[]
[]
[]
[]
[]
[null,"ITEMS BELOW THIS LINE ARE NOT DIRECT TO MANUFACTUER PRICED ITEMS. PRICING WILL BE UPDATED MID YEAR"]
[28060,"Grits, Whole Grain Enriched","Distributor Choice",null,null,"8/5#",40,null,{"$f":"ROUND($H$332*$G$332/G332,2)","v":0},"Cs",null,"  "," "," ",null,null,null,null," "," ",null,null," "," "," "]
[null,"Shelf Stable","Fillable txt box or unprotected",null,null,null,null,null,{"$f":"ROUND(H332*G332/G333,2)","v":{"$error":"#DIV/0!"}},"Cs",null,{"$f":"IF(OR(ISBLANK(K333),K333=0,H332=0,ISBLANK(H332)),,ROUND(K333+$L$3,2))","v":0},{"$f":"ROUND(I333*L333,2)","v":{"$error":"#DIV/0!"}},{"$f":"ROUND(L333/G333,4)","v":{"$error":"#DIV/0!"}},null,null,null,null," "," ",null,null," "," "," "]
[28061,"Grits, Regular ","Distributor Choice",null,null,"8/5#",40,25,{"$f":"ROUND($H$334*$G$334/G334,2)","v":25},"Cs",null,{"$f":"IF(OR(ISBLANK(K334),K334=0,H334=0,ISBLANK(H334)),,ROUND(K334+$L$3,2))","v":0},{"$f":"ROUND(I334*L334,2)","v":0},{"$f":"ROUND(L334/G334,2)","v":0},null,null,null,null," "," ",null,null," "," "," "]
[null,"Shelf Stable. Quick cooking","Fillable txt box or unprotected",null,null,null,null,null,{"$f":"ROUND(H334*G334/G335,2)","v":{"$error":"#DIV/0!"}},"Cs",null,{"$f":"IF(OR(ISBLANK(K335),K335=0,H334=0,ISBLANK(H334)),,ROUND(K335+$L$3,2))","v":0},{"$f":"ROUND(I335*L335,2)","v":{"$error":"#DIV/0!"}},{"$f":"ROUND(L335/G335,4)","v":{"$error":"#DIV/0!"}},null,null,null,null," "," ",null,null," "," "," "]
[28062,"Oats, Rolled ","Distributor Choice",null,null,"12/42 oz ",504,null,{"$f":"ROUND($H$336*$G$336/G336,2)","v":0},"Cs",null,{"$f":"IF(OR(ISBLANK(K336),K336=0,H336=0,ISBLANK(H336)),,ROUND(K336+$L$3,2))","v":0},{"$f":"ROUND(I336*L336,2)","v":0},{"$f":"ROUND(L336/G336,2)","v":0},null,null,null,null," "," ",null,null," "," "," "]
[null,"100% Natural ","Fillable txt box or unprotected",null,null,null,null,null,{"$f":"ROUND(H336*G336/G337,2)","v":{"$error":"#DIV/0!"}},"Cs",null,{"$f":"IF(OR(ISBLANK(K337),K337=0,H336=0,ISBLANK(H336)),,ROUND(K337+$L$3,2))","v":0},{"$f":"ROUND(I337*L337,2)","v":{"$error":"#DIV/0!"}},{"$f":"ROUND(L337/G337,4)","v":{"$error":"#DIV/0!"}},null,null,null,null," "," ",null,null," "," "," "]
[]
[null,null,null,null,null,null,null,null,null,"Page Total",null,null,{"$f":"SUMIF(M8:M338,\">0\")","v":39375.130000000005}]

{"sheet":"Smart Snacks","index":16,"n_rows":137,"n_cols":14,"rows_kept":137,"cut":false,"hidden":false,"merged":[[0,5,0,13],[1,5,1,13],[2,6,2,10]]}
[null,{"$f":"'Recap Sheet'!A2","v":"School Food Authority or Agency Name:"},null,null,null,{"$f":"'Recap Sheet'!A3","v":"Bidder's Name:"}]
[30001,{"$f":"'Recap Sheet'!B2","v":"Marion County School District"},"Return to Recap Sheet",null,null,{"$f":"'Recap Sheet'!B3","v":0}]
[32000,"Description","Approved",null,null,null,"Firm Fixed Fee",null,null,null,null,{"$f":"'Recap Sheet'!B4","v":0}]
["SCPA",null,"Brand Name","Manufacturers","Distributor","Vendor","Svgs","Est.","Bid ","Bid","Unit","Unit Price","Total ","Cost per"]
[" Code",null,"or Manufacturer","Code","Code","Pack","per unit","Bid Qty","Qty","Unit","Price","plus Fee","Price","Unit"]
[null,"Smart Snack Items"]
[]
[30001,"Chips Snacks, Single Serve. IW","Frito Lay",null,null,"104/.875z",104,50,{"$f":"ROUND(H8*G8/G8,2)","v":50},"Cs",26.18,{"$f":"IF(OR(ISBLANK(K8),K8=0,H8=0,ISBLANK(H8)),,ROUND(K8+$L$3,2))","v":26.18},{"$f":"ROUND(I8*L8,2)","v":1309},{"$f":"ROUND(L8/G8,4)","v":0.25169999999999998}]
[null,"0 trans fat, WGR","Baked Cheetos  1.25OEG",62933,null,"104/.875z",104]
[null,null," 36098 Cheetos Chili Cheese  1.25 OEG",36098,null,"104/1z",104]
[null,"SMART SNACK COMPLIANT"," 36308 Kid's Mix  1.0 OEG",36308,null,"104/.875z",104]
[null,null," 43578 Fantastix Flamin Hot  1.25 OEG",43578,null,"104/1z",104]
[30002,"Chips/Snacks, Single Serve, IW,     ","Frito-Lay",null,null,"72/.875z",72,null,{"$f":"ROUND(H13*G13/G13,2)","v":0},"Cs",18.12,{"$f":"IF(OR(ISBLANK(K13),K13=0,H13=0,ISBLANK(H13)),,ROUND(K13+$L$3,2))","v":0},{"$f":"ROUND(I13*L13,2)","v":0},{"$f":"ROUND(L13/G13,4)","v":0}]
[null,"0 Trans fat, Gluten free, Reduced Fat WGR","42537 Baked Tostitos Scoops",42537]
[null,"SMART SNACK COMPLIANT"]
[30003,"Chips/Snacks , Single Serve, IW                                    ","Frito Lay",null,null,"104/.875z",104,50,{"$f":"ROUND(H16*G16/G16,2)","v":50},"Cs",26.18,{"$f":"IF(OR(ISBLANK(K16),K16=0,H16=0,ISBLANK(H16)),,ROUND(K16+$L$3,2))","v":26.18},{"$f":"ROUND(I16*L16,2)","v":1309},{"$f":"ROUND(L16/G16,4)","v":0.25169999999999998}]
[null,"Gluten Free, Reduced Fat, Low Sodium, WGR","    18792  RF Tostitos Crispy Rounds",18792]
[null,"SMART SNACK COMPLIANT"]
[30004,"Chips/Snacks, Single Serve, IW, Heartzel Pretzels  WGR  ","Frito Lay",null,null,"104/.7z",104,null,{"$f":"ROUND(H19*G19/G19,2)","v":0},"Cs",26.18,{"$f":"IF(OR(ISBLANK(K19),K19=0,H19=0,ISBLANK(H19)),,ROUND(K19+$L$3,2))","v":0},{"$f":"ROUND(I19*L19,2)","v":0},{"$f":"ROUND(L19/G19,4)","v":0}]
[null,"SMART SNACK COMPLIANT","     15940  Heartzel Pretzel",15940]
[30005,"Chips/Snacks, Single Serve, IW, Reduced Fat           "," Frito Lay ",null,null,"72/1z",72,null,{"$f":"ROUND(H21*G21/G21,2)","v":0},"Cs",18.12,{"$f":"IF(OR(ISBLANK(K21),K21=0,H21=0,ISBLANK(H21)),,ROUND(K21+$L$3,2))","v":0},{"$f":"ROUND(I21*L21,2)","v":0},{"$f":"ROUND(L21/G21,4)","v":0}]
[null,"0 trans fat, WGR"," 31748 Doritos Nacho Cheesier, Red Fat",31748]
[null,"SMART SNACK COMPLIANT"," 36096 Doritos Cooler Ranch, Red Fat",36096]
[null,null,"49093 Doritos Spicy/Swt Nacho, Red Fat ",49093]
[null,null,"62829 Doritos Flamas ",62829]
[30006,"Chips/Snacks, Large Single Serve, Baked, IW  ","Baked Lays ",null,null,"64/1.125z",64,null,{"$f":"ROUND(H26*G26/G26,2)","v":0},"Cs",24.77,{"$f":"IF(OR(ISBLANK(K26),K26=0,H26=0,ISBLANK(H26)),,ROUND(K26+$L$3,2))","v":0},{"$f":"ROUND(I26*L26,2)","v":0},{"$f":"ROUND(L26/G26,4)","v":0}]
[null,null," 44396  Baked Lays Regular Flavor (GF)",44396]
[null,"0 trans fat "," 44395  Baked Lays BBQ",44395]
[null,"SMART SNACK COMPLIANT","  44398 Baked Lays Sour Cream & Onion",44398]
[30007,"Chips/Snacks, Single Serve, Baked, IW","Baked Lays",null,null,"60/.875z",60,100,{"$f":"ROUND(H30*G30/G30,2)","v":100},"Cs",14.59,{"$f":"IF(OR(ISBLANK(K30),K30=0,H30=0,ISBLANK(H30)),,ROUND(K30+$L$3,2))","v":14.59},{"$f":"ROUND(I30*L30,2)","v":1459},{"$f":"ROUND(L30/G30,4)","v":0.2432}]
[null,"0 trans fat","33625 Baked Lays Regular Flavor (GF)",33625]
[null,"SMART SNACK COMPLIANT","32078 Baked BBQ",32078]
[null,null,"33627 Baked Sour Cream and Onion",33627]
[30008,"Chips/Snacks, Tortilla Chips, Single Serve, IW, White Nacho WGR","(18-19) Doritos 67609",67609,null,"72/1.oz",72,50,{"$f":"ROUND(H34*G34/G34,2)","v":50},"Cs",19.32,{"$f":"IF(OR(ISBLANK(K34),K34=0,H34=0,ISBLANK(H34)),,ROUND(K34+$L$3,2))","v":19.32},{"$f":"ROUND(I34*L34,2)","v":966},{"$f":"ROUND(L34/G34,4)","v":0.26829999999999998}]
[null,"Contains 100-150 calories and no more than  5 gm of fat and 1 gm sat fat "," "]
[null,"per serving SMART SNACK COMPLIANT"]
[null,"Possible Allergens:  Milk"]
[30009,"Chips, Snacks, Single Serve IW, Onion Ring, Baked","Funyuns",66689,null,"104/.75z",104,25,{"$f":"ROUND(H38*G38/G38,2)","v":25},"Cs",26.18,{"$f":"IF(OR(ISBLANK(K38),K38=0,H38=0,ISBLANK(H38)),,ROUND(K38+$L$3,2))","v":26.18},{"$f":"ROUND(I38*L38,2)","v":654.5},{"$f":"ROUND(L38/G38,4)","v":0.25169999999999998}]
[null,"Contains 100-150 calories and no more than  4 gm of fat and 1 gm sat fat "," "]
[null,"Meets 1 OEG   SMART SNACK COMPLIANT"]
[null," "]
[30010,"Chips/Snacks, Single Serve, IW Kettle  RF  Salt and Vinegar","(18-19) Lay's 25113",25113,null,"64/1.375z",64,null,{"$f":"ROUND(H42*G42/G42,2)","v":0},"Cs",24.5,{"$f":"IF(OR(ISBLANK(K42),K42=0,H42=0,ISBLANK(H42)),,ROUND(K42+$L$3,2))","v":0},{"$f":"ROUND(I42*L42,2)","v":0},{"$f":"ROUND(L42/G42,4)","v":0}]
[null,"Contains 2 gm  or less of sat fat and 200 mg sodium per serving"," "]
[null,"SMART SNACK COMPLIANT"]
[null,"Possible Allergens:  None Listed"]
[30011,"Crackers, WG  Cheese Cracker                             ","Sunshine",null,null,"175/.75z",175,50,{"$f":"ROUND($H$46*$G$46/G46,2)","v":50},"Cs",27.5,{"$f":"IF(OR(ISBLANK(K46),K46=0,H46=0,ISBLANK(H46)),,ROUND(K46+$L$3,2))","v":27.5},{"$f":"ROUND(I46*L46,2)","v":1375},{"$f":"ROUND(L46/G46,4)","v":0.15709999999999999}]
[null,"One serving provides 1 oz. OEG Contains: Milk Wheat and Soy","Original Cheez-It ","24100-79263",null," "]
[null,"Discontinued Flavor","Atomic Cheddar ","24100-10238",null," "]
[30012,"Cookie, Whole Grain, IW                                                  ","MJM Marketing",null,null,"300/1.0z",300,25,{"$f":"ROUND(H49*G49/G49,2)","v":25},"Cs",36,{"$f":"IF(OR(ISBLANK(K49),K49=0,H49=0,ISBLANK(H49)),,ROUND(K49+$L$3,2))","v":36},{"$f":"ROUND(I49*L49,2)","v":900},{"$f":"ROUND(L49/G49,4)","v":0.12}]
[null,"0 trans fat, HUSSC Gold Approved, No peanuts or tree nuts","Chocolate",402001]
[null,"Assorted flavors, Ready to eat","Apple Cinnamon",403001]
[null,null,"Vanilla",404001]
[null,null,"Strawberry Waffle",405001]
[null,null,"Berry",401001]
[null,"Contains: Wheat","Maple Waffle","408001"]
[null,null,"Apple Cinnamon Waffle",423001]
[30013,"Crackers, Graham, 3 Count,                                      ","MJM Marketing",null,null,"150/3ct",150,25,{"$f":"ROUND(H57*G57/G57,2)","v":25},"Cs",15.9,{"$f":"IF(OR(ISBLANK(K57),K57=0,H57=0,ISBLANK(H57)),,ROUND(K57+$L$3,2))","v":15.9},{"$f":"ROUND(I57*L57,2)","v":397.5},{"$f":"ROUND(L57/G57,4)","v":0.106}]
[null,"No Nuts/Peanuts, Meets 1 OEG","Honey Graham",300151]
[null," Possible Allergens:  Wheat","Cinnamon Graham",308151]
[30014,"Crackers, Graham, 3 Count, Single Serve                                ","Keebler",null,null,"150/3ct",150,25,{"$f":"ROUND(H60*G60/G60,2)","v":25},"Cs",15.45,{"$f":"IF(OR(ISBLANK(K60),K60=0,H60=0,ISBLANK(H60)),,ROUND(K60+$L$3,2))","v":15.45},{"$f":"ROUND(I60*L60,2)","v":386.25},{"$f":"ROUND(L60/G60,4)","v":0.10299999999999999}]
[null,"No Nuts/Peanuts, Meets 1 OEG","Graham","30100-91822"]
[null,"Possible Allergens:  Wheat"]
[30015,"Crackers, Graham, Bug Shaped","Keebler",null,null,"210/1.0z",210,25,{"$f":"ROUND(H63*G63/G63,2)","v":25},"Cs",39.200000000000003,{"$f":"IF(OR(ISBLANK(K63),K63=0,H63=0,ISBLANK(H63)),,ROUND(K63+$L$3,2))","v":39.200000000000003},{"$f":"ROUND(I63*L63,2)","v":980},{"$f":"ROUND(L63/G63,4)","v":0.1867}]
[null,"No Nuts/Peanuts, Meets 1 OEG","Graham","30100-55644"]
[null,"Possible Allergens:  Wheat"," "]
[30016,"Crackers, Graham, Elf Shape","Keebler",null,null,"150/3ct",150,25,{"$f":"ROUND(H66*G66/G66,2)","v":25},"Cs",23.79,{"$f":"IF(OR(ISBLANK(K66),K66=0,H66=0,ISBLANK(H66)),,ROUND(K66+$L$3,2))","v":23.79},{"$f":"ROUND(I66*L66,2)","v":594.75},{"$f":"ROUND(L66/G66,4)","v":0.15859999999999999}]
[null,"No Nuts/Peanuts, Meets 1 OEG","Original ","30100-40213"]
[null,null,"Cinnamon ","30100-40221"]
[null,"Possible Allergens:  Wheat","Chocolate","30100-40239"]
[30017,"Crackers, Animal","Keebler Emoji","30100-12695",null,"210/1.0z",210,150,{"$f":"ROUND(H70*G70/G70,2)","v":150},"Cs",39.200000000000003,{"$f":"IF(OR(ISBLANK(K70),K70=0,H70=0,ISBLANK(H70)),,ROUND(K70+$L$3,2))","v":39.200000000000003},{"$f":"ROUND(I70*L70,2)","v":5880},{"$f":"ROUND(L70/G70,4)","v":0.1867}]
[null,"Meets 1 OEG   SMART SNACK COMPLIANT"," "]
[null,"Possible Allergens:  Wheat and Soy"]
[30018,"Cupcake, IW, 1.5oz                              ","Super Bakery",null,null,"72/1.5z",72,50,{"$f":"ROUND(H73*G73/G73,2)","v":50},"Cs",21.88,{"$f":"IF(OR(ISBLANK(K73),K73=0,H73=0,ISBLANK(H73)),,ROUND(K73+$L$3,2))","v":21.88},{"$f":"ROUND(I73*L73,2)","v":1094},{"$f":"ROUND(L73/G73,4)","v":0.3039}]
[null,"Frozen, Whole Grain rich Muffin wrapped in printed film.","Happy Birthday Chocolate",9478]
[null,"Thaw and Serve","Happy Birthday Vanilla",9479]
[null,"Possible  Allergens:  Wheat, Eggs, Milk, Soy","Let's Celebrate Chocolate",9488]
[null,"Peanuts present in facility","Let's Celebrate Vanilla",9489]
[30019,"Roll, Sweet Roll, Whole Grain, IW                   "," Hadley Farms",null,null,"60/1.5z",60,50,{"$f":"ROUND(H78*G78/G78,2)","v":50},"Cs",12.47,{"$f":"IF(OR(ISBLANK(K78),K78=0,H78=0,ISBLANK(H78)),,ROUND(K78+$L$3,2))","v":12.47},{"$f":"ROUND(I78*L78,2)","v":623.5},{"$f":"ROUND(L78/G78,4)","v":0.20780000000000001}]
[null,"Frozen, Meet 1 OEG","Cinnamon Roll Un-Iced","0670IW"]
[null,null,"Iced Cinnamon Roll","1670IW"]
[null,null,"Sweet Potato Swirl Un-Iced","0370IW"]
[null,null,"Sweet Potato Iced Swirl ","1370IW"]
[null," ","Pumpkin Un-Iced ","06731W"]
[null,"Contains: Milk, Soy, Wheat","Pumpkin, Iced","13731W"]
[30020,"Fruit Bar","Outshine (Nestles)",null,null,"6/9 each",54,null,{"$f":"ROUND(H85*G85/G85,2)","v":0},"Cs",25.13,{"$f":"IF(OR(ISBLANK(K85),K85=0,H85=0,ISBLANK(H85)),,ROUND(K85+$L$3,2))","v":0},{"$f":"ROUND(I85*L85,2)","v":0},{"$f":"ROUND(L85/G85,4)","v":0}]
[null,"Frozen, No GMO, No artificial flavors, No HFCS, 0 sodium, less than 100","Strawberry",61004]
[null,"calories per serving, fat free","Mango ",75150]
[null," "," "]
[30021,"Marshmallow Rice Treat , IW                      ","Kellogg's",null,null,"80/1.4z",80,100,{"$f":"ROUND(H89*G89/G89,2)","v":100},"Cs",28.5,{"$f":"IF(OR(ISBLANK(K89),K89=0,H89=0,ISBLANK(H89)),,ROUND(K89+$L$3,2))","v":28.5},{"$f":"ROUND(I89*L89,2)","v":2850},{"$f":"ROUND(L89/G89,4)","v":0.35630000000000001}]
[null,"Made from Whole Grain Rice Cereal Meets 1 OEG","Rice Crispie Treat Gluten Free","38000-11052"]
[null,"Contains:  Milk and Soy","Rice Crispie Treat -Chocolate Chip","38000-14567"]
[30022,"Marshmallow Rice Treat, IW                      ","(18-19) Kellogg's ",null,null,"600/.42z",600,null,{"$f":"ROUND(H92*G92/G92,2)","v":0},"Cs",75,{"$f":"IF(OR(ISBLANK(K92),K92=0,H92=0,ISBLANK(H92)),,ROUND(K92+$L$3,2))","v":0},{"$f":"ROUND(I92*L92,2)","v":0},{"$f":"ROUND(L92/G92,4)","v":0}]
[null,"Made from Whole Grain Brown Rice Cereal, Meets .25 OEG","Original ","38000-14540"]
[null,"Contains: Milk, Soy","Cocoa ","38000-18461"]
[30023,"Snack, Breakfast Snack, Whole Grain Rich                       "," Super Bakery",null,null,"80/1.9z",80,50,{"$f":"ROUND(H95*G95/G95,2)","v":50},"Cs",24.33,{"$f":"IF(OR(ISBLANK(K95),K95=0,H95=0,ISBLANK(H95)),,ROUND(K95+$L$3,2))","v":24.33},{"$f":"ROUND(I95*L95,2)","v":1216.5},{"$f":"ROUND(L95/G95,4)","v":0.30409999999999998}]
[null,"Frozen, I/W, thaw and serve, meets 1 OEG","Ultra Power Cocoa",18200]
[null,null,"MVP",18300]
[null,null,"Super Donut",18350]
[30024,"Snack, Popcorn Puff"," Pirates Booty",null,null,"24/.75z",24,null,{"$f":"ROUND(H99*G99/G99,2)","v":0},"Cs",10.08,{"$f":"IF(OR(ISBLANK(K99),K99=0,H99=0,ISBLANK(H99)),,ROUND(K99+$L$3,2))","v":0},{"$f":"ROUND(I99*L99,2)","v":0},{"$f":"ROUND(L99/G99,4)","v":0}]
[null,"made from rice and Corn, gluten-free, Nut free","          Aged White Cheddar",81662407]
[null,"Contains 10% DV Vitamin D"]
[null,"Possible Allergens:  Milk"]
[30025,"Snack, Sunflower Seeds with Honey Roasted","Sunrich",1231780,null,"150/1.2z",150,null,{"$f":"ROUND(H103*G103/G103,2)","v":0},"Cs",29.79,{"$f":"IF(OR(ISBLANK(K103),K103=0,H103=0,ISBLANK(H103)),,ROUND(K103+$L$3,2))","v":0},{"$f":"ROUND(I103*L103,2)","v":0},{"$f":"ROUND(L103/G103,4)","v":0}]
[null,"Meets `1 M/MA 100-200 calories with no more than 2 g saturated fat and "," "]
[null,"75 mg sodium per serving"]
[null,"Possible Allergens:  None Listed"]
[30026,"Snack, Graham Sticks, Cinnamon, Baked, IW               ","Keebler Cinnamon Scoobydoo","30100-50689",null,"210/1.0z",210,null,{"$f":"ROUND(H107*G107/G107,2)","v":0},"Cs",39.200000000000003,{"$f":"IF(OR(ISBLANK(K107),K107=0,H107=0,ISBLANK(H107)),,ROUND(K107+$L$3,2))","v":0},{"$f":"ROUND(I107*L107,2)","v":0},{"$f":"ROUND(L107/G107,4)","v":0}]
[null,"Meets 1 OEG, 0 trans fats, less than 35% added sugar by weight"," "]
[null," "]
[30027,"Rice, Vegetable Fried Rice"," Minh  ",null,null,"84/5.9z",84,null,{"$f":"ROUND(H110*G110/G110,2)","v":0},"Cs",48.2,{"$f":"IF(OR(ISBLANK(K110),K110=0,H110=0,ISBLANK(H110)),,ROUND(K110+$L$3,2))","v":0},{"$f":"ROUND(I110*L110,2)","v":0},{"$f":"ROUND(L110/G110,4)","v":0}]
[null,"Brown rice, vegetables.  No MSG, No preservatives.","WG Vegetable Fried Rice",69074]
[null,"Frozen, 6/5lb bag."]
[null,"Possible Allergens: Wheat or its deirvatives, Soy or its derivatives."]
[30028,"Beef Jerky, Low Sodium","Jack Links",null,null,"48/.85z",48,null,{"$f":"ROUND(H114*G114/G114,2)","v":0},"Cs",52.8,{"$f":"IF(OR(ISBLANK(K114),K114=0,H114=0,ISBLANK(H114)),,ROUND(K114+$L$3,2))","v":0},{"$f":"ROUND(I114*L114,2)","v":0},{"$f":"ROUND(L114/G114,4)","v":0}]
[null,"Low in fat, Meets Smart Snacks","Original",10000007721]
[null,"0 Trans Fat","Teriyaki",10000007717]
[null,null,"Peppered",10000007719]
[30029,"Crackers, Animal, Baked WGR ","Pepperidge Farm Goldfish",null,null,"300/.9z",300,null,{"$f":"ROUND(H118*G118/G118,2)","v":0},"Cs",39.31,{"$f":"IF(OR(ISBLANK(K118),K118=0,H118=0,ISBLANK(H118)),,ROUND(K118+$L$3,2))","v":0},{"$f":"ROUND(I118*L118,2)","v":0},{"$f":"ROUND(L118/G118,4)","v":0}]
[null,"<30% calories from fat,  <10% from Saturated Fat, 0 Trans Fat,","Cinnamon Grahams",26830]
[null,"Made from whole-grain flour, 1 package = 1 grain/bread serving","Vanilla Grahams",26828]
[]
[null,"SMART SNACK COMPLIANT"]
[30030,"Crackers, Cheddar Cheese, Goldfish Shape, Whole Grain "," Pepperidge Farms ",18105,null,"300/.75z",300,50,{"$f":"ROUND(H123*G123/G123,2)","v":50},"Cs",45.52,{"$f":"IF(OR(ISBLANK(K123),K123=0,H123=0,ISBLANK(H123)),,ROUND(K123+$L$3,2))","v":45.52},{"$f":"ROUND(I123*L123,2)","v":2276},{"$f":"ROUND(L123/G123,4)","v":0.1517}]
[null,"One package meets one grain/bread serving. 100 calories per pack."]
[null,"SMART SNACK COMPLIANT"]
[30031,"Cookies, Mini, Whole Grain, Indv. WGR  ","Chortles               ",null,null,"100/1z",100,25,{"$f":"ROUND(H126*G126/G126,2)","v":25},"Cs",null,{"$f":"IF(OR(ISBLANK(K126),K126=0,H126=0,ISBLANK(H126)),,ROUND(K126+$L$3,2))","v":0},{"$f":"ROUND(I126*L126,2)","v":0},{"$f":"ROUND(L126/G126,4)","v":0}]
[null,"0 transfat, low in sugar and calories, No HFCS     ","Graham","09535-00005"]
[null,"1 package = 1 oz eq grain.  ","Chocolate","09535- 00004"]
[null,null,"Kelloggs Gripz, Cookie, Mini",null,null,"150/.95z",150,null,{"$f":"ROUND(H126*G126/G129,2)","v":16.670000000000002},"Cs",23.96,{"$f":"IF(OR(ISBLANK(K129),K129=0,H126=0,ISBLANK(H126)),,ROUND(K129+$L$3,2))","v":23.96},{"$f":"ROUND(I129*L129,2)","v":399.41},{"$f":"ROUND(L129/G129,4)","v":0.15970000000000001}]
[null,"Chortles and Kelloggs products are SMART SNACK COMPLAINT","Cinnamon Graham Bites","30100-45682"]
[null,null,"Chocolate Chip Graham","30100-80741"]
[30032,"Fruit Snack, Fruit Purees"," Welch's",null,null,"144/1.55z",144,null,{"$f":"ROUND(H132*G132/G132,2)","v":0},"Cs",null,{"$f":"IF(OR(ISBLANK(K132),K132=0,H132=0,ISBLANK(H132)),,ROUND(K132+$L$3,2))","v":0},{"$f":"ROUND(I132*L132,2)","v":0},{"$f":"ROUND(L132/G132,4)","v":0}]
[null,"Pouch pack, 1.55oz, 12% daily value of Fiber.","Mixed Fruit",14498,null,null,null,25]
[null,"Meets USDA requirement for 10% of Daily Value of one of the following","Berries n Cherries",14492]
[null,"nutrients: Calcium, Potassium, Vitamin D, or Dietary fiber."]
[]
[null,null,null,null,null,null,null,null,null,"Lot A Snack total",null,null,{"$f":"SUMIF(M8:M135,\">0\")","v":24670.41}]

{"sheet":"Beverages","index":17,"n_rows":78,"n_cols":18,"rows_kept":78,"cut":false,"hidden":false,"merged":[[0,5,0,13],[1,5,1,13],[2,6,2,10],[66,1,66,6]]}
[null,{"$f":"'Recap Sheet'!A2","v":"School Food Authority or Agency Name:"},null,null,null,{"$f":"'Recap Sheet'!A3","v":"Bidder's Name:"}]
[32001,{"$f":"'Recap Sheet'!B2","v":"Marion County School District"},"Return to Recap Sheet",null,null,{"$f":"'Recap Sheet'!B3","v":0}]
[34000,"Description","Approved",null,null,null,"Firm Fixed Fee",null,null,null,null,{"$f":"'Recap Sheet'!B4","v":0}]
["SCPA",null,"Brand Name","Manufacturers","Distributor","Vendor","Svgs","Est.","Bid ","Bid","Unit","Unit Price","Total ","Cost per"]
[" Code",null,"or Manufacturer","Code","Code","Pack","per unit","Bid Qty","Qty","Unit","Price","plus Fee","Price","Unit"]
[null,"Beverages"]
[]
[32001,"Beverages, Non-Carbonated, Reduced Calorie","Gatorade,G-2",null,null,"24/12z",24,25,{"$f":"ROUND(H8*G8/G8,2)","v":25},"Cs",10.86,{"$f":"IF(OR(ISBLANK(K8),K8=0,H8=0,ISBLANK(H8)),,ROUND(K8+$L$3,2))","v":10.86},{"$f":"ROUND(I8*L8,2)","v":271.5},{"$f":"ROUND(L8/G8,4)","v":0.45250000000000001}]
[null,"Assorted Flavors.  Plastic Bottles","Orange ",12204]
[null,"Sports Drink with Electrolytes","Discontinued by Manufacturer Lemon Lime ",12462]
[null,null,"Grape",12203]
[null,"SMART SNACK COMPLIANT","Discontinued by Manufacturer Glacier Freeze",12007]
[null,null,"Fruit Punch",12202]
[null,null," "]
[32002,"Juice, 100% , 10 oz plastic bottles","Welchs",null,null,"24/10z",24,100,{"$f":"ROUND(H15*G15/G15,2)","v":100},"Cs",14.54,{"$f":"IF(OR(ISBLANK(K15),K15=0,H15=0,ISBLANK(H15)),,ROUND(K15+$L$3,2))","v":14.54},{"$f":"ROUND(I15*L15,2)","v":1454},{"$f":"ROUND(L15/G15,4)","v":0.60580000000000001}]
[null,null,"  316-00 Apple Juice","316-00"]
[null,null,"  344-00 Orange Juice","344-00"]
[null,null,"  354-00 Grape Juice","354-00"]
[32003,"Juice, 100%, 11.5 oz cans","Welchs","Welchs",null,"24/11.5z",24,null,{"$f":"ROUND(H19*G19/G19,2)","v":0},"Cs",16.45,{"$f":"IF(OR(ISBLANK(K19),K19=0,H19=0,ISBLANK(H19)),,ROUND(K19+$L$3,2))","v":0},{"$f":"ROUND(I19*L19,2)","v":0},{"$f":"ROUND(L19/G19,4)","v":0}]
[null,null,"  379-00 Orange Juice","379-00"]
[null,null,"  380-00 Grape Juice","380-00"]
[null,null,"  382-00 Apple Juice ","382-00"]
[]
[32004,"Juice, V Blend, Frozen"," V Blend",null,null,"70/4 z",70,50,{"$f":"ROUND($H$24*$G$24/G24,2)","v":50},"Cs",11.53,{"$f":"IF(OR(ISBLANK(K24),K24=0,H24=0,ISBLANK(H24)),,ROUND(K24+$L$3,2))","v":11.53},{"$f":"ROUND(I24*L24,2)","v":576.5},{"$f":"ROUND(L24/G24,4)","v":0.16470000000000001}]
[null,"Eco Carton, 100% juice","Dragon Punch 45710",45710]
[null,"Meets 1/2 c Veg","Cherry Star 45712",45712]
[null,"SMART SNACK COMPLIANT","Wango Mango 45711",45711]
[null,"ELEMENTARY APPROVED"," "]
[32005,"Juice, 100%, from Concentrate, Frozen","Juice4U Frozen",null,null,"70/4 z",70,25,{"$f":"ROUND(H29*G29/G29,2)","v":25},"Cs",8.68,{"$f":"IF(OR(ISBLANK(K29),K29=0,H29=0,ISBLANK(H29)),,ROUND(K29+$L$3,2))","v":8.68},{"$f":"ROUND(I29*L29,2)","v":217},{"$f":"ROUND(L29/G29,4)","v":0.124}]
[null,null,"Apple  45715",45715]
[null,"Eco Carton, Meets 1/2 c Fruit","Blue Razz   45716",45716]
[null,null,"Merry Cherry   45717",45717]
[null,null,"Purplelicious   45718",45718]
[null,"SMART SNACK COMPLIANT","Citrus Blast  45719",45719]
[null,"ELEMENTARY APPROVED","Twisted Melon  45720",45720]
[32006,"Juice, 100% Sparkling Juice, 8oz","The Switch",null,null,"24/8z",24,20,{"$f":"ROUND(H36*G36/G36,2)","v":20},"Cs",10.48,{"$f":"IF(OR(ISBLANK(K36),K36=0,H36=0,ISBLANK(H36)),,ROUND(K36+$L$3,2))","v":10.48},{"$f":"ROUND(I36*L36,2)","v":209.6},{"$f":"ROUND(L36/G36,4)","v":0.43669999999999998}]
[null,"Canned, No sugar added, No HFCS","     00321 Apple",321]
[null,"8oz provides 2 servings fruit.","     00312 Black Cherry",312]
[null,null,"     00315 Fruit Punch",315]
[null,"00321 Apple  (temporarily suspended)","     00313 Grape",313]
[null,"00313 Grape  (temporarily suspended)","     00317 Kiwi Berry",317]
[null,"00323 Tropical Pineapple  (temporarily suspended)","     00323 Tropical Pineapple",319]
[null,null,"     00314 Orange Tangerine",314]
[null,null,"     00316 Watermelon Strawberry",316]
[32007,"Juice, 100% , 10oz","Naked Juice",null,null,"8/10z",8,null,{"$f":"ROUND(H45*G45/G45,2)","v":0},"Cs",9.1199999999999992,{"$f":"IF(OR(ISBLANK(K45),K45=0,H45=0,ISBLANK(H45)),,ROUND(K45+$L$3,2))","v":0},{"$f":"ROUND(I45*L45,2)","v":0},{"$f":"ROUND(L45/G45,4)","v":0}]
[null,"No Sugar Added.  Contains fruit and/or vegetable juice, puree, ","63117 Berry Blast",63117]
[null,null,"63076 Green Machine",63076]
[null,null,"63072 Mighty Mango",63072]
[null,null,"63071 Strawberry Banana",63071]
[]
[32008,"Water, Sparkling","Sparkling Ice",null,null,"12/17z",12,null,{"$f":"ROUND(H51*G51/G51,2)","v":0},"Cs",8.4,{"$f":"IF(OR(ISBLANK(K51),K51=0,H51=0,ISBLANK(H51)),,ROUND(K51+$L$3,2))","v":0},{"$f":"ROUND(I51*L51,2)","v":0},{"$f":"ROUND(L51/G51,4)","v":0}]
[null,"Assorted flavors, bottled, One can contains 20% Vitamin A and D","Black Raspberry","FG00014"]
[null,"No sugar or calories","Orange Mango","FG00016"]
[null,null,"Kiwi Strawberry","FG00018"]
[null,null,"Cherry Lemenade","FG00066"]
[null,null,"Classic Lemonade","FG00056"]
[null,null,"Strawberry Watermelon","FG00067"]
[null,null,"Black Cherry","FG00105"]
[]
[32009,"Water, Sparkling + Caffeine","Sparking Ice"," ",null,"12/16z",12,null,{"$f":"ROUND(H60*G60/G60,2)","v":0},"Cs",9.25,{"$f":"IF(OR(ISBLANK(K60),K60=0,H60=0,ISBLANK(H60)),,ROUND(K60+$L$3,2))","v":0},{"$f":"ROUND(I60*L60,2)","v":0},{"$f":"ROUND(L60/G60,4)","v":0}]
[null,"Assorted flavors, Bottled, One can contains 20% Vitamin A and D","Cherry Vanilla","FG00316"]
[null,"No sugar or calories","Black Raspberry","FG00216"]
[null,null,"Blue Raspberry","FG00215"]
[null,null,"Triple Citrus","FG00214"]
[null,null,"Orange Passionfruit","FG00140"]
[null,null,"Strawberry Citrus","FG00139"]
[null,"ITEMS BELOW THIS LINE ARE NOT DIRECT TO MANUFACTUER PRICED ITEMS. "]
[32010,"Water, Plain, Non-carbonated","Distributors Choice",null,null,"24/.5 liter",24,25,{"$f":"ROUND(H68*G68/G68,2)","v":25},"Cs"]
[null,"Plastic bottles, 16.9z","Fillable txt box ",null,null,null,null,null,{"$f":"ROUND(H68*G68/G69,2)","v":{"$error":"#DIV/0!"}},"Cs",null,{"$f":"IF(OR(ISBLANK(K69),K69=0,H68=0,ISBLANK(H68)),,ROUND(K69+$L$3,2))","v":0},{"$f":"ROUND(I69*L69,2)","v":{"$error":"#DIV/0!"}},{"$f":"ROUND(L69/G69,4)","v":{"$error":"#DIV/0!"}}]
[]
[]
[32011,"Water, Plain Non-Carb, 8oz","Distributors Choice",null,null,"28/8z ",28,null,{"$f":"ROUND(H72*G72/G72,2)","v":0},"Cs"]
[null,null,"Fillable txt box ",null,null,null,null,null,{"$f":"ROUND(H72*G72/G73,2)","v":{"$error":"#DIV/0!"}},"Cs",null,{"$f":"IF(OR(ISBLANK(K73),K73=0,H72=0,ISBLANK(H72)),,ROUND(K73+$L$3,2))","v":0},{"$f":"ROUND(I73*L73,2)","v":{"$error":"#DIV/0!"}},{"$f":"ROUND(L73/G73,4)","v":{"$error":"#DIV/0!"}}]
[]
[]
[]
[null,null,null,null,null,null,null,null,null,null,null,null,null,null,null,null,null,65]
[null,null,null,null,null,null,null,null,null,"Page Total",null,null,{"$f":"SUMIF(M8:M77,\">0\")","v":2728.6}]

{"sheet":"Condiments Portion Control","index":18,"n_rows":169,"n_cols":25,"rows_kept":169,"cut":false,"hidden":false,"merged":[[2,16,4,16],[0,5,0,13],[1,5,1,13],[2,6,2,10],[161,1,161,6],[2,15,4,15]]}
[null,{"$f":"'Recap Sheet'!A2","v":"School Food Authority or Agency Name:"},null,null,null,{"$f":"'Recap Sheet'!A3","v":"Bidder's Name:"}]
[34001,{"$f":"'Recap Sheet'!B2","v":"Marion County School District"},"Return to Recap Sheet",null,null,{"$f":"'Recap Sheet'!B3","v":0}]
[36000,"Description","Approved",null,null,null,"Firm Fixed Fee",null,null,null,null,{"$f":"'Recap Sheet'!B4","v":0},null,null,"Manufacturer","Vendor Pack","Servings per case","Processing","Pounds of","Commodity","Total Cost","NOI ?",null,"NOI ","Fee for Serivce"]
["SCPA",null,"Brand Name","Manufacturers","Distributor","Vendor","Svgs","Est.","Bid ","Bid","Unit","Unit Price","Total ","Cost per","USDA Product",null,null,"Fee for","DF Needed","Value  Per","Proc Fee + ","Enter","NOI ","Price/","Cost Per Serv."]
[" Code",null,"or Manufacturer","Code","Code","Pack","per unit","Bid Qty","Qty","Unit","Price","plus Fee","Price","Unit","Code",null,null,"Service","Per Case","Case","Comm Value","Y or N","Price","Serving","Fee+ Commodity"]
[null,"Condiments/Portion Control",null,null,null,null,null,null,null,null,null,null,null,null,"Tomato Paste",null,100332,"Commodity Value per lb",null,0.47760000000000002]
[]
[34001,"Dressings, Single Serving Cup Light Ranch","Naturally Fresh ",85119645061,null,"100/1.0z",100,null,{"$f":"ROUND($H$8*$G$8/G8,2)","v":0},"Cs",null,{"$f":"IF(OR(ISBLANK(K8),K8=0,H8=0,ISBLANK(H8)),,ROUND(K8+$L$3,2))","v":0},{"$f":"ROUND(I8*L8,2)","v":0},{"$f":"ROUND(L8/G8,4)","v":0}]
[]
[34002,"Dressings, Single Serving Light Ranch   Duplicate Item","Ken's ","KE0708A5",null,"100/1.5z",100,null,{"$f":"ROUND($H$10*$G$10/G10,2)","v":0},"Cs",null,{"$f":"IF(OR(ISBLANK(K10),K10=0,H10=0,ISBLANK(H10)),,ROUND(K10+$L$3,2))","v":0},{"$f":"ROUND(I10*L10,2)","v":0},{"$f":"ROUND(L10/G10,4)","v":0}]
[null,"1.5 oz. Does not require refrigeration","Heinz",130005343500,null,"100/1.5z",100,null,{"$f":"ROUND($H$10*$G$10/G11,2)","v":0},"Cs",null,{"$f":"IF(OR(ISBLANK(K11),H11=0,ISBLANK(H11)),,ROUND(K11+$L$3,2))","v":0},0,0]
[34003,"Dressings, Salad, Fat Free, Italian, 1.5 oz","Marzetti Red Sodium",81975,null,"60/1.5z ",60,10,{"$f":"ROUND(H12*G12/G12,2)","v":10},"Cs",7.31,{"$f":"IF(OR(ISBLANK(K12),K12=0,H12=0,ISBLANK(H12)),,ROUND(K12+$L$3,2))","v":7.31},73.099999999999994,0.12180000000000001]
[null,"Does not require refrigeration","Taste Pleasers DISCONTINUED ",7160370009500,null,"100/1.5 z",100,null,{"$f":"ROUND($H$12*$G$12/G13,2)","v":6},"Cs",null,{"$f":"IF(OR(ISBLANK(K13),K13=0,H12=0,ISBLANK(H12)),,ROUND(K13+$L$3,2))","v":0},0,0]
[null,null,"Ken's","KE0807B3",null,"60/1.5z ",60,null,10,"Cs",null,{"$f":"IF(OR(ISBLANK(K14),K14=0,H12=0,ISBLANK(H12)),,ROUND(K14+$L$3,2))","v":0},0,0]
[null,null,"Hellmann's",26329,null,"102/1.5z",102,null,5.88,"Cs",null,{"$f":"IF(OR(ISBLANK(K15),K15=0,H12=0,ISBLANK(H12)),,ROUND(K15+$L$3,2))","v":0},0,0]
[null,null,"Hidden Valley",85640,null,"84/1.5 z",84,null,7.14,"Cs",null,{"$f":"IF(OR(ISBLANK(K16),K16=0,H12=0,ISBLANK(H12)),,ROUND(K16+$L$3,2))","v":0},0,0]
[null,null,"Natually Fresh",85716475061,null,"100/1.5z",100,null,6,"Cs",null,{"$f":"IF(OR(ISBLANK(K17),K17=0,H12=0,ISBLANK(H12)),,ROUND(K17+$L$3,2))","v":0},{"$f":"ROUND(L17*I17,2)","v":0},0]
[null," ","Wishbone",26100,null,"60/1.5z",60,null,10,"Cs",null,{"$f":"IF(OR(ISBLANK(K18),K18=0,H12=0,ISBLANK(H12)),,ROUND(K18+$L$3,2))","v":0},{"$f":"ROUND(L18*I18,2)","v":0},0]
[]
[34004,"Dressings, Salad, Fat Free, Ranch, 1.5 oz","Marzetti Red Sodium",81976,null,"60/1.5 z",60,null,{"$f":"ROUND(H20*G20/G20,2)","v":0},"Cs",9.6999999999999993,{"$f":"IF(OR(ISBLANK(K20),K20=0,H20=0,ISBLANK(H20)),,ROUND(K20+$L$3,2))","v":0},{"$f":"ROUND(I20*L20,2)","v":0},{"$f":"ROUND(L20/G20,4)","v":0}]
[null,"Does not require refrigeration","Taste Pleasers  DISCONTINUED ",7160370007500,null,"100/1.5 z",100,null,{"$f":"ROUND($H$20*$G$20/G21,2)","v":0},"Cs",null,{"$f":"IF(OR(ISBLANK(K21),K21=0,H20=0,ISBLANK(H20)),,ROUND(K21+$L$3,2))","v":0},{"$f":"ROUND(L21*I21,2)","v":0},0]
[null,null,"Naturally Fresh",85716665061,null,"100/1.5z",100,null,0,"Cs",null,{"$f":"IF(OR(ISBLANK(K22),K22=0,H20=0,ISBLANK(H20)),,ROUND(K22+$L$3,2))","v":0},{"$f":"ROUND(L22*I22,2)","v":0},0]
[null,null,"Ken's ","KE0026B3",null,"60/1.5 z",60,null,0,"Cs",null,{"$f":"IF(OR(ISBLANK(K23),K23=0,H20=0,ISBLANK(H20)),,ROUND(K23+$L$3,2))","v":0},{"$f":"ROUND(I23*L23,2)","v":0},0]
[null,null,"Hellmanns",26331,null,"102/1.5z",102,null,0,"Cs",null,{"$f":"IF(OR(ISBLANK(K24),K24=0,H20=0,ISBLANK(H20)),,ROUND(K24+$L$3,2))","v":0},{"$f":"ROUND(I24*L24,2)","v":0},0]
[null,null,"Hidden Valley",85629,null,"84/1.5z ",84,null,0,"Cs",null,{"$f":"IF(OR(ISBLANK(K25),K25=0,H20=0,ISBLANK(H20)),,ROUND(K25+$L$3,2))","v":0},{"$f":"ROUND(I25*L25,2)","v":0},0]
[null,null,"Wishbone",26108,null,"60/1.5 z",60,null,0,"Cs",null,{"$f":"IF(OR(ISBLANK(K26),K26=0,H20=0,ISBLANK(H20)),,ROUND(K26+$L$3,2))","v":0},{"$f":"ROUND(I26*L26,2)","v":0},0]
[34005,"Dressings, Salad, Fat Free, Thousand Island, 1.5 oz","Marzetti ",81974,null,"60/1.5z",60,10,{"$f":"ROUND(H27*G27/G27,2)","v":10},"Cs",8.67,{"$f":"IF(OR(ISBLANK(K27),K27=0,H27=0,ISBLANK(H27)),,ROUND(K27+$L$3,2))","v":8.67},{"$f":"ROUND(I27*L27,2)","v":86.7},0.14449999999999999]
[null,"Does not require refrigeration","Hellmanns",26334,null,"102/1.5z",102,null,{"$f":"ROUND($H$27*$G$27/G28,2)","v":5.88},"Cs",null,{"$f":"IF(OR(ISBLANK(K28),K28=0,H27=0,ISBLANK(H27)),,ROUND(K28+$L$3,2))","v":0},{"$f":"ROUND(L28*I28,2)","v":0},0]
[null,null,"Hidden Valley",85642,null,"84/1.5z",84,null,{"$f":"ROUND($H$27*$G$27/G29,2)","v":7.14},"Cs",null,{"$f":"IF(OR(ISBLANK(K29),K29=0,H27=0,ISBLANK(H27)),,ROUND(K29+$L$3,2))","v":0},{"$f":"ROUND(L29*I29,2)","v":0},0]
[null,null,null,null,null,null,null,null,null,null,null," "," "," "]
[34006,"Dressings, Salad, Light, Ranch, 1.5 oz","Heinz ",130005343500,null,"60/1.5z",60,10,{"$f":"ROUND(H31*G31/G31,2)","v":10},"Cs",6.83,{"$f":"IF(OR(ISBLANK(K31),K31=0,H31=0,ISBLANK(H31)),,ROUND(K31+$L$3,2))","v":6.83},{"$f":"ROUND(I31*L31,2)","v":68.3},{"$f":"ROUND(L31/G31,4)","v":0.1138}]
[null,"Does not require refrigeration","Ken's ","KE708A5",null,"100/1.5z",100,null,{"$f":"ROUND(H31*G31/G32,2)","v":6},"Cs",null,{"$f":"IF(OR(ISBLANK(K32),K32=0,H31=0,ISBLANK(H31)),,ROUND(K32+$L$3,2))","v":0},{"$f":"ROUND(L32*I32,2)","v":0},{"$f":"ROUND(L32/G32,4)","v":0}]
[null,"0 transfat, 3 grams of fat per 1.5 oz serving","Kraft DISCONTINUED ",210000115400,null,"60/1.5z",60,null,{"$f":"ROUND(H31*G31/G33,2)","v":10},"Cs",null,{"$f":"IF(OR(ISBLANK(K33),K33=0,H31=0,ISBLANK(H31)),,ROUND(K33+$L$3,2))","v":0},{"$f":"ROUND(L33*I33,2)","v":0},{"$f":"ROUND(L33/G33,4)","v":0}]
[]
[34007,"Dressing, Salad, Ranch,  FF, 12 Gram","Kraft",210006496200,null,"200/.43z",200,50,{"$f":"ROUND(H35*G35/G35,2)","v":50},"Cs",8.14,{"$f":"IF(OR(ISBLANK(K35),K35=0,H35=0,ISBLANK(H35)),,ROUND(K35+$L$3,2))","v":8.14},{"$f":"ROUND(I35*L35,2)","v":407},{"$f":"ROUND(L35/G35,4)","v":4.07E-2}]
[null,null,"Sauers","O6504",null,"200/12g",200,null,{"$f":"ROUND(H35*G35/G36,2)","v":50},"Cs",null,{"$f":"IF(OR(ISBLANK(K36),K36=0,H35=0,ISBLANK(H35)),,ROUND(K36+$L$3,2))","v":0},{"$f":"ROUND(L36*I36,2)","v":0},0]
[34008,"Dressing, Salad, Reg, French, 12 gram","Heinz",130005328000,null,"200/.43z",200,50,{"$f":"ROUND(H37*G37/G37,2)","v":50},"Cs",null,{"$f":"IF(OR(ISBLANK(K37),K37=0,H37=0,ISBLANK(H37)),,ROUND(K37+$L$3,2))","v":0},{"$f":"ROUND(I37*L37,2)","v":0},0]
[null,null,"Sauer","O6387",null,"200/12g",200,null,{"$f":"ROUND(H37*G37/G38,2)","v":50},"Cs",7.73,{"$f":"IF(OR(ISBLANK(K38),K38=0,H37=0,ISBLANK(H37)),,ROUND(K38+$L$3,2))","v":7.73},{"$f":"ROUND(I38*L38,2)","v":386.5},3.8699999999999998E-2]
[34009,"Dressing, Salad, Reg, Italian, 12 gram","Heinz","130005326000",null,"200/12z",200,50,{"$f":"ROUND(H39*G39/G39,2)","v":50},"Cs",6.59,{"$f":"IF(OR(ISBLANK(K39),K39=0,H39=0,ISBLANK(H39)),,ROUND(K39+$L$3,2))","v":6.59},{"$f":"ROUND(I39*L39,2)","v":329.5},3.3000000000000002E-2]
[null,null,"Sauer","06392",null,"200/.43z",200,null,{"$f":"ROUND($H$39*$G$39/G40,2)","v":50},"Cs",null,{"$f":"IF(OR(ISBLANK(K40),K39=0,H39=0,ISBLANK(H39)),,ROUND(K40+$L$3,2))","v":0},{"$f":"ROUND(L40*I40,2)","v":0},0]
[34010,"Dressings, Salad, Reg, Ranch, 12 gm","Heinz","130005331000",null,"200/12gm",200,null,{"$f":"ROUND(H41*G41/G41,2)","v":0},"Cs",null,{"$f":"IF(OR(ISBLANK(K41),K41=0,H41=0,ISBLANK(H41)),,ROUND(K41+$L$3,2))","v":0},{"$f":"ROUND(I41*L41,2)","v":0},0]
[null,"Does not require refrigeration","Kraft",210006496900,null,"200/.43z",200,null,{"$f":"ROUND($H$41*$G$41/G42,2)","v":0},"Cs",null,{"$f":"IF(OR(ISBLANK(K42),K42=0,H41=0,ISBLANK(H41)),,ROUND(K42+$L$3,2))","v":0},{"$f":"ROUND(L42*I42,2)","v":0},0]
[null,null,"Sauer","O6863",null,"200/12gm",200,null,{"$f":"ROUND($H$41*$G$41/G43,2)","v":0},"Cs",8.1,{"$f":"IF(OR(ISBLANK(K43),K43=0,H41=0,ISBLANK(H41)),,ROUND(K43+$L$3,2))","v":0},{"$f":"ROUND(L43*I43,2)","v":0},0]
[34011,"Dressings, Salad, Regular, French, 1.5 oz","Marzetti","81919",null,"120/1.5z",120,10,{"$f":"ROUND(H44*G44/G44,2)","v":10},"Cs",null,{"$f":"IF(OR(ISBLANK(K44),K44=0,H44=0,ISBLANK(H44)),,ROUND(K44+$L$3,2))","v":0},{"$f":"ROUND(I44*L44,2)","v":0},0]
[null,"Does not require refrigeration","Taste Pleasers DISCONTINUED",7160370001500,null,"100/1.5 z",100,null,{"$f":"ROUND($H$44*$G$44/G45,2)","v":12},"Cs",null,{"$f":"IF(OR(ISBLANK(K45),K45=0,H44=0,ISBLANK(H44)),,ROUND(K45+$L$3,2))","v":0},{"$f":"ROUND(I45*L45,2)","v":0},0]
[null,null,"Kens","KE0033B3",null,"60/1.5 z",60,null,20,"Cs",null,{"$f":"IF(OR(ISBLANK(K46),K46=0,H44=0,ISBLANK(H44)),,ROUND(K46+$L$3,2))","v":0},{"$f":"ROUND(I46*L46,2)","v":0},0]
[null,null,"Hellmanns",26324,null,"102/1.5z",102,null,11.76,"Cs",null,{"$f":"IF(OR(ISBLANK(K47),K47=0,H44=0,ISBLANK(H44)),,ROUND(K47+$L$3,2))","v":0},{"$f":"ROUND(I47*L47,2)","v":0},0]
[null,null,"Wishbone",26115,null,"60/1.5 z",60,null,20,"Cs",null,{"$f":"IF(OR(ISBLANK(K48),K48=0,H44=0,ISBLANK(H44)),,ROUND(K48+$L$3,2))","v":0},{"$f":"ROUND(I48*L48,2)","v":0},0]
[null,null,"Heinz",130007503000,null,"60/1.5 z",60,null,20,"Cs",7.96,{"$f":"IF(OR(ISBLANK(K49),K49=0,H44=0,ISBLANK(H44)),,ROUND(K49+$L$3,2))","v":7.96},{"$f":"ROUND(L49*I49,2)","v":159.19999999999999},0.13270000000000001]
[null,null,"Hidden Valley",85636,null,"84/1.5 z",84,null,14.29,"Cs",null,{"$f":"IF(OR(ISBLANK(K50),K50=0,H44=0,ISBLANK(H44)),,ROUND(K50+$L$3,2))","v":0},{"$f":"ROUND(L50*I50,2)","v":0},0]
[null,null,null,null,null,null,null,null,null,null,null," "," "," "]
[34012,"Dressings, Salad, Regular, Italian, 1.5 oz","Marzetti","81998",null,"60/1.5 z",60,null,{"$f":"ROUND(H52*G52/G52,2)","v":0},"Cs",null,{"$f":"IF(OR(ISBLANK(K52),K52=0,H52=0,ISBLANK(H52)),,ROUND(K52+$L$3,2))","v":0},{"$f":"ROUND(I52*L52,2)","v":0},{"$f":"ROUND(L52/G52,4)","v":0}]
[null,"Does not require refrigeration","Taste Pleasers DISCONTINURED","7160371998400",null,"100/1.5 z",100,null,{"$f":"ROUND($H$52*$G$52/G53,2)","v":0},"Cs",null,{"$f":"IF(OR(ISBLANK(K53),K53=0,H52=0,ISBLANK(H52)),,ROUND(K53+$L$3,2))","v":0},{"$f":"ROUND(I53*L53,2)","v":0},0]
[null,null,"Kens","KE0020B3",null,"60/1.5 z",60,null,0,"Cs",null,{"$f":"IF(OR(ISBLANK(K54),K54=0,H52=0,ISBLANK(H52)),,ROUND(K54+$L$3,2))","v":0},{"$f":"ROUND(I54*L54,2)","v":0},0]
[null,null,"Hellmanns","26321",null,"102/1.5z",102,null,0,"Cs",null,{"$f":"IF(OR(ISBLANK(K55),K55=0,H52=0,ISBLANK(H52)),,ROUND(K55+$L$3,2))","v":0},{"$f":"ROUND(I55*L55,2)","v":0},0]
[null,null,"Wishbone","26103",null,"60/1.5 z",60,null,0,"Cs",null,{"$f":"IF(OR(ISBLANK(K56),K56=0,H52=0,ISBLANK(H52)),,ROUND(K56+$L$3,2))","v":0},{"$f":"ROUND(I56*L56,2)","v":0},0]
[null,null,"Kraft",210006712100,null,"60/1.5 z",60,null,0,"Cs",7.08,{"$f":"IF(OR(ISBLANK(K57),K57=0,H52=0,ISBLANK(H52)),,ROUND(K57+$L$3,2))","v":0},{"$f":"ROUND(L57*I57,2)","v":0},0]
[null,null,"Hidden Valley","85637",null,"84/1.5 z",84,null,0,"Cs",null,{"$f":"IF(OR(ISBLANK(K58),K58=0,H52=0,ISBLANK(H52)),,ROUND(K58+$L$3,2))","v":0},{"$f":"ROUND(L58*I58,2)","v":0},0]
[34013,"Dressings, Salad, Regular, Honey Mustard, 1.5 oz, Individual ","Natually Fresh","85716875061",null,"100/1.5z",100,50,{"$f":"ROUND(H59*G59/G59,2)","v":50},"Cs",null,{"$f":"IF(OR(ISBLANK(K59),K59=0,H59=0,ISBLANK(H59)),,ROUND(K59+$L$3,2))","v":0},{"$f":"ROUND(I59*L59,2)","v":0},0]
[null,"Does not require refrigeration","Hellmanns",4800126319,null,"102/1.5 z",102,null,{"$f":"ROUND($H$59*$G$59/G60,2)","v":49.02},"Cs",null,{"$f":"IF(OR(ISBLANK(K60),K60=0,H59=0,ISBLANK(H59)),,ROUND(K60+$L$3,2))","v":0},0,0]
[null,null,"Kraft",210000115200,null,"60/1.5z",60,null,{"$f":"ROUND($H$59*$G$59/G61,2)","v":83.33},"Cs",7.57,{"$f":"IF(OR(ISBLANK(K61),K61=0,H59=0,ISBLANK(H59)),,ROUND(K61+$L$3,2))","v":7.57},630.80999999999995,0.12620000000000001]
[null,null,"Heinz",130005342900,null,"60/1.5z",60,null,{"$f":"ROUND($H$59*$G$59/G62,2)","v":83.33},"Cs",null,{"$f":"IF(OR(ISBLANK(K62),K62=0,H59=0,ISBLANK(H59)),,ROUND(K62+$L$3,2))","v":0},0,0]
[34014,"Dressings, Salad, Regular, Ranch. 1.5 oz, Individual","Marzetti",81992,null,"120/1.5z",120,null,{"$f":"ROUND(H63*G63/G63,2)","v":0},"Cs",null,{"$f":"IF(OR(ISBLANK(K63),K63=0,H63=0,ISBLANK(H63)),,ROUND(K63+$L$3,2))","v":0},0,0]
[null,"Does not require refrigeration","Taste Pleasers",7160372298400,null,"100/1.5 z",100,null,{"$f":"ROUND($H$63*$G$63/G64,2)","v":0},"Cs",11.72,{"$f":"IF(OR(ISBLANK(K64),K64=0,H63=0,ISBLANK(H63)),,ROUND(K64+$L$3,2))","v":0},0,0]
[null,null,"Kens","KE0789B3",null,"60/1.5 z",60,null,0,"Cs",null,{"$f":"IF(OR(ISBLANK(K65),K65=0,H63=0,ISBLANK(H63)),,ROUND(K65+$L$3,2))","v":0},0,0]
[null,null,"Hellmanns",26320,null,"102/1.5z",102,null,0,"Cs",null,{"$f":"IF(OR(ISBLANK(K66),K66=0,H63=0,ISBLANK(H63)),,ROUND(K66+$L$3,2))","v":0},0,0]
[null,null,"Wishbone",26105,null,"60/1.5 z",60,null,0,"Cs",null,{"$f":"IF(OR(ISBLANK(K67),K67=0,H63=0,ISBLANK(H63)),,ROUND(K67+$L$3,2))","v":0},0,0]
[null,null,"Heinz",130007505000,null,"60/1.5 z",60,null,0,"Cs",null,{"$f":"IF(OR(ISBLANK(K68),K68=0,H63=0,ISBLANK(H63)),,ROUND(K68+$L$3,2))","v":0},{"$f":"ROUND(L68*I68,2)","v":0},0]
[null,null,"Hidden Valley",85625,null,"84/1.5 z",84,null,0,"Cs",null,{"$f":"IF(OR(ISBLANK(K69),K69=0,H63=0,ISBLANK(H63)),,ROUND(K69+$L$3,2))","v":0},0,0]
[null,null,"Naturally Fresh","857124d5061",null,"100/1.5z",100,null,0,"Cs",null,{"$f":"IF(OR(ISBLANK(K70),K70=0,H63=0,ISBLANK(H63)),,ROUND(K70+$L$3,2))","v":0},0,0]
[null,null,"Salad Bistro (Ventura)",15170,null,"102/1.5z",100,null,0,"Cs",null,{"$f":"IF(OR(ISBLANK(K71),K71=0,H63=0,ISBLANK(H63)),,ROUND(K71+$L$3,2))","v":0},0,0]
[null,null,"Sauers","O6870",null,"60/1.5z",60,null,0,"Cs",null,{"$f":"IF(OR(ISBLANK(K72),K72=0,H63=0,ISBLANK(H63)),,ROUND(K72+$L$3,2))","v":0},0,0]
[null,null,"Dixie Crystal",75100,null,"60/1.5z",60,null,0,"Cs",null,{"$f":"IF(OR(ISBLANK(K73),K73=0,H63=0,ISBLANK(H63)),,ROUND(K73+$L$3,2))","v":0},0,0]
[34015,"Dressings, Salad, Regular, Thousand Island, 1.5 oz, Individual","Marzetti","81987",null,"60/1.5 z",60,null,{"$f":"ROUND(H74*G74/G74,2)","v":0},"Cs",null,{"$f":"IF(OR(ISBLANK(K74),K74=0,H74=0,ISBLANK(H74)),,ROUND(K74+$L$3,2))","v":0},{"$f":"ROUND(I74*L74,2)","v":0},0]
[null,"Does not require refrigeration","Kens","KE0816B3",null,"60/1.5 z",60,null,{"$f":"ROUND($H$74*$G$74/G75,2)","v":0},"Cs",null,{"$f":"IF(OR(ISBLANK(K75),K75=0,H74=0,ISBLANK(H74)),,ROUND(K75+$L$3,2))","v":0},{"$f":"ROUND(I75*L75,2)","v":0},0]
[null,null,"Hellmanns","10048001198781",null,"102/1.5z",102,null,{"$f":"ROUND($H$74*$G$74/G76,2)","v":0},"Cs",null,{"$f":"IF(OR(ISBLANK(K76),K76=0,H74=0,ISBLANK(H74)),,ROUND(K76+$L$3,2))","v":0},{"$f":"ROUND(I76*L76,2)","v":0},0]
[null,null,"Wishbone","26110",null,"60/1.5z ",60,null,{"$f":"ROUND($H$74*$G$74/G77,2)","v":0},"Cs",null,{"$f":"IF(OR(ISBLANK(K77),K77=0,H74=0,ISBLANK(H74)),,ROUND(K77+$L$3,2))","v":0},{"$f":"ROUND(I77*L77,2)","v":0},0]
[null,null,"Heinz","130007502000",null,"60/1.5 z",60,null,{"$f":"ROUND($H$74*$G$74/G78,2)","v":0},"Cs",7.19,{"$f":"IF(OR(ISBLANK(K78),K78=0,H74=0,ISBLANK(H74)),,ROUND(K78+$L$3,2))","v":0},{"$f":"ROUND(I78*L78,2)","v":0},0]
[null,null,"Hidden Valley","85638",null,"84/1.5 z",84,null,{"$f":"ROUND($H$74*$G$74/G79,2)","v":0},"Cs",null,{"$f":"IF(OR(ISBLANK(K79),K79=0,H74=0,ISBLANK(H74)),,ROUND(K79+$L$3,2))","v":0},{"$f":"ROUND(L79*I79,2)","v":0},0]
[]
[null,null," ",null,null," "," ",null," "," ",null," "," "," ","  "]
[34016,"Jelly, Assorted, Individual","PPI  DISCONTINUED","7160376185000",null,"200/.5 z",200,null,{"$f":"ROUND(H82*G82/G82,2)","v":0},"Cs",null,{"$f":"IF(OR(ISBLANK(K82),K82=0,H82=0,ISBLANK(H82)),,ROUND(K82+$L$3,2))","v":0},{"$f":"ROUND(L82*I82,2)","v":0},{"$f":"ROUND(L82/G82,4)","v":0}]
[null," Grape, Apple, Strawberry 1/2 oz","Smuckers","5150001696",null,"200/.5 z",200,null,{"$f":"ROUND($H$82*$G$82/G83,2)","v":0},"Cs",null,{"$f":"IF(OR(ISBLANK(K83),K83=0,H82=0,ISBLANK(H82)),,ROUND(K83+$L$3,2))","v":0},{"$f":"ROUND(I83*L83,2)","v":0},0]
[null,null,"Sauers","O6371",null,"200/.5z",200,null,{"$f":"ROUND($H$82*$G$82/G84,2)","v":0},"Cs",10.31,{"$f":"IF(OR(ISBLANK(K84),K84=0,H82=0,ISBLANK(H82)),,ROUND(K84+$L$3,2))","v":0},0,0]
[34017,"Jelly, Grape, Individual","PPI",7160374685000,null,"200/.5 z",200,100,{"$f":"ROUND(H85*G85/G85,2)","v":100},"Cs",7.29,{"$f":"IF(OR(ISBLANK(K85),K85=0,H85=0,ISBLANK(H85)),,ROUND(K85+$L$3,2))","v":7.29},729,3.6499999999999998E-2]
[null,"1/2 oz","Smuckers",5150000764,null,"200/.5 z",200,null,{"$f":"ROUND($H$85*$G$85/G86,2)","v":100},"Cs",null,{"$f":"IF(OR(ISBLANK(K86),K86=0,H85=0,ISBLANK(H85)),,ROUND(K86+$L$3,2))","v":0},0,0]
[null,null,"Sauers","O6860",null,"200/.5z",200,null,{"$f":"ROUND($H$85*$G$85/G87,2)","v":100},"Cs",null,{"$f":"IF(OR(ISBLANK(K87),K87=0,H85=0,ISBLANK(H85)),,ROUND(K87+$L$3,2))","v":0},0,0]
[34018,"Mayonnaise, Fat Free, 12 gm, Individual","Heinz","130005433000",null,"200/12 gm",200,200,{"$f":"ROUND(H88*G88/G88,2)","v":200},"Cs",null,{"$f":"IF(OR(ISBLANK(K88),K88=0,H88=0,ISBLANK(H88)),,ROUND(K88+$L$3,2))","v":0},0,0]
[null,null,"Kraft","210006499200",null,"200/12 gm",200,null,{"$f":"ROUND($H$88*$G$88/G89,2)","v":200},"Cs",9,{"$f":"IF(OR(ISBLANK(K89),K89=0,H88=0,ISBLANK(H88)),,ROUND(K89+$L$3,2))","v":9},{"$f":"ROUND(L89*I89,2)","v":1800},4.4999999999999998E-2]
[34019,"Mayonnaise, Regular, 12 gm, Individual","Heinz","130005317000",null,"200/12 gm",200,50,{"$f":"ROUND(H90*G90/G90,2)","v":50},"Cs",6.45,{"$f":"IF(OR(ISBLANK(K90),K90=0,H90=0,ISBLANK(H90)),,ROUND(K90+$L$3,2))","v":6.45},{"$f":"ROUND(I90*L90,2)","v":322.5},3.2300000000000002E-2]
[null,null,"Hellmanns","26537",null,"200/12gm",204,null,{"$f":"ROUND($H$90*$G$90/G91,2)","v":49.02},"Cs",null,{"$f":"IF(OR(ISBLANK(K91),K91=0,H90=0,ISBLANK(H90)),,ROUND(K91+$L$3,2))","v":0},0,0]
[null,null,"Kraft","210006648500",null,"200/12gm",200,null,{"$f":"ROUND($H$90*$G$90/G92,2)","v":50},"Cs",null,{"$f":"IF(OR(ISBLANK(K92),K92=0,H90=0,ISBLANK(H90)),,ROUND(K92+$L$3,2))","v":0},0,0]
[null,null,"Sauer","O6399",null,"200/12gm",200,null,{"$f":"ROUND($H$90*$G$90/G93,2)","v":50},"Cs",null,{"$f":"IF(OR(ISBLANK(K93),K93=0,H90=0,ISBLANK(H90)),,ROUND(K93+$L$3,2))","v":0},0,0]
[34020,"Mayonnaise, Light,  12gram","Duke's ","O6346",null,"200/12gm",200,100,{"$f":"ROUND(H94*G94/G94,2)","v":100},"Cs",7.76,{"$f":"IF(OR(ISBLANK(K94),K94=0,H94=0,ISBLANK(H94)),,ROUND(K94+$L$3,2))","v":7.76},{"$f":"ROUND(I94*L94,2)","v":776},{"$f":"ROUND(L94/G94,4)","v":3.8800000000000001E-2}]
[null,"0 trans fat","Kraft/Heinz","210006653300",null,"200/12gm",200,null,{"$f":"ROUND(H94*G94/G95,2)","v":100},"Cs"]
[34021,"Mustard, Individual ","Heinz",130005305000,null,"500/.5 z",500,100,{"$f":"ROUND(H96*G96/G96,2)","v":100},"Cs",null,{"$f":"IF(OR(ISBLANK(K96),K96=0,H96=0,ISBLANK(H96)),,ROUND(K96+$L$3,2))","v":0},0,0]
[null,"4.5 minimum grams per packet.  Grade A","PPI",7160370539000,null,"500/5.5 z",500,null,{"$f":"ROUND($H$96*$G$96/G97,2)","v":100},"Cs",5.2,{"$f":"IF(OR(ISBLANK(K97),K97=0,H96=0,ISBLANK(H96)),,ROUND(K97+$L$3,2))","v":5.2},{"$f":"ROUND(L97*I97,2)","v":520},1.04E-2]
[null,null,"Sauers","O6501",null,"500/5.5 z",500,null,{"$f":"ROUND($H$96*$G$96/G98,2)","v":100},"Cs",null,{"$f":"IF(OR(ISBLANK(K98),K98=0,H96=0,ISBLANK(H96)),,ROUND(K98+$L$3,2))","v":0},{"$f":"ROUND(I98*L98,2)","v":0},{"$f":"ROUND(L98/G98,4)","v":0}]
[34022,"Honey Mustard, Individual, 12gr","Heinz",130005312000,null,"200/12 gm",200,null,{"$f":"ROUND(H99*G99/G99,2)","v":0},"Cs",12.5,{"$f":"IF(OR(ISBLANK(K99),K99=0,H99=0,ISBLANK(H99)),,ROUND(K99+$L$3,2))","v":0},{"$f":"ROUND(I99*L99,2)","v":0},{"$f":"ROUND(L99/G99,4)","v":0}]
[null,"Sweet, mild mustard sauce with honey"]
[34023,"Sauce, Honey Mustard 1 oz. Low Sodium","Naturally Fresh",85116875061,null,"100/1z",100,50,{"$f":"ROUND(H101*G101/G101,2)","v":50},"Cs",null,{"$f":"IF(OR(ISBLANK(K101),K101=0,H101=0,ISBLANK(H101)),,ROUND(K101+$L$3,2))","v":0},{"$f":"ROUND(I101*L101,2)","v":0},{"$f":"ROUND(L101/G101,4)","v":0}]
[null,"Shelf Stable, does not need refrigeration, Not more than 125 mg"]
[null,"of sodium per serving."]
[null,"Possible Allergens:  Eggs"]
[34024,"Sauce, Hot","Texas Pete",100003,null,"200/7 gm",200,10,{"$f":"ROUND(H105*G105/G105,2)","v":10},"Cs",5.4,{"$f":"IF(OR(ISBLANK(K105),K105=0,H105=0,ISBLANK(H105)),,ROUND(K105+$L$3,2))","v":5.4},{"$f":"ROUND(I105*L105,2)","v":54},{"$f":"ROUND(L105/G105,4)","v":2.7E-2}]
[null,"Shelf Stable","Kraft/Heinz",130007142000,null,"200/7 gm",200,null,{"$f":"ROUND(H105*G105/G106,2)","v":10},"Cs",null,{"$f":"IF(OR(ISBLANK(K106),K106=0,H105=0,ISBLANK(H105)),,ROUND(K106+$L$3,2))","v":0},{"$f":"ROUND(I106*L106,2)","v":0},0]
[null,null,"Sauers","O6317",null,"200/7 gm",200,null,{"$f":"ROUND(H105*G105/G107,2)","v":10},"Cs",null,{"$f":"IF(OR(ISBLANK(K107),K107=0,H105=0,ISBLANK(H105)),,ROUND(K107+$L$3,2))","v":0},{"$f":"ROUND(L107*I107,2)","v":0},0]
[34025,"Sauce, Sweet and Sour , Individual portion ","Kraft/Heinz",130007138000,null,"100/1z",100,50,{"$f":"ROUND(H108*G108/G108,2)","v":50},"Cs",6.68,{"$f":"IF(OR(ISBLANK(K108),K108=0,H108=0,ISBLANK(H108)),,ROUND(K108+$L$3,2))","v":6.68},{"$f":"ROUND(I108*L108,2)","v":334},6.6799999999999998E-2]
[null,"Cup pack.  1 oz per packet","Naturally Fresh","851343D5061",null,"100/1z",100,null,{"$f":"ROUND($H$108*$G$108/G109,2)","v":50},"Cs",null,{"$f":"IF(OR(ISBLANK(K109),K109=0,H108=0,ISBLANK(H108)),,ROUND(K109+$L$3,2))","v":0},{"$f":"ROUND(I109*L109,2)","v":0},0]
[null,null,"Sauers","O6385",null,"100/1z",100,null,{"$f":"ROUND($H$108*$G$108/G110,2)","v":50},"Cs",null,{"$f":"IF(OR(ISBLANK(K110),K110=0,H108=0,ISBLANK(H108)),,ROUND(K110+$L$3,2))","v":0},{"$f":"ROUND(I110*L110,2)","v":0},0]
[34026,"Sauce, Yum Yum ","Terry Ho",250,null,"100/1z",100,null,{"$f":"ROUND(H111*G111/G111,2)","v":0},"Cs",14.83,{"$f":"IF(OR(ISBLANK(K111),K111=0,H111=0,ISBLANK(H111)),,ROUND(K111+$L$3,2))","v":0},{"$f":"ROUND(I111*L111,2)","v":0},0]
[null,"Shelf Stable, 0-100 calories with not more than 2 g saturated fat and 20 mg "]
[null,"sodium per 1 oz. cup.  "]
[null,"Possible Allergens:  Egg and Soy"]
[34027,"Sauce, Tartar, Individual portion ","PPI",7160374381000,null,"200/12 gm",200,null,{"$f":"ROUND(H115*G115/G115,2)","v":0},"Cs",6.73,{"$f":"IF(OR(ISBLANK(K115),K115=0,H115=0,ISBLANK(H115)),,ROUND(K115+$L$3,2))","v":0},{"$f":"ROUND(I115*L115,2)","v":0},{"$f":"ROUND(L115/G115,4)","v":0}]
[null,"12 grams per packet","Sauers","O6509",null,"200/12 gm",200,null,{"$f":"ROUND($H$115*$G$115/G116,2)","v":0},"Cs",null,{"$f":"IF(OR(ISBLANK(K116),K116=0,H115=0,ISBLANK(H115)),,ROUND(K116+$L$3,2))","v":0},{"$f":"ROUND(I116*L116,2)","v":0},{"$f":"ROUND(L116/G116,4)","v":0}]
[null,null,null,null,null,"200/12gm",200,null,{"$f":"ROUND($H$115*$G$115/G117,2)","v":0},"Cs",null," "," "," "]
[34028,"Syrup, Maple Flavored, Individual ","Heinz",130005335000,null,"100/1.5 z",100,300,{"$f":"ROUND(H118*G118/G118,2)","v":300},"Cs",7.86,{"$f":"IF(OR(ISBLANK(K118),K118=0,H118=0,ISBLANK(H118)),,ROUND(K118+$L$3,2))","v":7.86},{"$f":"ROUND(L118*I118,2)","v":2358},{"$f":"ROUND(L118/G118,4)","v":7.8600000000000003E-2}]
[null,"Individual 1.5 oz per cup.","Diamond Crystal",75901,null,"100/1.5 z",100,null,{"$f":"ROUND(H118*G118/G119,2)","v":300},"Cs",null,{"$f":"IF(OR(ISBLANK(K119),K119=0,H118=0,ISBLANK(H118)),,ROUND(K119+$L$3,2))","v":0},{"$f":"ROUND(I119*L119,2)","v":0},{"$f":"ROUND(L119/G119,4)","v":0}]
[null,null,"Naturally Fresh",85219815061,null,"100/1.5 z",100,null,{"$f":"ROUND($H$118*$G$118/G120,2)","v":300},"Cs",null,{"$f":"IF(OR(ISBLANK(K120),K120=0,H118=0,ISBLANK(H118)),,ROUND(K120+$L$3,2))","v":0},{"$f":"ROUND(I120*L120,2)","v":0},{"$f":"ROUND(L120/G120,4)","v":0}]
[null,null,"Sauers","O6383",null,"100/1.5 z",100,null,{"$f":"ROUND($H$118*$G$118/G121,2)","v":300},"Cs",null,{"$f":"IF(OR(ISBLANK(K121),K121=0,H118=0,ISBLANK(H118)),,ROUND(K121+$L$3,2))","v":0},{"$f":"ROUND(I121*L121,2)","v":0},{"$f":"ROUND(L121/G121,4)","v":0}]
[null,null,null,null,null,null,null,null,null,null,null," "," "," "]
[34029,"Peanut Butter Substitute","Sneaky Chef Foods",1016,null,"220/1.0z",220,null,{"$f":"ROUND(H123*G123/G123,2)","v":0},"Cs",92.4,{"$f":"IF(OR(ISBLANK(K123),K123=0,H123=0,ISBLANK(H123)),,ROUND(K123+$L$3,2))","v":0},{"$f":"ROUND(L123*I123,2)","v":0},{"$f":"ROUND(L123/G123,4)","v":0}]
[null,"Prduced in nut free facility. Provides 1 M/MA or 1/4 cup Legumes ","No Nut Butter Chocolate Cups"]
[null,"Gluten Free, No soy, No high fructose, No hydrogenated oils, "]
[null,"No artificial colors or flavors."]
[]
[34030,"Salsa, Mild, Dipping Cup","Red Gold ","72940-11139-5",null,"84/3.0z",84,100,{"$f":"ROUND(H128*G128/G128,2)","v":100},"Cs",28.01,{"$f":"IF(OR(ISBLANK(K128),K128=0,H128=0,ISBLANK(H128)),,ROUND(K128+$L$3,2))","v":28.01},{"$f":"ROUND(I128*L128,2)","v":2801},{"$f":"ROUND(L128/G128,4)","v":0.33350000000000002},"REDSC2ZC84","84/3 oz",84,26.88,2.36,{"$f":"ROUND($T$6*S128,2)","v":1.1299999999999999},{"$f":"IF(ISBLANK(O128),,R128+T128)","v":28.009999999999998},"Y",26.880000000000003,0.32,{"$f":"IF(V128=\"N\",IF(ISNUMBER(R128),(R128+T128)/Q128))","v":false}]
[null,"Canned Grade A 3 oz. serving = 1/2 c Red/Orange Vegetable","Red Gold","72940-11139-7",null,"168/3.0z",168,null,{"$f":"ROUND(H129*G129/G129,2)","v":0},"Cs",53.9,{"$f":"IF(OR(ISBLANK(K129),K129=0,H128=0,ISBLANK(H128)),,ROUND(K129+$L$3,2))","v":53.9},{"$f":"ROUND(I129*L129,2)","v":0},{"$f":"ROUND(L129/G129,4)","v":0.32079999999999997},"REDSC2ZC168","168/3 oz",168,51.65,4.72,{"$f":"ROUND($T$6*S129,2)","v":2.25},{"$f":"IF(ISBLANK(O129),,R129+T129)","v":53.9},"Y",51.65,0.30744047619047621,{"$f":"IF(V129=\"N\",IF(ISNUMBER(R129),(R129+T129)/Q129))","v":false}]
[]
[]
[34031,"Ketchup, Tomato, Portion Control","Red Gold ","72940-11581 ",null,"1000/9gm",1000,250,{"$f":"ROUND(H132*G132/G132,2)","v":250},"Cs",null,{"$f":"IF(OR(ISBLANK(K132),K132=0,H132=0,ISBLANK(H132)),,ROUND(K132+$L$3,2))","v":0},{"$f":"ROUND(I132*L132,2)","v":0},{"$f":"ROUND(L132/G132,4)","v":0},"REDY59G","1000/9 gm",1000,null,4.21,{"$f":"ROUND($T$6*S132,2)","v":2.0099999999999998},{"$f":"IF(ISBLANK(O132),,R132+T132)","v":2.0099999999999998},"Y"]
[null,null,"Hunts ","27000-38287",null,"1000/9gm",1000,null,{"$f":"ROUND(H132*G132/G133,2)","v":250},"Cs",null,{"$f":"IF(OR(ISBLANK(K133),K133=0,H132=0,ISBLANK(H132)),,ROUND(K133+$L$3,2))","v":0},{"$f":"ROUND(I133*L133,2)","v":0},{"$f":"ROUND(L133/G133,4)","v":0}]
[null,"33% solids, Grade A 9 gm foil packets","Heinz ",130009848000,null,"1000/9gm",1000,null,{"$f":"ROUND(H132*G132/G134,2)","v":250},"Cs",12.28,{"$f":"IF(OR(ISBLANK(K134),K134=0,H132=0,ISBLANK(H132)),,ROUND(K134+$L$3,2))","v":12.28},{"$f":"ROUND(L134*I134,2)","v":3070},{"$f":"ROUND(L134/G134,4)","v":1.23E-2},130009848000,"1000/9 gm",1000,0,4.32,{"$f":"ROUND($T$6*S134,2)","v":2.06},{"$f":"IF(ISBLANK(O134),,R134+T134)","v":2.06},"Y",10.219999999999999,1.0219999999999998E-2,{"$f":"IF(V134=\"N\",IF(ISNUMBER(R134),(R134+T134)/Q134))","v":false}]
[null," "]
[null,null,null,null,null,null,null,null,null,null,null,null,null,null,null,null,null,null,null,null,null,null,null,null," "]
[34032,"Ketchup, Tomato","Red Gold","REDY51Z",null,"250/1.0 z",250,null,{"$f":"ROUND(H137*G137/G137,2)","v":0},"Cs",null,{"$f":"IF(OR(ISBLANK(K137),K137=0,H137=0,ISBLANK(H137)),,ROUND(K137+$L$3,2))","v":0},{"$f":"ROUND(L137*I137,2)","v":0},{"$f":"ROUND(L137/G137,4)","v":0},null,null,null,null,null,{"$f":"ROUND($T$6*S137,2)","v":0},{"$f":"IF(ISBLANK(O137),,R137+T137)","v":0},"Y"]
[null,"Grade A Fancy, Low Sodium single servie dunk cups.","Kraft/Heinz ",13000030800,null,"500/27g",500,null,{"$f":"ROUND(H137*G137/G138,2)","v":0},"Cs",34.72,{"$f":"IF(OR(ISBLANK(K138),K138=0,H137=0,ISBLANK(H137)),,ROUND(K138+$L$3,2))","v":0},{"$f":"ROUND(L138*I138,2)","v":0},{"$f":"ROUND(L138/G138,2)","v":0}]
[null,"Made with real sugar"," ",null,null," "," ",null," "," ",null," "," "," ",null,null,null,null," ","  ",null,null," "," "," "]
[null," ",null,null,null,null,null,null,null,null,null,null,null,null,null,null,null,null,null,null,null,null,null,null," "]
[34033,"Ketchup, 100% Natural made w/sugar, low sodium, PC","Red Gold ","72940-11584 ",null,"1000/9gm",1000,null,{"$f":"ROUND(H141*G141/G141,2)","v":0},"Cs",17.32,{"$f":"IF(OR(ISBLANK(K141),K141=0,H141=0,ISBLANK(H141)),,ROUND(K141+$L$3,2))","v":0},{"$f":"ROUND(L141*I141,2)","v":0},{"$f":"ROUND(L141/G141,4)","v":0},"REDYL9G","1000/9 gm",1000,15.02,4.8099999999999996,{"$f":"ROUND($T$6*S141,2)","v":2.2999999999999998},{"$f":"IF(ISBLANK(O141),,R141+T141)","v":17.32},"Y",15.02,1.502E-2,{"$f":"IF(V141=\"N\",IF(ISNUMBER(R141),(R141+T141)/Q141))","v":false}]
[null,"US Grade A, 9 gm foil packets",null,null,null," "," ",null," "," ",null," "," "," "]
[null,null,null,null,null,null,null,null,null,null,null,null,null,null,null,null,null,null,null,null,null,null,null,null," "]
[34034,"Sauce, Marinara, Portion Control","Red Gold ","72940-82207-9 ",null,"84/2.5z",84,100,{"$f":"ROUND(H144*G144/G144,2)","v":100},"Cs",null,{"$f":"IF(OR(ISBLANK(K144),K144=0,H144=0,ISBLANK(H144)),,ROUND(K144+$L$3,2))","v":0},{"$f":"ROUND(L144*I144,2)","v":0},{"$f":"ROUND(L144/G144,4)","v":0},"REDNA2ZC84","84/2.5 oz",84,20.64,3.67,{"$f":"ROUND($T$6*S144,2)","v":1.75},{"$f":"IF(ISBLANK(O144),,R144+T144)","v":22.39},"Y"]
[null,null,"Red Gold ","72940-82207-3 ",null,"168/2,5z",168,null,{"$f":"ROUND(H144*G144/G144,2)","v":100},"Cs",42.81,{"$f":"IF(OR(ISBLANK(K145),K145=0,H144=0,ISBLANK(H144)),,ROUND(K145+$L$3,2))","v":42.81},{"$f":"ROUND(L145*I145,2)","v":4281},{"$f":"ROUND(L145/G145,4)","v":0.25480000000000003},"REDNA2ZC168","168/2.5 oz",168,39.31,7.33,{"$f":"ROUND($T$6*S145,2)","v":3.5},{"$f":"IF(ISBLANK(O145),,R145+T145)","v":42.81},"Y",39.31,0.23398809523809525,{"$f":"IF(V145=\"N\",IF(ISNUMBER(R145),(R145+T145)/Q145))","v":false}]
[null,"Shelf Stable, US Grade A, Ready to serve"]
[null,"2 oz. = 1/2 cup Red/Orange Vegetable"]
[34035,"Ketchup, Sriracha, Hot Chili","Red Gold ","72940-11204 ",null,"1000/8gm",1000,null,{"$f":"ROUND($H$148*$G$148/G148,2)","v":0},"Cs",23,{"$f":"IF(OR(ISBLANK(K148),K148=0,H148=0,ISBLANK(H148)),,ROUND(K148+$L$3,2))","v":0},{"$f":"ROUND(I148*L148,2)","v":0},{"$f":"ROUND(L148/G148,4)","v":0},"HUYYW8G","1000/8 gm",1000,21.64,3.89,{"$f":"ROUND($T$6*S148,2)","v":1.86},{"$f":"IF(ISBLANK(O148),,R148+T148)","v":23.5},"Y",21.14,2.1139999999999999E-2,{"$f":"IF(V148=\"N\",IF(ISNUMBER(R148),(R148+T148)/Q148))","v":false}]
[null,"8 gram foil packages",null,null,null," "," ",null," "," ",null," "," "," "]
[]
[34036,"Sauce, Barbecue, 12 gram","Heinz/Kraft ",130005338000,null,"200/12 gm",200,null,{"$f":"ROUND($H$151*$G$151/G151,2)","v":0},"Cs",null,{"$f":"IF(OR(ISBLANK(K151),K151=0,H151=0,ISBLANK(H151)),,ROUND(K151+$L$3,2))","v":0},{"$f":"ROUND(I151*L151,2)","v":0},{"$f":"ROUND(L151/G151,4)","v":0},130005338000,"200/12 gm",200,0,1.01,{"$f":"ROUND($T$6*S151,2)","v":0.48},{"$f":"IF(ISBLANK(O151),,R151+T151)","v":0.48},"Y",6.52,3.2599999999999997E-2,{"$f":"IF(V151=\"N\",IF(ISNUMBER(R151),(R151+T151)/Q151))","v":false}]
[null,"Shelf Stable, 12 grams per packet","PPI ",7160372781000,null,"200/12 gm",200,null,{"$f":"ROUND($H$151*$G$151/G152,2)","v":0},"Cs",4.45,{"$f":"IF(OR(ISBLANK(K152),K152=0,H151=0,ISBLANK(H151)),,ROUND(K152+$L$3,2))","v":0},0,0,null,null,null," "," "," ",null,null," "]
[null," ","CF Sauer ",6858,null,"200/12 gm",200,null,{"$f":"ROUND($H$151*$G$151/G153,2)","v":0},"Cs",null,{"$f":"IF(OR(ISBLANK(K153),K153=0,H151=0,ISBLANK(H151)),,ROUND(K153+$L$3,2))","v":0},0,0,null,null,null," "," "," ",null,null," "]
[null,"Allergens:  Wheat, Soy","Diamond/Flavor Fresh ",76009,null,"200/12 gm",200,null,{"$f":"ROUND($H$151*$G$151/G154,2)","v":0},"Cs",null,{"$f":"IF(OR(ISBLANK(K154),K154=0,H151=0,ISBLANK(H151)),,ROUND(K154+$L$3,2))","v":0},0,0,null,null,null," "," "," ",null,null," "]
[34037,"Sauce, Taco","Heinz/Kraft ",130005324000,null,"200/9 gm",200,20,{"$f":"ROUND($H$155*$G$155/G155,2)","v":20},"Cs",3.95,{"$f":"IF(OR(ISBLANK(K155),K155=0,H155=0,ISBLANK(H155)),,ROUND(K155+$L$3,2))","v":3.95},79,1.9800000000000002E-2,130005324000,"200/9 gm",200,0,0.75,{"$f":"ROUND($T$6*S155,2)","v":0.36},{"$f":"IF(ISBLANK(O155),,R155+T155)","v":0.36},"Y",3.5900000000000003,1.7950000000000001E-2,{"$f":"IF(V155=\"N\",IF(ISNUMBER(R155),(R155+T155)/Q155))","v":false}]
[null,"Shelf Stable, 9 grams per packet","Sauer's ",6508,null,"200/9 gm",200,null,{"$f":"ROUND($H$155*$G$155/G156,2)","v":20},"Cs",null,{"$f":"IF(OR(ISBLANK(K156),K156=0,H155=0,ISBLANK(H155)),,ROUND(K156+$L$3,2))","v":0},0,0,null,null,null," "," "," ",null,null," "]
[null,null,"Rosarita",null,null,"200/9 gm",200,null,{"$f":"ROUND($H$155*$G$155/G157,2)","v":20},"Cs",null,{"$f":"IF(OR(ISBLANK(K157),K157=0,H155=0,ISBLANK(H155)),,ROUND(K157+$L$3,2))","v":0},0,{"$f":"ROUND(L157/G157,2)","v":0},null,null,null," "," "," ",null,null," "]
[null," "," ",null,null," "," ",null," "," ",null," "," "," ",null,null,null," "," "," ",null,null," "]
[34038,"Sauce, Barbecue 1 oz Dipping Cup, Low Sodium","(18-19) Red Gold ","72940-115805",null,"250/1.0z",250,50,{"$f":"ROUND($H$159*$G$159/G159,2)","v":50},null,null,{"$f":"IF(OR(ISBLANK(K159),K159=0,H159=0,ISBLANK(H159)),,ROUND(K159+$L$3,2))","v":0},{"$f":"ROUND(I159*L159,2)","v":0},{"$f":"ROUND(L159/G159,4)","v":0},"REDOA1Z","250/1.0 oz",250,null,1.19,{"$f":"ROUND($T$6*S159,2)","v":0.56999999999999995},{"$f":"IF(ISBLANK(O159),,R159+T159)","v":0.56999999999999995},"Y"]
[null,"1 oz. cup pack contains 75 mg or less sodium per 1 oz. serving","(18-19) Kraft/Heinz ",130007146000,null,"100/1 oz",100,null,{"$f":"ROUND($H$159*$G$159/G160,2)","v":125},"Cs",8.24,{"$f":"IF(OR(ISBLANK(K160),K160=0,H159=0,ISBLANK(H159)),,ROUND(K160+'Shelf-stable Vegetables'!$L$3,2))","v":8.24},{"$f":"ROUND(I160*L160,2)","v":1030},{"$f":"ROUND(L160/G160,4)","v":8.2400000000000001E-2},130007146000,"100/1.0 oz.",100,null,1.19,{"$f":"ROUND($T$6*S160,2)","v":0.56999999999999995},{"$f":"IF(ISBLANK(O160),,R160+T160)","v":0.56999999999999995},"Y",7.67,7.6700000000000004E-2,{"$f":"IF(V160=\"N\",IF(ISNUMBER(R160),(R160+T160)/Q160))","v":false}]
[null,"Allergens:  None Listed "]
[null,"ITEMS BELOW THIS LINE ARE NOT DIRECT TO MANUFACTUER PRICED ITEMS. "]
[34039,"Syrup, Sugar Free, Maple Flavored, Individual, 100/1 oz  ","Distributor Choice",null,null,"100/1z",100,50,{"$f":"ROUND(H163*G163/G163,2)","v":50},"Cs"," "," "," "," "]
[null,null,"Fillable txt box ",null,null,null,null,null,{"$f":"ROUND(H163*G163/G164,2)","v":{"$error":"#DIV/0!"}},"Cs",0,{"$f":"IF(OR(ISBLANK(K164),K164=0,H163=0,ISBLANK(H163)),,ROUND(K164+$L$3,2))","v":0},{"$f":"ROUND(I164*L164,2)","v":{"$error":"#DIV/0!"}},{"$f":"ROUND(L164/G164,4)","v":{"$error":"#DIV/0!"}}]
[34040,"Pepper, Black, Individual ","Distributor Choice",null,null,"6/1000 z",6000,null,{"$f":"ROUND(H165*G165/G165,2)","v":0},"Cs"]
[null,"Flat Pack","Fillable txt box ",null,null,null,null,null,{"$f":"ROUND(H165*G165/G166,2)","v":{"$error":"#DIV/0!"}},"Cs",0,{"$f":"IF(OR(ISBLANK(K166),H165=0,ISBLANK(H165)),,ROUND(K166+$L$3,2))","v":0},{"$f":"ROUND(I166*L166,2)","v":{"$error":"#DIV/0!"}},{"$f":"ROUND(L166/G166,4)","v":{"$error":"#DIV/0!"}}]
[34041,"Salt Packet, Individual ","Distributor Choice",null,null,"6/1000 z",6000,null,{"$f":"ROUND(H167*G167/G167,2)","v":0},"Cs"]
[null,"Flat Pack","Fillable txt box ",null,null,null,null,null,{"$f":"ROUND(H167*G167/G168,2)","v":{"$error":"#DIV/0!"}},"Cs",0,{"$f":"IF(OR(ISBLANK(K168),K168=0,H167=0,ISBLANK(H167)),,ROUND(K168+$L$3,2))","v":0},{"$f":"ROUND(I168*L168,2)","v":{"$error":"#DIV/0!"}},{"$f":"ROUND(L168/G168,4)","v":{"$error":"#DIV/0!"}}]
[null,null,null,null,null,null,null,null,null,"Page Total",null,null,{"$f":"SUMIF(M9:M168,\">0\")","v":20295.61}]

{"sheet":"Frz Bread","index":19,"n_rows":121,"n_cols":25,"rows_kept":121,"cut":false,"hidden":false,"merged":[[0,5,0,13],[1,5,1,13],[2,6,2,10]]}
[null,{"$f":"'Recap Sheet'!A2","v":"School Food Authority or Agency Name:"},null,null,null,{"$f":"'Recap Sheet'!A3","v":"Bidder's Name:"}]
[42001,{"$f":"'Recap Sheet'!B2","v":"Marion County School District"},"Return to Recap Sheet",null,null,{"$f":"'Recap Sheet'!B3","v":0}]
[44000,"Description","Approved",null,null,null,"Firm Fixed Fee",null,null,null,null,{"$f":"'Recap Sheet'!B4","v":0}]
["SCPA",null,"Brand Name","Manufacturers","Distributor","Vendor","Svgs","Est.","Bid ","Bid","Unit","Unit Price","Total ","Cost per"]
[" Code",null,"or Manufacturer","Code","Code","Pack","per unit","Bid Qty","Qty","Unit","Price","plus Fee","Price","Unit"]
[null,"Category: Bread Products, Frozen"]
[]
[42001,"Bread,Texas Toast WGR","Bake Crafters",1605,null,"120/1.3 oz",120,100,{"$f":"ROUND(H8*G8/G8,2)","v":100},"Cs",null,{"$f":"IF(OR(ISBLANK(K8),K8=0,H8=0,ISBLANK(H8)),,ROUND(K8+$L$3,2))","v":0},{"$f":"ROUND(I8*L8,2)","v":0},{"$f":"ROUND(L8/G8,4)","v":0}]
[null,"Frozen. 50-150 calories with no more than 1 g saturated fat and","Flowers",99887160,null,"125/1.2 oz",125,null,{"$f":"ROUND(H8*G8/G9,2)","v":96},"Cs",null,{"$f":"IF(OR(ISBLANK(K9),K9=0,H8=0,ISBLANK(H8)),,ROUND(K9+$L$3,2))","v":0},{"$f":"ROUND(I9*L9,2)","v":0},0]
[null,"200 mg sodium per serving. One portion provides min. 1 OEG.","Coles",847,null,"144/1 oz",144,null,{"$f":"ROUND(H8*G8/G10,2)","v":83.33},"Cs",23,{"$f":"IF(OR(ISBLANK(K10),K10=0,H8=0,ISBLANK(H8)),,ROUND(K10+$L$3,2))","v":23},1916.59,0.15970000000000001]
[null,"Possible Allergens: Wheat, Soy, Milk"]
[42002,"Bread, Loaf, Pullman Sliced WG ","Bake Crafters",3357,null,"12/28 oz",312,300,{"$f":"ROUND(H12*G12/G12,2)","v":300},"Cs",null,{"$f":"IF(OR(ISBLANK(K12),K12=0,H12=0,ISBLANK(H12)),,ROUND(K12+$L$3,2))","v":0},{"$f":"ROUND(I12*L12,2)","v":0},{"$f":"ROUND(L12/G12,4)","v":0}]
[null,"Frozen. 50 -100 calories with no more than 1 g saturated fat","Flowers",99817370,null,"10/24 oz",240,null,{"$f":"ROUND(H12*G12/G13,2)","v":390},"Cs",null,{"$f":"IF(OR(ISBLANK(K13),K13=0,H12=0,ISBLANK(H12)),,ROUND(K13+$L$3,2))","v":0},0,0]
[null,"and  350 mg sodium. One portion provides min. 2 OEG.","Sky Blue","WGSB826",null,"8/26 sl.",208,null,{"$f":"ROUND(H12*G12/G14,2)","v":450},"Cs",null,{"$f":"IF(OR(ISBLANK(K14),K14=0,H12=0,ISBLANK(H12)),,ROUND(K14+$L$3,2))","v":0},0,0]
[null,"Possible Allergens: Wheat, Soy","Super Bakery",7677,null,"8/26 sl",208,null,{"$f":"ROUND(H12*G12/G15,2)","v":450},"Cs",12.61,{"$f":"IF(OR(ISBLANK(K15),K15=0,H12=0,ISBLANK(H12)),,ROUND(K15+$L$3,2))","v":12.61},{"$f":"ROUND(I15*L15,2)","v":5674.5},6.0600000000000001E-2]
[]
[42003,"Bread, Whole Wheat White IW","Bakecrafters",3351,null,"100/1.0z",100,50,{"$f":"ROUND(H17*G17/G17,2)","v":50},"Cs",15.05,{"$f":"IF(OR(ISBLANK(K17),K17=0,H17=0,ISBLANK(H17)),,ROUND(K17+$L$3,2))","v":15.05},752.5,{"$f":"ROUND(L17/G17,4)","v":0.15049999999999999}]
[null,"Frozen,sliced IW whole granin bread slices "]
[null,"Must provide minimum 1 OEG"," ",null,null,null,null,null," "," ",null," ","  "," "]
[42004,"Bun, Hamburger WGR 4\"","Bakecrafters",472,null,"8/12 pk",96,1500,{"$f":"ROUND(H20*G20/G20,2)","v":1500},"Cs",null,{"$f":"IF(OR(ISBLANK(K20),K20=0,H20=0,ISBLANK(H20)),,ROUND(K20+$L$3,2))","v":0},{"$f":"ROUND(I20*L20,2)","v":0},{"$f":"ROUND(L20/G20,4)","v":0}]
[null,"Frozen. 100-200 calories with no more than 1 g saturated fat","Super Bakery",7671,null,"128/2 oz",128,null,{"$f":"ROUND(H20*G20/G21,2)","v":1125},"Cs",19.53,{"$f":"IF(OR(ISBLANK(K21),K21=0,H20=0,ISBLANK(H20)),,ROUND(K21+$L$3,2))","v":19.53},{"$f":"ROUND(I21*L21,2)","v":21971.25},0.15260000000000001]
[null,"and 300 mg sodium per serving. One portion provides min. ","Flowers",99832050,null,"10/12 ct",120,null,{"$f":"ROUND(H20*G20/G22,2)","v":1200},"Cs",null,{"$f":"IF(OR(ISBLANK(K22),K22=0,H20=0,ISBLANK(H20)),,ROUND(K22+$L$3,2))","v":0},0,0]
[null,"2 OEG for CN programs.","Sky Blue","WGHAM168",null,"16/8 ct",128,null,{"$f":"ROUND(H20*G20/G23,2)","v":1125},"Cs",null,{"$f":"IF(OR(ISBLANK(K23),K23=0,H20=0,ISBLANK(H20)),,ROUND(K23+$L$3,2))","v":0},0,0]
[null,"Possible Allergens: Wheat, Soy","Alpha Baking",51667,null,"10/12 ct",120,null,{"$f":"ROUND(H20*G20/G24,2)","v":1200},"Cs",null,{"$f":"IF(OR(ISBLANK(K24),K24=0,H20=0,ISBLANK(H20)),,ROUND(K24+$L$3,2))","v":0},{"$f":"ROUND(I24*L24,2)","v":0},0]
[42005,"Bun, Hot Dog WGR 6\"","Bakecrafters",471,null,"12/12 ea",144,1000,{"$f":"ROUND(H25*G25/G25,2)","v":1000},"Cs",null,{"$f":"IF(OR(ISBLANK(K25),K25=0,H24=0,ISBLANK(H24)),,ROUND(K25+$L$3,2))","v":0},{"$f":"ROUND(I25*L25,2)","v":0},{"$f":"ROUND(L25/G25,4)","v":0}]
[null,"Frozen. 100-200 calories with no more than 1 g saturated fat","Flowers",99828820,null,"12/12 pk",144,null,{"$f":"ROUND(H25*G25/G26,2)","v":1000},"Cs",21.37,{"$f":"IF(OR(ISBLANK(K26),K26=0,H25=0,ISBLANK(H25)),,ROUND(K26+$L$3,2))","v":21.37},{"$f":"ROUND(I26*L26,2)","v":21370},{"$f":"ROUND(L26/G26,4)","v":0.1484}]
[null,"and 350 mg sodium. One portion provides min. 2 OEG.","Sky Blue","WGHOT188",null,"18/8 ct",144,null,{"$f":"ROUND(H25*G25/G27,2)","v":1000},"Cs",null,{"$f":"IF(OR(ISBLANK(K27),K27=0,H25=0,ISBLANK(H25)),,ROUND(K27+$L$3,2))","v":0},0,{"$f":"ROUND(L27/G27,4)","v":0}]
[null,"Possible Allergens: Wheat, Soy","Super Bakery",7675,null,"144/2 oz",144,null,{"$f":"ROUND(H25*G25/G28,2)","v":1000},"Cs",null,{"$f":"IF(OR(ISBLANK(K28),K28=0,H25=0,ISBLANK(H25)),,ROUND(K28+$L$3,2))","v":0},0,{"$f":"ROUND(L28/G28,4)","v":0}]
[null,"Frozen","Alpha Baking",53680,null,"12/12 pk",144,null,{"$f":"ROUND(H25*G25/G29,2)","v":1000},"Cs",null,{"$f":"IF(OR(ISBLANK(K29),K29=0,H25=0,ISBLANK(H25)),,ROUND(K29+$L$3,2))","v":0},0,{"$f":"ROUND(L29/G29,4)","v":0}]
[null,"Must  provide minimum 2 OEG"," ",null,null,null,null,null," "," ",null," "," "," "]
[42006,"Bun, Slider WGR  2.5\"","Bakecrafters",4103,null,"192/1.0z",190,100,{"$f":"ROUND(H31*G31/G31,2)","v":100},"Cs",31.94,{"$f":"IF(OR(ISBLANK(K31),K31=0,H31=0,ISBLANK(H31)),,ROUND(K31+$L$3,2))","v":31.94},{"$f":"ROUND(I31*L31,2)","v":3194},{"$f":"ROUND(L31/G31,4)","v":0.1681}]
[null,"Slider bun, WG, Hawaiian, fully sliced. No more than 2 grams fat"]
[null,"Contain less than 190 mg of sodium. Frozen Must provide minimum 1.0 OEG"]
[42007,"Roll, Sub Roll WGR","Bakecrafters",4062,null,"96/2.0z",96,100,{"$f":"ROUND(H34*G34/G34,2)","v":100},"Cs",null,{"$f":"IF(OR(ISBLANK(K34),K34=0,H34=0,ISBLANK(H34)),,ROUND(K34+$L$3,2))","v":0},{"$f":"ROUND(L34*I34,2)","v":0},{"$f":"ROUND(L34/G34,4)","v":0}]
[null,"Thaw and serve, One roll provides 2 oz. OEG","Flowers B45 ",99809400,null,"10/12 pk",120,null,{"$f":"ROUND(H34*G34/G35,2)","v":80},"Cs",23.6,{"$f":"IF(OR(ISBLANK(K35),K35=0,H34=0,ISBLANK(H34)),,ROUND(K35+$L$3,2))","v":23.6},{"$f":"ROUND(I35*L35,2)","v":1888},{"$f":"ROUND(L35/G35,4)","v":0.19670000000000001}]
[null,"No more than 2 g fat and 280 mg sodium"," "]
[42008,"Flabread, WGR","Father's Table  Ultra Loco",1191,null,"144/1.96z",144,50,{"$f":"ROUND(H37*G37/G37,2)","v":50},"Cs",24,{"$f":"IF(OR(ISBLANK(K37),K37=0,H37=0,ISBLANK(H37)),,ROUND(K37+$L$3,2))","v":24},{"$f":"ROUND(L37*I37,2)","v":1200},{"$f":"ROUND(L37/G37,4)","v":0.16669999999999999}]
[null,"Frozen, Ready to Thaw, 170-200 cal and ","Rich's ",14010,null,"192/2.02z",192,null,{"$f":"ROUND(H37*G37/G38,2)","v":37.5},"Cs",null,{"$f":"IF(OR(ISBLANK(K38),K38=0,H37=0,ISBLANK(H37)),,ROUND(K38+$L$3,2))","v":0},{"$f":"ROUND(L38*I38,2)","v":0},{"$f":"ROUND(L38/G38,4)","v":0}]
[null,"no more than 2g fat & 290mg sodium 2.0z OEG"," ",null,null,null," ",null,null,null,null,null,null," "]
[42009,"Roll, Ciabatta, WGR","Pillsbury ",137738000,null,"96/1.8 oz",96,null,{"$f":"ROUND(H40*G40/G40,2)","v":0},"Cs",21.2,{"$f":"IF(OR(ISBLANK(K40),K40=0,H40=0,ISBLANK(H40)),,ROUND(K40+$L$3,2))","v":0},{"$f":"ROUND(L40*I40,2)","v":0},{"$f":"ROUND(L40/G40,4)","v":0}]
[null,"Frozen. 100-200 calories with no more than 1 g saturated fat"]
[null,"and 200 mg sodium. One portion provides min.2 OEG."]
[null,"One roll provides 2 OEG"," "]
[42010,"Bun, Hamburger White Wheat Brioche","Alpha Baking Co., Inc ",51960,null,"10/12 ct",10,null,{"$f":"ROUND(H44*G44/G44,2)","v":0},"Cs",23.18,{"$f":"IF(OR(ISBLANK(K44),K44=0,H44=0,ISBLANK(H44)),,ROUND(K44+$L$3,2))","v":0},{"$f":"ROUND(L44*I44,2)","v":0},{"$f":"ROUND(L44/G44,4)","v":0}]
[null,"Thaw and serve, No more than 200 calories &"]
[null,"300 mg of sodium and 1 g sat fat "]
[null,"Possible Allergens:  Wheat or Wheat Der."," "]
[42011,"Bread Sticks, Frozen Dough.  WGR  ","Rich's ",12194,null,"250/1.0z ",250,null,{"$f":"ROUND(H48*G48/G48,2)","v":0},"Cs",21.25,{"$f":"IF(OR(ISBLANK(K48),K48=0,H48=0,ISBLANK(H48)),,ROUND(K48+$L$3,2))","v":0},{"$f":"ROUND(I48*L48,2)","v":0},{"$f":"ROUND(L48/G48,4)","v":0}]
[null,"Pre-cut frozen bread dough."]
[null,"Bake and Serve  1breadstick = 1.0 OEG"]
[42012,"Breadsticks, Frozen, Fully Baked,  WGR","Adv-Pierre ",10000034908,null,"144/1g.5z",144,100,{"$f":"ROUND(H51*G51/G51,2)","v":100},"CS",17.2,{"$f":"IF(OR(ISBLANK(K51),K51=0,H51=0,ISBLANK(H51)),,ROUND(K51+$L$3,2))","v":17.2},{"$f":"ROUND(I51*L51,2)","v":1720},{"$f":"ROUND(L51/G51,4)","v":0.11940000000000001}]
[null,"1 breadstick provides  1.5 oz Equivalent Grain, "]
[null,"Thaw and Serve"]
[42013,"Breadsticks, Frozen, Fully Baked Garlic Cheese","Cole's ","71052-00832",null,"54/2.0z",54,25,{"$f":"ROUND(H54*G54/G54,2)","v":25},"CS",18,{"$f":"IF(OR(ISBLANK(K54),K54=0,H54=0,ISBLANK(H54)),,ROUND(K54+$L$3,2))","v":18},{"$f":"ROUND(I54*L54,2)","v":450},{"$f":"ROUND(L54/G54,4)","v":0.33329999999999999}]
[null,"Frozen, 100-200 calories and not more than "]
[null,"2 g sat fat and 200 mg of sodium per svg."]
[null," One breadstick provides 2 OEG Smart Snack Compl"]
[null,"Possible Allergens:  Wheat, Soy and Milk"]
[42014,"Roll, Yeast, Pre-Formed Dough WG, 2 OEG","CH Guenther/Pioneer",210500,null,"256/2.25 oz",256,100,{"$f":"ROUND(H59*G59/G59,2)","v":100},"Cs",null,{"$f":"IF(OR(ISBLANK(K59),K59=0,H59=0,ISBLANK(H59)),,ROUND(K59+$L$3,2))","v":0},{"$f":"ROUND(I59*L59,2)","v":0},{"$f":"ROUND(L59/G59,4)","v":0},null,null,null,null," "," "," ",null," "," "," "]
[null,"Frozen. Thaw, Proof, and Serve. 125-250 calories with no ","Rich's ",13918,null,"160/2.5 oz",160,null,{"$f":"ROUND(H59*G59/G60,2)","v":160},"Cs",null,{"$f":"IF(OR(ISBLANK(K60),K60=0,H59=0,ISBLANK(H59)),,ROUND(K60+$L$3,2))","v":0},{"$f":"ROUND(I60*L60,2)","v":0},{"$f":"ROUND(L60/G60,4)","v":0}]
[null,"more than 2 g saturated fat and 270 mg sodium  per serving.","Readi Bake/JJ Snacks","01509",null,"216/2.2 oz",216,null,{"$f":"ROUND(H59*G59/G61,2)","v":118.52},"Cs",25,{"$f":"IF(OR(ISBLANK(K61),K61=0,H59=0,ISBLANK(H59)),,ROUND(K61+$L$3,2))","v":25},2963,0.1157]
[null,"One portion provides  min. 2 OEG for CN programs.","Bake Crafters",9614,null,"216/2.2 oz",216,null,{"$f":"ROUND(H59*G59/G62,2)","v":118.52},"Cs",null,{"$f":"IF(OR(ISBLANK(K62),K62=0,H59=0,ISBLANK(H59)),,ROUND(K62+$L$3,2))","v":0},0,0,null,null,null,null," "," "," ",null," "," "," "]
[null,"Possible Allergens: Wheat, Milk. Egg. Soy",null,null,null,null,null,null,null,null,null,null,null,null,null,null,null,null," "," "," ",null," "," "," "]
[42015,"Biscuits, Baked Easy Split Baked","Pillsbury",106236000,null,"120/2.25z",120,null,{"$f":"ROUND(H64*G64/G64,2)","v":0},"Cs",20.149999999999999,{"$f":"IF(OR(ISBLANK(K64),K64=0,H64=0,ISBLANK(H64)),,ROUND(K64+$L$3,2))","v":0},{"$f":"ROUND(I64*L64,2)","v":0},{"$f":"ROUND(L64/G64,4)","v":0}]
[null,"Frozen. Thaw, heat and serve. Packaged in indivually wrapped","Pillsubry",106237000,null,"75/2.85z",75,null,{"$f":"ROUND(H65*G65/G65,2)","v":0},"Cs",14.5,{"$f":"IF(OR(ISBLANK(K65),K65=0,H64=0,ISBLANK(H64)),,ROUND(K65+$L$3,2))","v":0},{"$f":"ROUND(I65*L65,2)","v":0},{"$f":"ROUND(L65/G65,4)","v":0}]
[null,"bakable trays."]
[42016,"Biscuits, Pre-formed Frz. Dough,  ","Richs     ",9315,null,"216/2.1z",216,null,{"$f":"ROUND($H$67*$G$67/G67,2)","v":0},"Cs",null,{"$f":"IF(OR(ISBLANK(K67),K67=0,H67=0,ISBLANK(H67)),,ROUND(K67+$L$3,2))","v":0},{"$f":"ROUND(I67*L67,2)","v":0},{"$f":"ROUND(L67/G67,4)","v":0},null,null,null,null," "," ",null,null," "," "," "]
[null,"Frozen, WGR, 0 Trans fat. Provides not more than 2oz  equivalent grains  ","Mary B's ",87000,null,"220/2.2z",220,null,{"$f":"ROUND($H$67*$G$67/G68,2)","v":0},"Cs",null,{"$f":"IF(OR(ISBLANK(K68),K68=0,H67=0,ISBLANK(H67)),,ROUND(K68+$L$3,2))","v":0},{"$f":"ROUND(I68*L68,2)","v":0},{"$f":"ROUND(L68/G68,4)","v":0},null,null,null,null," "," ",null,null," "," "," "]
[null,"based on 16 g =1 oz, at a minimum.  ","Pillsbury ",132267,null,"216/2.51z",216,null,{"$f":"ROUND($H$67*$G$67/G69,2)","v":0},"Cs",26.59,{"$f":"IF(OR(ISBLANK(K69),K69=0,H67=0,ISBLANK(H67)),,ROUND(K69+$L$3,2))","v":0},0,0,null,null,null,null," "," ",null,null," "," "," "]
[42017,"Biscuits,Frz.  Dough, w/Easy Split Enriched Flour","Rich's ",6063,null,"240/2.2z",240,null,{"$f":"ROUND($H$70*$G$70/G70,2)","v":0},"Cs",null,{"$f":"IF(OR(ISBLANK(K70),K70=0,H70=0,ISBLANK(H70)),,ROUND(K70+$L$3,2))","v":0},{"$f":"ROUND(I70*L70,2)","v":0},{"$f":"ROUND(L70/G70,4)","v":0}]
[null,"Frozen, Made with buttermillk, 150-250 calories with not more than 6 g ","Pillsbury ",31524,null,"216/2.2z",216,null,{"$f":"ROUND($H$70*$G$70/G71,2)","v":0},"Cs",22.5,{"$f":"IF(OR(ISBLANK(K71),K71=0,H70=0,ISBLANK(H70)),,ROUND(K71+$L$3,2))","v":0},{"$f":"ROUND(I71*L71,2)","v":0},{"$f":"ROUND(L71/G71,4)","v":0}]
[null,"sat fat and 660 mg of sodium per serving.  One portion to provide 2.0"]
[null,"OEG for CN Programs"]
[null,"Possible Allergens:  Wheat and Milk"]
[42018," Biscuit, WGR, Easy Split Frozen Dough"," Pillsbury  ",132268,null,"216/2.51z",216,50,{"$f":"ROUND($H$75*$G$75/G75,2)","v":50},"Cs",26.89,{"$f":"IF(OR(ISBLANK(K75),K75=0,H75=0,ISBLANK(H75)),,ROUND(K75+$L$3,2))","v":26.89},{"$f":"ROUND(I75*L75,2)","v":1344.5},{"$f":"ROUND(L75/G75,4)","v":0.1245},null,null,null,null," "," ",null,null," "," "," "]
[null,"Frozen, Ready to bake, 200-300 calories with not more than 5 g sat fat &","CACFP Eligible",null,null,null,null,null,null,null,null,null,null,null,null,null,null,null," "," ",null,null," "," "," "]
[null,"350 mg sodium  per serving, One serving must provide 2 OEG",null,null,null,null,null,null,null,null,null,null,null,null,null,null,null,null," "," ",null,null," "," "," "]
[42019,"Biscuits,Mini Pre-formed Dough,  Frozen                          ","Pillsbury ",132269,null,"210/1.25z",210,null,{"$f":"ROUND($H$78*$G$78/G78,2)","v":0},"Cs",20.7,{"$f":"IF(OR(ISBLANK(K78),K78=0,H78=0,ISBLANK(H78)),,ROUND(K78+$L$3,2))","v":0},{"$f":"ROUND(I78*L78,2)","v":0},{"$f":"ROUND(L78/G78,4)","v":0},null,null,null,null," "," ",null,null," "," "," "]
[null,"One serving provides 1.0 z equivalent grain.   0 Trans fat ",null,null,null,null,null,null,null,null,null,null,null,null,null,null,null,null," "," ",null,null," "," "," "]
[42020,"Roll, Baked, WG, 1 OEG","Sister Schuberts/Marzetti","48162 62205",null,"120/1.5z",120,150,{"$f":"ROUND($H$80*$G$80/G80,2)","v":150},"Cs",16.38,{"$f":"IF(OR(ISBLANK(K80),K80=0,H80=0,ISBLANK(H80)),,ROUND(K80+$L$3,2))","v":16.38},{"$f":"ROUND(I80*L80,2)","v":2457},{"$f":"ROUND(L80/G80,4)","v":0.13650000000000001}]
[null,"Frozen. Heat and serve. 50-180 calories with no more than 2 g"]
[null,"saturated fat and 400 mg sodium per serving. One portion "]
[null,"provides min. 1 OEG for CN programs.",null,null,null,null,null,null,null,null,null,null,null,null,null,null,null,null," "," ",null,null," "," "," "]
[null,"Possible Allergens: Wheat, Soy, Egg, Milk"]
[42021,"Croissant, Mini, WG, 1 OEG","Hadley Farms",134,null,"210/1.25 oz",210,50,{"$f":"ROUND($H$85*$G$85/G85,2)","v":50},"Cs",38.1,{"$f":"IF(OR(ISBLANK(K85),K85=0,H85=0,ISBLANK(H85)),,ROUND(K85+$L$3,2))","v":38.1},{"$f":"ROUND(I85*L85,2)","v":1905},{"$f":"ROUND(L85/G85,4)","v":0.18140000000000001}]
[null,"Frozen. Thaw and serve. 100-200 calories with no more than "]
[null,"3 g saturated fat and 200 mg sodium per serving. One portion"]
[null,"provides min.1 OEG for CN programs"]
[null,"Possible Allergens: Wheat, Milk, Soy, Eggs"]
[42022,"Taco Shells,  Hard, Large Yellow, WGR","Mission (17.5 gm each) 2=1.25 GB",10115,null,"200/17.5",100,50,{"$f":"ROUND(H90*G90/G90,2)","v":50},"Cs",20.350000000000001,{"$f":"IF(OR(ISBLANK(K90),K90=0,H90=0,ISBLANK(H90)),,ROUND(K90+$L$3,2))","v":20.350000000000001},{"$f":"ROUND(I90*L90,2)","v":1017.5},{"$f":"ROUND(L90/G90,4)","v":0.20349999999999999}]
[null,"6 to 7 inches, 2 shells = 1.25  OEG"]
[null,"Domestic in origin"]
[]
[42023,"Tortilla Wrap, 10\", Heat Pressed, WG","Mission ",10425,null,"144/2.5 oz.",144,null,{"$f":"ROUND(H94*G94/G94,2)","v":0},"Cs",null,{"$f":"IF(OR(ISBLANK(K94),K94=0,H94=0,ISBLANK(H94)),,ROUND(K94+$L$3,2))","v":0},{"$f":"ROUND(I94*L94,2)","v":0},{"$f":"ROUND(L94/G94,4)","v":0}]
[null,"Heat and serve. 150-250 calories with no more than ","Don Pancho/Resers",79341.02205,null,"144/2.2 oz.",144,null,{"$f":"ROUND(H94*G94/G95,2)","v":0},"Cs",null,{"$f":"IF(OR(ISBLANK(K95),K95=0,H94=0,ISBLANK(H94)),,ROUND(K95+$L$3,2))","v":0},{"$f":"ROUND(I95*L95,2)","v":0},{"$f":"ROUND(L95/G95,4)","v":0}]
[null,"3 g saturated fat and 550 mg sodium per serving. One portion ","Azteca","06009",null,"192/2 oz.",192,null,{"$f":"ROUND(H94*G94/G96,2)","v":0},"Cs",24.3,{"$f":"IF(OR(ISBLANK(K96),K96=0,H94=0,ISBLANK(H94)),,ROUND(K96+$L$3,2))","v":0},0,0]
[null,"provides min. 2 OEG for CN programs. +/- 1/2\" size variance allowed."]
[null,"Possible Allergens: Wheat"]
[42024,"Tortilla Wrap, 8\", Heat Pressed, WG","Mission",47087,null,"144/1.8 oz.",144,50,{"$f":"ROUND(H99*G99/G99,2)","v":50},"Cs",null,{"$f":"IF(OR(ISBLANK(K99),K99=0,H99=0,ISBLANK(H99)),,ROUND(K99+$L$3,2))","v":0},{"$f":"ROUND(I99*L99,2)","v":0},{"$f":"ROUND(L99/G99,4)","v":0}]
[null,"Heat and serve. 100-200 calories with no more than","Don Pancho",79341.022039999996,null,"144/1.6 oz.",144,null,{"$f":"ROUND(H99*G99/G100,2)","v":50},"Cs",null,{"$f":"IF(OR(ISBLANK(K100),K100=0,H99=0,ISBLANK(H99)),,ROUND(K100+$L$3,2))","v":0},{"$f":"ROUND(I100*L100,2)","v":0},{"$f":"ROUND(L100/G100,4)","v":0}]
[null,"2 g saturated fat and 350 mg sodium per serving. One portion ","Azteca","06209",null,"216/1.3 oz.",216,null,{"$f":"ROUND(H99*G99/G101,2)","v":33.33},"Cs",20.62,{"$f":"IF(OR(ISBLANK(K101),K101=0,H99=0,ISBLANK(H99)),,ROUND(K101+$L$3,2))","v":20.62},687.26,9.5500000000000002E-2]
[null,"provides min. 1 OEG for CN programs. +/- 1/2\" size variance allowed."]
[null,"Possible Allergens: Wheat"]
[]
[42025,"Tortilla Wrap, 6\", Heat Pressed  WG","Mission  ",47086,null,"24/12 ct",288,null,{"$f":"ROUND(H105*G105/G105,2)","v":0},"Cs",null,{"$f":"IF(OR(ISBLANK(K105),K105=0,H105=0,ISBLANK(H105)),,ROUND(K105+$L$3,2))","v":0},{"$f":"ROUND(I105*L105,2)","v":0},{"$f":"ROUND(L105/G105,4)","v":0}]
[null,"Heat and serve. 50-100 calories with no more than","Don Pancho",79341.022029999993,null,"12/24 ct",288,null,{"$f":"ROUND(H105*G105/G106,2)","v":0},"Cs",null,{"$f":"IF(OR(ISBLANK(K106),K106=0,H105=0,ISBLANK(H105)),,ROUND(K106+$L$3,2))","v":0},{"$f":"ROUND(I106*L106,2)","v":0},{"$f":"ROUND(L106/G106,4)","v":0}]
[null,"2 g saturated fat and 200 mg sodium per serving. One portion ","Azteca","06109",null,"360/1 oz",360,null,{"$f":"ROUND(H105*G105/G107,2)","v":0},"Cs",22,{"$f":"IF(OR(ISBLANK(K107),K107=0,H105=0,ISBLANK(H105)),,ROUND(K107+$L$3,2))","v":0},0,0]
[null,"provides min. 1 OEG for CN programs. +/- 1/2\" size variance allowed."]
[null,"Possible Allergens: Wheat"]
[42026,"Tortilla Wrap, Flavored, Heat Pressed ","Mission",null,null,"6/12 ct",72,null,{"$f":"ROUND(H110*G110/G110,2)","v":0},"Cs",19.46,{"$f":"IF(OR(ISBLANK(K110),K110=0,H110=0,ISBLANK(H110)),,ROUND(K110+$L$3,2))","v":0},{"$f":"ROUND(I110*L110,2)","v":0},{"$f":"ROUND(L110/G110,4)","v":0}]
[null,"Heat and serve. 250-350 calories","    Tomato Basil",10250]
[null,null,"    Garlic Herb",10252]
[null,null,"Don Pancho Products Discontinued",null,null,"6/10 ct",60,null,{"$f":"ROUND(H110*G110/G113,2)","v":0},"Cs",null,{"$f":"IF(OR(ISBLANK(K113),K113=0,H110=0,ISBLANK(H110)),,ROUND(K113+Groceries!$L$3,2))","v":0},{"$f":"ROUND(I113*L113,2)","v":0},{"$f":"ROUND(L113/G113,4)","v":0}]
[null,null,"    Tomato Basil",79341.223360000004]
[null,null,"    Garlic Herb",79341.22335]
[42027,"Breakast Rounds, RTE,  Frz, IW","Nature Valley/General Mills",null,null,"72/2.32z",72,null,{"$f":"ROUND(H116*G116/G116,2)","v":0},"Cs",28.6,{"$f":"IF(OR(ISBLANK(K116),K116=0,H116=0,ISBLANK(H116)),,ROUND(K116+$L$3,2))","v":0},{"$f":"ROUND(I116*L116,2)","v":0},{"$f":"ROUND(L116/G116,4)","v":0}]
[null,"Frozen fully cooked IW rounds. Provides 2 OEG whole grains","Oatmeal Round Apple Cinnamon"," 17365000"]
[null,"Thaw and serve or heat and serve. Provides 32 g","Oatmeal Round Banana Chocolate Chip",17364000]
[null,null,null,null,null,null,null,null,null,null,null,null,null,null,null,null,null,null," "," "," ",null," "," "," "]
[]
[null,null,null,null,null,null,null,null,null,null,"Lot A Bread",null,{"$f":"SUMIF(M8:M120,\">0\")","v":70511.099999999991}]

{"sheet":"Frz Juice","index":20,"n_rows":77,"n_cols":14,"rows_kept":77,"cut":false,"hidden":false,"merged":[[1,5,1,13],[2,6,2,10],[0,5,0,13]]}
[null,{"$f":"'Recap Sheet'!A2","v":"School Food Authority or Agency Name:"},null,null,null,{"$f":"'Recap Sheet'!A3","v":"Bidder's Name:"}]
[26001,{"$f":"'Recap Sheet'!B2","v":"Marion County School District"},"Return to Recap Sheet",null,null,{"$f":"'Recap Sheet'!B3","v":0}]
[28000,"Description","Approved",null,null,null,"Firm Fixed Fee",null,null,null,null,{"$f":"'Recap Sheet'!B4","v":0}]
["SCPA",null,"Brand Name","Manufacturers","Distributor","Vendor","Svgs","Est.","Bid ","Bid","Unit","Unit Price","Total ","Cost per"]
[" Code",null,"or Manufacturer","Code","Code","Pack","per unit","Bid Qty","Qty","Unit","Price","plus Fee","Price","Unit"]
[null,"Frozen Juice"]
[]
[26001,"Juice, Apple, Cartons, 4 oz","Ardmore Farms ",42298,null,"70/4.0z",70,1200,{"$f":"ROUND($H$8*$G$8/G8,2)","v":1200},"Cs",0,{"$f":"IF(OR(ISBLANK(K8),K8=0,H8=0,ISBLANK(H8)),,ROUND(K8+$L$3,2))","v":0},{"$f":"ROUND(I8*L8,2)","v":0},{"$f":"ROUND(L8/G8,2)","v":0}]
[null,"100% Apple Juice,  Unsweetened.  Deliver frozen only","Sun Cup ",30301,null,"70/4.0z",70,null,{"$f":"ROUND($H$8*$G$8/G9,2)","v":1200},"Cs",0,{"$f":"IF(OR(ISBLANK(K9),K9=0,H8=0,ISBLANK(H8)),,ROUND(K9+$L$3,2))","v":0},0,0]
[null,"1 serving = 1/2 cup fruit","Mr. J. ",2840,null,"70/4.0z",70,null,{"$f":"ROUND($H$8*$G$8/G10,2)","v":1200},"Cs",0,{"$f":"IF(OR(ISBLANK(K10),K10=0,H8=0,ISBLANK(H8)),,ROUND(K10+$L$3,2))","v":0},0,0]
[26002,"Juice, Apple, Cartons, 6 oz"," Ardmore Farms ",42212,null,"70/6.0z",70,500,{"$f":"ROUND(H11*G11/G11,2)","v":500},"Cs",0,0,0,0]
[null,"100% Apple Juice, unsweetened, deliver frozen only"," Sun Cup ",50301,null,"70/6.0z",70,null,{"$f":"ROUND($H$11*$G$11/G12,2)","v":500},"Cs",0,{"$f":"IF(OR(ISBLANK(K12),K12=0,H11=0,ISBLANK(H11)),,ROUND(K12+$L$3,2))","v":0},0,0]
[null,null," Mr. J  ",2850,null,"70/6.0z",70,null,{"$f":"ROUND($H$11*$G$11/G13,2)","v":500},"Cs",0,{"$f":"IF(OR(ISBLANK(K13),K13=0,H11=0,ISBLANK(H11)),,ROUND(K13+$L$3,2))","v":0},0,0]
[26003,"Juice, Apple-Cherry, Carton, 4oz"," Suncup ",3200,null,"70/4.0z",70,500,{"$f":"ROUND(H14*G14/G14,2)","v":500},"Cs",0,0,0,0]
[null,"100% Apple Cherry Juice, Frozen, Meets 1/2 c Fruit","Ardmore Farms ",42292,null,"70/4.0z",70,null,{"$f":"ROUND(H14*G14/G15,2)","v":500},"Cs",0,{"$f":"IF(OR(ISBLANK(K15),K15=0,H14=0,ISBLANK(H14)),,ROUND(K15+$L$3,2))","v":0},0,0]
[null," ","Mr. J ",3042,null,"70/4.0z",70,null,{"$f":"ROUND(H14*G14/G16,2)","v":500},"Cs",0,{"$f":"IF(OR(ISBLANK(K16),K16=0,H14=0,ISBLANK(H14)),,ROUND(K16+$L$3,2))","v":0},0,0]
[26004,"Juice, Fruit Blend, Carton, 4 oz","Ardmore Farms ",42304,null,"70/4.0z",70,1000,{"$f":"ROUND(H17*G17/G17,2)","v":1000},"Cs",0,0,0,0]
[null,"100% Blend Fruit Juice, Frozen, unsweetened","Sun Cup ",30800,null,"70/4.0z ",70,null,{"$f":"ROUND($H$17*$G$17/G18,2)","v":1000},"Cs",0,{"$f":"IF(OR(ISBLANK(K18),K18=0,H17=0,ISBLANK(H17)),,ROUND(K18+$L$3,2))","v":0},0,0]
[null,null,"Mr. J.",2340,null,"70/4.0z",70,null,{"$f":"ROUND($H$17*$G$17/G19,2)","v":1000},"Cs",0,{"$f":"IF(OR(ISBLANK(K19),K19=0,H17=0,ISBLANK(H17)),,ROUND(K19+$L$3,2))","v":0},0,0]
[26005,"Juice, Fruit Blend, Cartons, 6 oz"," Ardmore Farms ",42215,null,"70/6.0z",70,250,{"$f":"ROUND(H20*G20/G20,2)","v":250},"Cs",0,0,0,0]
[null,"100% Blend Fruit Juice, Frozen, unsweetened","Sun Cup ",50800,null,"70/6.0z",70,null,{"$f":"ROUND($H$20*$G$20/G21,2)","v":250},"Cs",0,{"$f":"IF(OR(ISBLANK(K21),K21=0,H20=0,ISBLANK(H20)),,ROUND(K21+$L$3,2))","v":0},0,0]
[null,null,"Mr. J ",2350,null,"70/6.0z",70,null,{"$f":"ROUND($H$20*$G$20/G22,2)","v":250},"Cs",0,{"$f":"IF(OR(ISBLANK(K22),K22=0,H20=0,ISBLANK(H20)),,ROUND(K22+$L$3,2))","v":0},0,0]
[26003,"Juice, Grape, Cartons, 4 oz","Ardmore Farms ",42301,null,"70/4.0z",70,1000,{"$f":"ROUND($H$23*$G$23/G23,2)","v":1000},"Cs",0,0,0,0]
[null,"100% Grape Juice, frozen","Sun Cup ",30501,null,"70/4.0z",70,null,{"$f":"ROUND($H$23*$G$23/G24,2)","v":1000},"Cs",0,{"$f":"IF(OR(ISBLANK(K24),K24=0,H23=0,ISBLANK(H23)),,ROUND(K24+$L$3,2))","v":0},0,0]
[null,null,"Mr. J. ",2640,null,"70/4.0z",70,null,{"$f":"ROUND($H$23*$G$23/G25,2)","v":1000},"Cs",0,{"$f":"IF(OR(ISBLANK(K25),K25=0,H23=0,ISBLANK(H23)),,ROUND(K25+$L$3,2))","v":0},0,0]
[26007,"Juice, Grape, Cartons, 6 oz"," Ardmore Farms ",42213,null,"70/6.0z",70,200,{"$f":"ROUND(H26*G26/G26,2)","v":200},"Cs",0,0,0,0]
[null,"100% Grape Juice, frozen"," Sun Cup ",50501,null,"70/6.0z",70,null,{"$f":"ROUND($H$26*$G$26/G27,2)","v":200},"Cs",0,{"$f":"IF(OR(ISBLANK(K27),K27=0,H26=0,ISBLANK(H26)),,ROUND(K27+$L$3,2))","v":0},0,0]
[null,null,"Mr. J ",2650,null,"70/6.0z",70,null,{"$f":"ROUND($H$26*$G$26/G28,2)","v":200},"Cs",0,{"$f":"IF(OR(ISBLANK(K28),K28=0,H26=0,ISBLANK(H26)),,ROUND(K28+$L$3,2))","v":0},0,0]
[26008,"Juice, Orange, Cartons, 4 oz","Ardmore Farms ",42297,null,"70/4.0z",70,1000,{"$f":"ROUND($H$29*$G$29/G29,2)","v":1000},"Cs",0,0,0,0]
[null,"US Grade A, 100% Orange Juice, unsweetened, frozen","Sun Cup ",30100,null,"70/4.0z",70,null,{"$f":"ROUND($H$29*$G$29/G30,2)","v":1000},"Cs",0,{"$f":"IF(OR(ISBLANK(K30),K30=0,H29=0,ISBLANK(H29)),,ROUND(K30+$L$3,2))","v":0},0,0]
[null,null,"Mr. J. ",2070,null,"70/4.0z",70,null,{"$f":"ROUND($H$29*$G$29/G31,2)","v":1000},"Cs",0,{"$f":"IF(OR(ISBLANK(K31),K31=0,H29=0,ISBLANK(H29)),,ROUND(K31+$L$3,2))","v":0},0,0]
[26009,"Juice, Orange, Cartons, 6 oz"," Ardmore Farms ",42210,null,"70/6.0z",70,500,{"$f":"ROUND(H32*G32/G32,2)","v":500},"Cs",0,0,0,0]
[null,"US Grade A Orange Juice, unsweetened frozen","Sun Cup ",50100,null,"70/6.0z",70,null,{"$f":"ROUND($H$32*$G$32/G33,2)","v":500},"Cs",0,{"$f":"IF(OR(ISBLANK(K33),K33=0,H32=0,ISBLANK(H32)),,ROUND(K33+$L$3,2))","v":0},0,0]
[null,null,"Mr. J. ",2080,null,"70/6.0z",70,null,{"$f":"ROUND($H$32*$G$32/G34,2)","v":500},"Cs",0,{"$f":"IF(OR(ISBLANK(K34),K34=0,H32=0,ISBLANK(H32)),,ROUND(K34+$L$3,2))","v":0},0,0]
[26010,"Juice, Orange-Pineapple, Cartons, 4 oz","Ardmore Farms ",42300,null,"70/4.0z",70,600,{"$f":"ROUND($H$35*$G$35/G35,2)","v":600},"Cs",0,0,0,0]
[null,"Blend of Orange and Pineapple, unsweetened, Frozen","Sun Cup ",31200,null,"70/4.0z",70,null,{"$f":"ROUND($H$35*$G$35/G36,2)","v":600},"Cs",0,{"$f":"IF(OR(ISBLANK(K36),K36=0,H35=0,ISBLANK(H35)),,ROUND(K36+$L$3,2))","v":0},0,0]
[null,null,"Mr. J. ",2440,null,"70/4.0z",70,null,{"$f":"ROUND($H$35*$G$35/G37,2)","v":600},"Cs",0,{"$f":"IF(OR(ISBLANK(K37),K37=0,H35=0,ISBLANK(H35)),,ROUND(K37+$L$3,2))","v":0},0,0]
[26011,"Juice, Apple, Cartons, 4 oz, Calcium Fortified","Ardmore Farms ",42289,null,"70/4.0z ",70,null,{"$f":"ROUND($H$38*$G$38/G38,2)","v":0},"Cs",0,0,0,0]
[null,"100% Apple Juice with Calcium,  Unsweetened.","Sun Cup ",30305,null,"70/4.0z",70,null,{"$f":"ROUND($H$38*$G$38/G39,2)","v":0},"Cs",0,{"$f":"IF(OR(ISBLANK(K39),K39=0,H38=0,ISBLANK(H38)),,ROUND(K39+$L$3,2))","v":0},0,0]
[null,"Deliver frozen only  ","Mr. J ",2842,null,"70/4.0z",70,null,{"$f":"ROUND($H$38*$G$38/G40,2)","v":0},"Cs",0,{"$f":"IF(OR(ISBLANK(K40),K40=0,H38=0,ISBLANK(H38)),,ROUND(K40+$L$3,2))","v":0},{"$f":"ROUND(I40*L40,2)","v":0},{"$f":"ROUND(L40/G40,2)","v":0}]
[26012,"Juice, Fruit Blend, Cartons, 4 oz, Ca Fortified"," Ardmore Farms ",42291,null,"70/4.0z ",70,null,{"$f":"ROUND($H$41*$G$41/G41,2)","v":0},"Cs",0,0,0,0]
[null,"100% Fruit Punch with Calcium,  Deliver  frozen only","Sun Cup ",30805,null,"70/4.0z",70,null,{"$f":"ROUND($H$41*$G$41/G42,2)","v":0},"Cs",0,{"$f":"IF(OR(ISBLANK(K42),K42=0,H41=0,ISBLANK(H41)),,ROUND(K42+$L$3,2))","v":0},0,0]
[null," ","Mr. J ",2342,null,"70/4.0z",70,null,{"$f":"ROUND($H$41*$G$41/G43,2)","v":0},"Cs",0,{"$f":"IF(OR(ISBLANK(K43),K43=0,H41=0,ISBLANK(H41)),,ROUND(K43+$L$3,2))","v":0},0,0]
[26013,"Juice, Grape, Cartons, 4 oz, Calcium Fortified"," Ardmore Farms ",42290,null,"70/4.0z ",70,null,{"$f":"ROUND($H$44*$G$44/G44,2)","v":0},"Cs",0,{"$f":"IF(OR(ISBLANK(K44),K44=0,H44=0,ISBLANK(H44)),,ROUND(K44+$L$3,2))","v":0},0,0]
[null,"100% Grape Juice with Calcium,   Deliver frozen  only","Sun Cup ",30505,null,"70/4.0z",70,null,{"$f":"ROUND($H$44*$G$44/G45,2)","v":0},"Cs",0,{"$f":"IF(OR(ISBLANK(K45),K45=0,H44=0,ISBLANK(H44)),,ROUND(K45+$L$3,2))","v":0},0,0]
[null," ","Mr. J ",2642,null,"70/4.0z",70,null,{"$f":"ROUND($H$44*$G$44/G46,2)","v":0},"Cs",0,{"$f":"IF(OR(ISBLANK(K46),K46=0,H44=0,ISBLANK(H44)),,ROUND(K46+$L$3,2))","v":0},0,0]
[26014,"Juice, Orange, Cartons, Ca Fortified, 4 oz"," Ardmore Farms ",42294,null,"70/4.0z",70,null,{"$f":"ROUND($H$47*$G$47/G47,2)","v":0},"Cs",0,{"$f":"IF(OR(ISBLANK(K47),K47=0,H47=0,ISBLANK(H47)),,ROUND(K47+$L$3,2))","v":0},0,0]
[null,"US Grade A, 100% Orange Juice,  Calcium Fortified, Frozen","Mr. J ",2162,null,"70/4.0z",70,null,{"$f":"ROUND($H$47*$G$47/G48,2)","v":0},"Cs",0,{"$f":"IF(OR(ISBLANK(K48),K48=0,H47=0,ISBLANK(H47)),,ROUND(K48+$L$3,2))","v":0},0,0]
[null,null,"Sun Cup ",30105,null,"70/4.0z",70,null,{"$f":"ROUND($H$47*$G$47/G49,2)","v":0},"Cs",0,{"$f":"IF(OR(ISBLANK(K49),K49=0,H47=0,ISBLANK(H47)),,ROUND(K49+$L$3,2))","v":0},0,0]
[26015,"Juice, Apple,  Cup Pack, 4 oz","Ardmore Farms ",41381,null,"96/4.0z",96,null,{"$f":"ROUND($H$50*$G$50/G50,2)","v":0},"Cs",0,{"$f":"IF(OR(ISBLANK(K50),K50=0,H50=0,ISBLANK(H50)),,ROUND(K50+$L$3,2))","v":0},0,0]
[null,"100% Apple Juice, unsweetened, deliver frozen only","Sun Cup ",90301,null,"72/4.0z",72,null,{"$f":"ROUND($H$50*$G$50/G51,2)","v":0},"Cs",0,{"$f":"IF(OR(ISBLANK(K51),K51=0,H50=0,ISBLANK(H50)),,ROUND(K51+$L$3,2))","v":0},0,0]
[null,null,"Mr. J ",7897,null,"96/4.0z",96,null,{"$f":"ROUND($H$50*$G$50/G52,2)","v":0},"Cs",0,{"$f":"IF(OR(ISBLANK(K52),K52=0,H50=0,ISBLANK(H50)),,ROUND(K52+$L$3,2))","v":0},0,0]
[26016,"Juice, Apple, Cup Pack, 6 oz","Ardmore Farms ",41403,null,"48/6.0z",48,null,{"$f":"ROUND($H$53*$G$53/G53,2)","v":0},"Cs",0,{"$f":"IF(OR(ISBLANK(K53),K53=0,H53=0,ISBLANK(H53)),,ROUND(K53+$L$3,2))","v":0},0,0]
[null,"100% Apple Juice, Frozen, unsweetened","Sun Cup ",40301,null,"48/6.0z",48,null,{"$f":"ROUND($H$53*$G$53/G54,2)","v":0},"Cs",0,{"$f":"IF(OR(ISBLANK(K54),K54=0,H53=0,ISBLANK(H53)),,ROUND(K54+$L$3,2))","v":0},0,0]
[null,null,"Mr. J ",2855,null,"48/6.0z",48,null,{"$f":"ROUND($H$53*$G$53/G55,2)","v":0},"Cs",0,{"$f":"IF(OR(ISBLANK(K55),K55=0,H53=0,ISBLANK(H53)),,ROUND(K55+$L$3,2))","v":0},0,0]
[26017,"Juice, Fruit Blend, Cup Pack, 4 oz","Ardmore Farms ",41391,null,"96/4.0z",96,null,{"$f":"ROUND($H$56*$G$56/G56,2)","v":0},"Cs",0,{"$f":"IF(OR(ISBLANK(K56),K56=0,H56=0,ISBLANK(H56)),,ROUND(K56+$L$3,2))","v":0},0,0]
[null,"100% Blend Fruit Juice, Frozen, unsweetened","Sun Cup ",90800,null,"72/4.0z",72,null,{"$f":"ROUND($H$56*$G$56/G57,2)","v":0},"Cs",0,{"$f":"IF(OR(ISBLANK(K57),K57=0,H56=0,ISBLANK(H56)),,ROUND(K57+$L$3,2))","v":0},0,0]
[null,null,"Mr. J. ",7398,null,"96/4.0z",96,null,{"$f":"ROUND($H$56*$G$56/G58,2)","v":0},"Cs",0,{"$f":"IF(OR(ISBLANK(K58),K58=0,H56=0,ISBLANK(H56)),,ROUND(K58+$L$3,2))","v":0},0,0]
[26018,"Juice, Fruit Blend, Cup Pack, 6 oz"," Ardmore Farms ",41413,null,"48/6.0z",48,null,{"$f":"ROUND($H$59*$G$59/G59,2)","v":0},"Cs",0,{"$f":"IF(OR(ISBLANK(K59),K59=0,H59=0,ISBLANK(H59)),,ROUND(K59+$L$3,2))","v":0},0,0]
[null,"100% Blend fruit juices, Frozen, unsweetened"," Sun Cup ",40800,null,"48/6.0z",48,null,{"$f":"ROUND($H$59*$G$59/G60,2)","v":0},"Cs",0,{"$f":"IF(OR(ISBLANK(K60),K60=0,H59=0,ISBLANK(H59)),,ROUND(K60+$L$3,2))","v":0},0,0]
[null,null," Mr. J  ",2355,null,"48/6.0z",48,null,{"$f":"ROUND($H$59*$G$59/G61,2)","v":0},"Cs",0,{"$f":"IF(OR(ISBLANK(K61),K61=0,H59=0,ISBLANK(H59)),,ROUND(K61+$L$3,2))","v":0},0,0]
[26019,"Juice, Grape, Cup Pack, 4 oz","Ardmore Farms ",41382,null,"96/4.0z",96,null,{"$f":"ROUND($H$62*$G$62/G62,2)","v":0},"Cs",0,{"$f":"IF(OR(ISBLANK(K62),K62=0,H62=0,ISBLANK(H62)),,ROUND(K62+$L$3,2))","v":0},0,0]
[null,"100% Grape Juice, frozen","Sun Cup ",90501,null,"72/4.0z",72,null,{"$f":"ROUND($H$62*$G$62/G63,2)","v":0},"Cs",0,{"$f":"IF(OR(ISBLANK(K63),K63=0,H62=0,ISBLANK(H62)),,ROUND(K63+$L$3,2))","v":0},0,0]
[null,null,"Mr. J. ",7698,null,"96/4.0z",96,null,{"$f":"ROUND($H$62*$G$62/G64,2)","v":0},"Cs",0,{"$f":"IF(OR(ISBLANK(K64),K64=0,H62=0,ISBLANK(H62)),,ROUND(K64+$L$3,2))","v":0},0,0]
[26020,"Juice, Grape, Cup Pack, 6 oz","Ardmore Farms ",41406,null,"48/6.0z",48,null,{"$f":"ROUND($H$65*$G$65/G65,2)","v":0},"Cs",0,{"$f":"IF(OR(ISBLANK(K65),K65=0,H65=0,ISBLANK(H65)),,ROUND(K65+$L$3,2))","v":0},0,0]
[null,"100% Grape Juice, frozen, unsweetened","Sun Cup ",40501,null,"48/6.0z",48,null,{"$f":"ROUND($H$65*$G$65/G66,2)","v":0},"Cs",0,{"$f":"IF(OR(ISBLANK(K66),K66=0,H65=0,ISBLANK(H65)),,ROUND(K66+$L$3,2))","v":0},0,0]
[null,null,"Mr. J ",2655,null,"48/6.0z",48,null,{"$f":"ROUND($H$65*$G$65/G67,2)","v":0},"Cs",0,{"$f":"IF(OR(ISBLANK(K67),K67=0,H65=0,ISBLANK(H65)),,ROUND(K67+$L$3,2))","v":0},0,0]
[26021,"Juice, Orange, Cup Pack, 4 oz","Ardmore Farms ",41380,null,"96/4.0z",96,null,{"$f":"ROUND($H$68*$G$68/G68,2)","v":0},"Cs",0,{"$f":"IF(OR(ISBLANK(K68),K68=0,H68=0,ISBLANK(H68)),,ROUND(K68+$L$3,2))","v":0},0,0]
[null,"US Grade A 100% Orange Juice, unsweetened, Frozen","Sun Cup ",90100,null,"72/4.0z",72,null,{"$f":"ROUND($H$68*$G$68/G69,2)","v":0},"Cs",0,{"$f":"IF(OR(ISBLANK(K69),K69=0,H68=0,ISBLANK(H68)),,ROUND(K69+$L$3,2))","v":0},0,0]
[null,null,"Mr. J. ",7098,null,"96/4.0z",96,null,{"$f":"ROUND($H$68*$G$68/G70,2)","v":0},"Cs",0,{"$f":"IF(OR(ISBLANK(K70),K70=0,H68=0,ISBLANK(H68)),,ROUND(K70+$L$3,2))","v":0},0,0]
[26022,"Juice, Orange, Cup Pack, 6 oz","Ardmore Farms ",41400,null,"48/6.0z",48,null,{"$f":"ROUND($H$71*$G$71/G71,2)","v":0},"Cs",0,{"$f":"IF(OR(ISBLANK(K71),K71=0,H71=0,ISBLANK(H71)),,ROUND(K71+$L$3,2))","v":0},0,0]
[null,"US Grade A 100% Orange Juice, unsweetened, Frozen","Sun Cup ",40100,null,"48/6.0z",48,null,{"$f":"ROUND($H$71*$G$71/G72,2)","v":0},"Cs",0,{"$f":"IF(OR(ISBLANK(K72),K72=0,H71=0,ISBLANK(H71)),,ROUND(K72+$L$3,2))","v":0},{"$f":"ROUND(I72*L72,2)","v":0},0]
[null,null,"Mr. J. ",null,null,"48/6.0z",48,null,{"$f":"ROUND($H$71*$G$71/G73,2)","v":0},"Cs",0,{"$f":"IF(OR(ISBLANK(K73),K73=0,H71=0,ISBLANK(H71)),,ROUND(K73+$L$3,2))","v":0},0,0]
[26023,"Juice, Orange-Pineapple, Cup, 4 oz","Ardmore Farms ",41389,null,"96/4.0z",96,null,{"$f":"ROUND($H$74*$G$74/G74,2)","v":0},"Cs",0,{"$f":"IF(OR(ISBLANK(K74),K74=0,H74=0,ISBLANK(H74)),,ROUND(K74+$L$3,2))","v":0},0,0]
[null,"100% Orange Juice and Pineapple Blend, unsweetened,","Sun Cup ",91200,null,"72/4.0z",72,null,{"$f":"ROUND($H$74*$G$74/G75,2)","v":0},"Cs",0,{"$f":"IF(OR(ISBLANK(K75),K75=0,H74=0,ISBLANK(H74)),,ROUND(K75+$L$3,2))","v":0},0,0]
[null,"Frozen","Mr. J. ",7498,null,"96/4.0z",96,null,{"$f":"ROUND($H$74*$G$74/G76,2)","v":0},"Cs",0,{"$f":"IF(OR(ISBLANK(K76),K76=0,H74=0,ISBLANK(H74)),,ROUND(K76+$L$3,2))","v":0},0,0]
[null,null,null,null,null,null,null,null,null,"Page Total",null,null,{"$f":"SUM(M8:M76)","v":0}]

{"sheet":"Groceries","index":21,"n_rows":207,"n_cols":14,"rows_kept":207,"cut":false,"hidden":false,"merged":[[0,5,0,13],[1,5,1,13],[2,6,2,10]]}
[null,"School Food Authority",null,null,null,{"$f":"'Recap Sheet'!A3","v":"Bidder's Name:"}]
[36001,{"$f":"'Recap Sheet'!B2","v":"Marion County School District"},"Return to Recap Sheet",null,null,{"$f":"'Recap Sheet'!B3","v":0}]
[38000,"Description","Approved",null,null,null,"Firm Fixed Fee",null,null,null,null,{"$f":"'Recap Sheet'!B4","v":0}," "]
["SCPA",null,"Brand Name","Manufacturers","Distributor","Vendor","Svgs","Est.","Bid ","Bid","Unit","Unit Price","Total ","Cost per"]
[" Code",null,"or Manufacturer","Code","Code","Pack","per unit","Bid Qty","Qty","Unit","Price","plus Fee","Price","Unit"]
[null,"Groceries"]
[]
[36001,"Bacon Bits","Distributor Choice",null,null,"25Lb",25,10,{"$f":"ROUND(H8*G8/G8,2)","v":10},"Cs"]
[null,"Imitation.  For use on salad bar.  ","Fillable txt box or unprotected",null,null,null,0,null,{"$f":"ROUND(H8*G8/G9,2)","v":{"$error":"#DIV/0!"}},"Cs",0,{"$f":"IF(OR(ISBLANK(K9),K9=0,H8=0,ISBLANK(H8)),,ROUND(K9+$L$3,2))","v":0},{"$f":"ROUND(I9*L9,2)","v":{"$error":"#DIV/0!"}},{"$f":"ROUND(L9/G9,2)","v":{"$error":"#DIV/0!"}}]
[36002,"Baking Powder","Distributor Choice",null,null,"40Lb",40,5,{"$f":"ROUND(H10*G10/G10,2)","v":5},"Cs"]
[null,"Must meet Fed/ Spec #EE-B-86B.  Double Acting.  ","Fillable txt box or unprotected",null,null,null,null,null,{"$f":"ROUND(H10*G10/G11,2)","v":{"$error":"#DIV/0!"}},"Cs",null,{"$f":"IF(OR(ISBLANK(K11),K11=0,H10=0,ISBLANK(H10)),,ROUND(K11+$L$3,2))","v":0},{"$f":"ROUND(I11*L11,2)","v":{"$error":"#DIV/0!"}},{"$f":"ROUND(L11/G11,2)","v":{"$error":"#DIV/0!"}}]
[36003,"Baking Soda","Distributor Choice",null,null,"24/1 lb",24,5]
[null,"Shelf Stable","Fillable txt box or unprotected",null,null,null,null,null,{"$f":"ROUND(H12*G12/G13,2)","v":{"$error":"#DIV/0!"}},"Cs",null,{"$f":"IF(OR(ISBLANK(K13),K13=0,H12=0,ISBLANK(H12)),,ROUND(K13+$L$3,2))","v":0},{"$f":"ROUND(I13*L13,2)","v":{"$error":"#DIV/0!"}},{"$f":"ROUND(L13/G13,2)","v":{"$error":"#DIV/0!"}}]
[36004,"Bases, Soup, Beef Flavor","Distributor Choice",null,null,"12/1Lb",12,5,{"$f":"ROUND(H14*G14/G14,2)","v":5},"Cs"]
[null,"First ingredient, meat, 1 lb reconstituted yields 5 gallons broth. ","Fillable txt box or unprotected",null,null,null,null,null,{"$f":"ROUND(H14*G14/G15,2)","v":{"$error":"#DIV/0!"}},"Cs",null,{"$f":"IF(OR(ISBLANK(K15),K15=0,H14=0,ISBLANK(H14)),,ROUND(K15+$L$3,2))","v":0},{"$f":"ROUND(I15*L15,2)","v":{"$error":"#DIV/0!"}},{"$f":"ROUND(L15/G15,2)","v":{"$error":"#DIV/0!"}}]
[null,"  No MSG"]
[36005,"Bases, Soup, Chicken Flavor","Distributor Choice",null,null,"12/1Lb",12,5,{"$f":"ROUND(H17*G17/G17,2)","v":5},"Cs"]
[null,"First ingredient, meat, 1 lb reconstituted yields 5 gallons broth.   No MSG","Fillable txt box or unprotected",null,null,null,null,null,{"$f":"ROUND(H17*G17/G18,2)","v":{"$error":"#DIV/0!"}},"Cs",null,{"$f":"IF(OR(ISBLANK(K18),K18=0,H17=0,ISBLANK(H17)),,ROUND(K18+$L$3,2))","v":0},{"$f":"ROUND(I18*L18,2)","v":{"$error":"#DIV/0!"}},{"$f":"ROUND(L18/G18,2)","v":{"$error":"#DIV/0!"}}]
[36006,"Bases, Soup, Ham Flavor","Distributor Choice",null,null,"12/1Lb",12,5,{"$f":"ROUND(H19*G19/G19,2)","v":5},"Cs"]
[null,"First ingredient, meat,1 lb reconstituted yields 5 gallons broth.   No MSG","Fillable txt box or unprotected",null,null,null,null,null,{"$f":"ROUND(H19*G19/G20,2)","v":{"$error":"#DIV/0!"}},"Cs",null,{"$f":"IF(OR(ISBLANK(K20),K20=0,H19=0,ISBLANK(H19)),,ROUND(K20+$L$3,2))","v":0},{"$f":"ROUND(I20*L20,2)","v":{"$error":"#DIV/0!"}},{"$f":"ROUND(L20/G20,2)","v":{"$error":"#DIV/0!"}}]
[36007,"Bases, Soup, Vegetarian Classic Cream","Campbells ",22878,null,"4/4ib",512,null,{"$f":"ROUND(H21*G21/G21,2)","v":0},"CS",null,{"$f":"IF(OR(ISBLANK(K21),K21=0,H21=0,ISBLANK(H21)),,ROUND(K21+$L$3,2))","v":0},{"$f":"ROUND(I21*L21,2)","v":0},{"$f":"ROUND(L21/G21,2)","v":0}]
[null,"No HFCS, MFG, or partially hydrogenerated oil"]
[36008,"Chips, Nachos , Bulk          ","Tostitos Crispy  Rounds",62399,null,"8/1Lb",8,10,{"$f":"ROUND($H$23*$G$23/G23,2)","v":10},null,null,{"$f":"IF(OR(ISBLANK(K23),K23=0,H23=0,ISBLANK(H23)),,ROUND(K23+$L$3,2))","v":0},{"$f":"ROUND(I23*L23,2)","v":0},{"$f":"ROUND(L23/G23,2)","v":0}]
[null," Must  meet Whole Grain Rich"]
[36009,"Cookie Dough, Frozen, Red. Fat  WGR","Otis Spunkmeyer",null,null,"240/1.5z",240,10,{"$f":"ROUND(H25*G25/G25,2)","v":10},"Cs",null,{"$f":"IF(OR(ISBLANK(K25),K25=0,H25=0,ISBLANK(H25)),,ROUND(K25+$L$3,2))","v":0},{"$f":"ROUND(I25*L25,2)","v":0},{"$f":"ROUND(L25/G25,2)","v":0}]
[null,null,"Chocolate Chip   .5 OEG",55680]
[null,"1 cookie provides no more than 30% calories from total fat, ","Oatmeal Raisin   .5  OEG",55683]
[null,"10% calories from saturated, 35% sugar by weight","Butter Sugar  1.0 OEG",55684]
[null,null,"Carnival    .5  OEG",55688]
[null,null,"Chocolate Brownie   .75 OEG",55689]
[36010,"Cornmeal, Yellow, Enriched.   ","Distributor Choice",null,null,"25Lb",25,10,{"$f":"ROUND(H31*G31/G31,2)","v":10},"Cs"]
[null,"First Quality","Fillable txt box ",null,null,null,null,null,{"$f":"ROUND(H31*G31/G32,2)","v":{"$error":"#DIV/0!"}},"Cs",null,{"$f":"IF(OR(ISBLANK(K32),K32=0,H31=0,ISBLANK(H31)),,ROUND(K32+$L$3,2))","v":0},{"$f":"ROUND(I32*L32,2)","v":{"$error":"#DIV/0!"}},{"$f":"ROUND(L32/G32,2)","v":{"$error":"#DIV/0!"}}]
[null,"This is not a Whole Grain Rich product. "]
[36011,"Cornstarch","Distributor Choice",null,null,"24/1gLb",24,5,{"$f":"ROUND(H34*G34/G34,2)","v":5},"Cs"]
[null,"Must meet Federal spec #N-C-541E","Fillable txt box ",null,null,null,null,null,{"$f":"ROUND(H34*G34/G35,2)","v":{"$error":"#DIV/0!"}},"Cs",null,{"$f":"IF(OR(ISBLANK(K35),K35=0,H34=0,ISBLANK(H34)),,ROUND(K35+$L$3,2))","v":0},{"$f":"ROUND(I35*L35,2)","v":{"$error":"#DIV/0!"}},{"$f":"ROUND(L35/G35,2)","v":{"$error":"#DIV/0!"}}]
[36012,"Crackers, Saltines, Whole Grain,IW WGR"," Keebler-  Zesta Minis ","30100 10088",null,"300/.39z",300,null,{"$f":"IF(G36>0,ROUND(H36*G36/G36,2),)","v":0},"Cs",null,{"$f":"IF(OR(ISBLANK(K36),K36=0,H36=0,ISBLANK(H36)),,ROUND(K36+$L$3,2))","v":0},{"$f":"ROUND(I36*L36,2)","v":0},{"$f":"ROUND(L36/G36,2)","v":0}]
[null,"Mini saltine crackers made with whole grain, provides .5 OEG","   "]
[null,"per serving"]
[36013,"Crackers, Saltines, Whole Grain IW","Distributor Choice",null,null,"500/2 Ct",500,100,{"$f":"ROUND($H$39*$G$39/G39,2)","v":100},"Cs"]
[null,"Individually wrapped","Fillable txt box ",null,null,null,null,null,{"$f":"ROUND(H39*G39/G40,2)","v":{"$error":"#DIV/0!"}},"Cs",null,{"$f":"IF(OR(ISBLANK(K40),K40=0,H39=0,ISBLANK(H39)),,ROUND(K40+$L$3,2))","v":0},{"$f":"ROUND(I40*L40,2)","v":{"$error":"#DIV/0!"}},{"$f":"ROUND(L40/G40,2)","v":{"$error":"#DIV/0!"}}]
[null," 2 Packages (4 crackers) provides .5 oz Equivalent Grain"]
[]
[36014,"Croissants, Whole Grain, O Trans Fat, Pre-sliced , Thaw & Serve"," Hadley Farms WG","139TF",null,"144/2.2z",144,1001,{"$f":"ROUND(H43*G43/G43,2)","v":1001},"Cs",null,{"$f":"IF(OR(ISBLANK(K43),K43=0,H43=0,ISBLANK(H43)),,ROUND(K43+$L$3,2))","v":0},{"$f":"ROUND(I43*L43,2)","v":0},{"$f":"ROUND(L43/G43,2)","v":0}]
[null,"1 serving = 2 grain/bread servings"]
[36015,"Dressings, Regular, Honey Mustard","Naturally Fresh ",85016875061,null,"4/1g",4,null,{"$f":"ROUND(H45*G45/G45,2)","v":0},"Cs",0,{"$f":"IF(OR(ISBLANK(K45),K45=0,H45=0,ISBLANK(H45)),,ROUND(K45+$L$3,2))","v":0},{"$f":"ROUND(I45*L45,2)","v":0},{"$f":"ROUND(L45/G45,2)","v":0}]
[null,"Does not require refrigeration until after opened.  ","Hellmans ",83023501,null,"4/1g",4,null,{"$f":"ROUND($H$45*$G$45/G46,2)","v":0},"Cs",0,{"$f":"IF(OR(ISBLANK(K46),K46=0,H45=0,ISBLANK(H45)),,ROUND(K46+$L$3,2))","v":0},{"$f":"ROUND(L46*I46,2)","v":0},0]
[null,null,"CF Sauer Dukes ",6148,null,"4/1g",4,null,{"$f":"ROUND($H$45*$G$45/G47,2)","v":0},"Cs",0,{"$f":"IF(OR(ISBLANK(K47),K47=0,H45=0,ISBLANK(H45)),,ROUND(K47+$L$3,2))","v":0},{"$f":"ROUND(L47*I47,2)","v":0},0]
[null,null,"Southern Classic ",17107410,null,"4/1g",4,null,{"$f":"ROUND($H$45*$G$45/G48,2)","v":0},"Cs",0,{"$f":"IF(OR(ISBLANK(K48),H45=0,ISBLANK(H45)),,ROUND(K48+$L$3,2))","v":0},{"$f":"ROUND(L48*I48,2)","v":0},0]
[null,null,"Kraft ",210007052400,null,"4/1g",4,null,{"$f":"ROUND($H$45*$G$45/G49,2)","v":0},"Cs",0,{"$f":"IF(OR(ISBLANK(K49),K49=0,H45=0,ISBLANK(H45)),,ROUND(K49+$L$3,2))","v":0},{"$f":"ROUND(L49*I49,2)","v":0},0]
[36016,"Dressings, Reduced Calorie, Italian","Southern Classics ",13007310,null,"4/1g",4,null,{"$f":"ROUND($H$50*$G$50/G50,2)","v":0},"Cs",0,{"$f":"IF(OR(ISBLANK(K50),K50=0,H50=0,ISBLANK(H50)),,ROUND(K50+$L$3,2))","v":0},{"$f":"ROUND(I50*L50,2)","v":0},0]
[null,"Does not require refrigeration until after opened.  ","CFSauer Dukes ",6156,null,"4/1g",4,null,{"$f":"ROUND($H$50*$G$50/G51,2)","v":0},"Cs",0,{"$f":"IF(OR(ISBLANK(K51),K51=0,H50=0,ISBLANK(H50)),,ROUND(K51+$L$3,2))","v":0},{"$f":"ROUND(I51*L51,2)","v":0},0]
[null,null,"Kraft ",210006438900,null,"4/1g",4,null,{"$f":"ROUND($H$50*$G$50/G52,2)","v":0},"Cs",0,{"$f":"IF(OR(ISBLANK(K52),K52=0,H50=0,ISBLANK(H50)),,ROUND(K52+$L$3,2))","v":0},{"$f":"ROUND(I52*L52,2)","v":0},0]
[36017,"Dressings, Regular, Ranch","Marzetti ",837966,null,"4/1g",4,null,{"$f":"ROUND(H53*G53/G53,2)","v":0},"Cs",null,{"$f":"IF(OR(ISBLANK(K53),K53=0,H53=0,ISBLANK(H53)),,ROUND(K53+$L$3,2))","v":0},{"$f":"ROUND(I53*L53,2)","v":0},0]
[null,"Does not require refrigeration until after opened.","Hellmann's ",25711,null,"4/1g",4,null,{"$f":"ROUND($H$53*$G$53/G54,2)","v":0},"Cs",null,{"$f":"IF(OR(ISBLANK(K54),K54=0,H53=0,ISBLANK(H53)),,ROUND(K54+$L$3,2))","v":0},{"$f":"ROUND(L54*I54,2)","v":0},0]
[null,null,"Kens ","KE0789 ",null,"4/1g",4,null,0,"Cs",null,{"$f":"IF(OR(ISBLANK(K55),K55=0,H53=0,ISBLANK(H53)),,ROUND(K55+$L$3,2))","v":0},0,0]
[null,null,"Hidden Valley ",85620,null,"4/1g",4,null,0,"Cs",null,{"$f":"IF(OR(ISBLANK(K56),K56=0,H53=0,ISBLANK(H53)),,ROUND(K56+$L$3,2))","v":0},0,0]
[null,null,"Naturally Fresh ",85016645061,null,"4/1g",4,null,0,"Cs",0,{"$f":"IF(OR(ISBLANK(K57),K57=0,H53=0,ISBLANK(H53)),,ROUND(K57+$L$3,2))","v":0},0,0]
[null,null,"Southern Classics",21107410,null,"4/1g",4,null,0,"Cs",0,{"$f":"IF(OR(ISBLANK(K58),K58=0,H53=0,ISBLANK(H53)),,ROUND(K58+$L$3,2))","v":0},0,0]
[null,null,"CF Sauer Dukes ",6198,null,"4/1g",4,null,0,"Cs",0,{"$f":"IF(OR(ISBLANK(K59),K59=0,H53=0,ISBLANK(H53)),,ROUND(K59+$L$3,2))","v":0},0,0]
[null,null,"Kraft ",210006439900,null,"4/1g",4,null,0,"Cs",0,{"$f":"IF(OR(ISBLANK(K60),K60=0,H53=0,ISBLANK(H53)),,ROUND(K60+$L$3,2))","v":0},0,0]
[36018,"Dressings, Regular, Thousand Island","Marzetti ",83000,null,"4/1g",4,null,{"$f":"ROUND(H61*G61/G61,2)","v":0},"Cs",null,{"$f":"IF(OR(ISBLANK(K61),K61=0,H61=0,ISBLANK(H61)),,ROUND(K61+$L$3,2))","v":0},{"$f":"ROUND(I61*L61,2)","v":0},0]
[null,"Does not require refrigeration until after opened.  ","Hellmann's ",25714,null,"4/1g",4,null,{"$f":"ROUND($H$61*$G$61/G62,2)","v":0},"Cs",null,{"$f":"IF(OR(ISBLANK(K62),K62=0,H61=0,ISBLANK(H61)),,ROUND(K62+$L$3,2))","v":0},{"$f":"ROUND(L62*I62,2)","v":0},0]
[null,null,"Kens ",816,null,"4/1g",4,null,0,"Cs",null,{"$f":"IF(OR(ISBLANK(K63),K63=0,H61=0,ISBLANK(H61)),,ROUND(K63+$L$3,2))","v":0},0,0]
[null,null,"Hidden Valley ",85648,null,"4/1g",4,null,0,"Cs",null,{"$f":"IF(OR(ISBLANK(K64),K64=0,H61=0,ISBLANK(H61)),,ROUND(K64+$L$3,2))","v":0},0,0]
[null,null,"Southern Classic ",34107410,null,"4/1g",4,null,0,"Cs",null,{"$f":"IF(OR(ISBLANK(K65),K65=0,H61=0,ISBLANK(H61)),,ROUND(K65+$L$3,2))","v":0},0,0]
[null,null,"CF Sauer Dukes ",6188,null,"4/1g",4,null,0,"Cs",0,{"$f":"IF(OR(ISBLANK(K66),K66=0,H61=0,ISBLANK(H61)),,ROUND(K66+$L$3,2))","v":0},0,0]
[null,null,"Kraft ",210006430200,null,"4/1g",4,null,0,"Cs",null,{"$f":"IF(OR(ISBLANK(K67),K67=0,H61=0,ISBLANK(H61)),,ROUND(K67+$L$3,2))","v":0},0,0]
[36019,"Flour, Plain, All Purpose","Distributor Choice",null,null,"25Lb",25,10,{"$f":"ROUND(H68*G68/G68,2)","v":10},"Cs"]
[null,"Enriched","Fillable txt box ",null,null,null,null,null,{"$f":"ROUND(H68*G68/G69,2)","v":{"$error":"#DIV/0!"}},"Cs",null,{"$f":"IF(OR(ISBLANK(K69),K69=0,H68=0,ISBLANK(H68)),,ROUND(K69+$L$3,2))","v":0},{"$f":"ROUND(I69*L69,2)","v":{"$error":"#DIV/0!"}},{"$f":"ROUND(L69/G69,2)","v":{"$error":"#DIV/0!"}}]
[]
[36020,"Flour, Whole Wheat","Distributor Choice",null,null,"50Lb",50,10,{"$f":"ROUND(H71*G71/G71,2)","v":10},"Cs"]
[null,null,"Fillable txt box ",null,null,null,null,null,{"$f":"ROUND(H71*G71/G72,2)","v":{"$error":"#DIV/0!"}},"Cs",null,{"$f":"IF(OR(ISBLANK(K72),H71=0,ISBLANK(H71)),,ROUND(K72+$L$3,2))","v":0},{"$f":"ROUND(I72*L72,2)","v":{"$error":"#DIV/0!"}},{"$f":"ROUND(L72/G72,2)","v":{"$error":"#DIV/0!"}}]
[36021,"Food Release","Pam (ConAgra) ",63111,null,"6/17 z",102,20,{"$f":"ROUND(H73*G73/G73,2)","v":20},"Cs",null,{"$f":"IF(OR(ISBLANK(K73),K73=0,H73=0,ISBLANK(H73)),,ROUND(K73+$L$3,2))","v":0},{"$f":"ROUND(I73*L73,2)","v":0},{"$f":"ROUND(L73/G73,2)","v":0}]
[null,"Processed soybean oil, no water added.  Statement ","Wescoat ",62067,null,"6/17z",102,null,{"$f":"ROUND($H$73*$G$73/G74,2)","v":20},"Cs",null,{"$f":"IF(OR(ISBLANK(K74),K74=0,H73=0,ISBLANK(H73)),,ROUND(K74+$L$3,2))","v":0},{"$f":"ROUND(L74*I74,2)","v":0},{"$f":"ROUND(L74/G74,2)","v":0}]
[null,"required if Distributor Choice is bid","Benton Lane ",63081,null,"6/16.5z",99,null,{"$f":"ROUND($H$73*$G$73/G75,2)","v":20.61},"Cs",null,{"$f":"IF(OR(ISBLANK(K75),K75=0,H73=0,ISBLANK(H73)),,ROUND(K75+$L$3,2))","v":0},{"$f":"ROUND(L75*I75,2)","v":0},{"$f":"ROUND(L75/G75,2)","v":0}]
[null,null,"Pan Coating Cargill ",100087293,null,"6/14z",84,null,{"$f":"ROUND($H$73*$G$73/G76,2)","v":24.29},"Cs",null,{"$f":"IF(OR(ISBLANK(K76),K76=0,H73=0,ISBLANK(H73)),,ROUND(K76+$L$3,2))","v":0},{"$f":"ROUND(L76*I76,2)","v":0},{"$f":"ROUND(L76/G76,2)","v":0}]
[]
[36022,"Food Release, Butter Flavor ","Vegalene Buttery Delite, ",17120,null,"6/17z",102,10,{"$f":"ROUND(H78*G78/G78,2)","v":10},"Cs",null,{"$f":"IF(OR(ISBLANK(K78),K78=0,H78=0,ISBLANK(H78)),,ROUND(K78+$L$3,2))","v":0},{"$f":"ROUND(I78*L78,2)","v":0},{"$f":"ROUND(L78/G78,2)","v":0}]
[null,"Blend of canola oil with sunflower lecithin, salt and natural flavoring."]
[null,"Statement required if Distributor Choice is bid"]
[36023,"Food Release, Garlic Flavor ","Vegalene Garlic Mist, ",17100,null,"6/17z",102,null,{"$f":"ROUND(H81*G81/G81,2)","v":0},"Cs",null,{"$f":"IF(OR(ISBLANK(K81),K81=0,H81=0,ISBLANK(H81)),,ROUND(K81+$L$3,2))","v":0},{"$f":"ROUND(I81*L81,2)","v":0},{"$f":"ROUND(L81/G81,2)","v":0}]
[null,"Canola Oil, Sunflower Lecithin, Natural Flavor, Garlic Oil, Annatto."]
[null,"Statement required if Distributor Choice is bid"]
[36024,"Gelatin Dessert Mix, Orange","Distributor Choice",null,null,"12/24z",420,10,{"$f":"ROUND(H84*G84/G84,2)","v":10},"Cs"]
[null,"Sugar added","Fillable txt box ",null,null,null,null,null,{"$f":"ROUND(H84*G84/G85,2)","v":{"$error":"#DIV/0!"}},"Cs",null,{"$f":"IF(OR(ISBLANK(K85),K85=0,H84=0,ISBLANK(H84)),,ROUND(K85+$L$3,2))","v":0},{"$f":"ROUND(I85*L85,2)","v":{"$error":"#DIV/0!"}},{"$f":"ROUND(L85/G85,2)","v":{"$error":"#DIV/0!"}}]
[36025,"Gelatin Dessert Mix, Strawberry","Distributor Choice",null,null,"12/24 z",288,10,{"$f":"ROUND(H86*G86/G86,2)","v":10},"Cs"]
[null,"Sugar added","Fillable txt box ",null,null,null,null,null,{"$f":"ROUND(H86*G86/G87,2)","v":{"$error":"#DIV/0!"}},"Cs",null,{"$f":"IF(OR(ISBLANK(K87),H86=0,ISBLANK(H86)),,ROUND(K87+$L$3,2))","v":0},{"$f":"ROUND(I87*L87,2)","v":{"$error":"#DIV/0!"}},{"$f":"ROUND(L87/G87,2)","v":{"$error":"#DIV/0!"}}]
[36026,"Gravy Mix, Beef or Brown","Legout ",75001,null,"8/16 z",128,20,{"$f":"ROUND(H88*G88/G88,2)","v":20},"Cs",null,{"$f":"IF(OR(ISBLANK(K88),K88=0,H88=0,ISBLANK(H88)),,ROUND(K88+$L$3,2))","v":0},{"$f":"ROUND(I88*L88,2)","v":0},0]
[null,null,"Foothill Farms ","G405-F6700",null,"8/14.10z",552,null,{"$f":"ROUND($H$88*$G$88/G89,2)","v":4.6399999999999997},"Cs",null,{"$f":"IF(OR(ISBLANK(K89),K89=0,H88=0,ISBLANK(H88)),,ROUND(K89+$L$3,2))","v":0},{"$f":"ROUND(L89*I89,2)","v":0},0]
[null,null,"Chef's Companion ",57232,null,"8/14z",112,null,{"$f":"ROUND($H$88*$G$88/G90,2)","v":22.86},"Cs",null,{"$f":"IF(OR(ISBLANK(K90),K90=0,H88=0,ISBLANK(H88)),,ROUND(K90+$L$3,2))","v":0},{"$f":"ROUND(L90*I90,2)","v":0},0]
[null,null,"Trio ",38273,null,"8/13.37z",107,null,{"$f":"ROUND($H$88*$G$88/G91,2)","v":23.93},"Cs",null,{"$f":"IF(OR(ISBLANK(K91),K91=0,H88=0,ISBLANK(H88)),,ROUND(K91+$L$3,2))","v":0},{"$f":"ROUND(L91*I91,2)","v":0},0]
[null,null,"Custom Culinary",17649,null,"8/12.0z",96,null,{"$f":"ROUND($H$88*$G$88/G92,2)","v":26.67},"Cs",null,{"$f":"IF(OR(ISBLANK(K92),K92=0,H88=0,ISBLANK(H88)),,ROUND(K92+$L$3,2))","v":0},{"$f":"ROUND(L92*I92,2)","v":0},0]
[36027,"Gravy Mix, Chicken","Trio",38282,null,"8/22.6 z",181,20,{"$f":"ROUND(H93*G93/G93,2)","v":20},"Cs",null,{"$f":"IF(OR(ISBLANK(K93),K93=0,H93=0,ISBLANK(H93)),,ROUND(K93+$L$3,2))","v":0},{"$f":"ROUND(I93*L93,2)","v":0},0]
[null,null,"Legout",75004,null,"8/16 z",128,null,{"$f":"ROUND($H$93*$G$93/G94,2)","v":28.28},"Cs",null,{"$f":"IF(OR(ISBLANK(K94),K94=0,H93=0,ISBLANK(H93)),,ROUND(K94+$L$3,2))","v":0},{"$f":"ROUND(L94*I94,2)","v":0},0]
[null,null,"Custom Culinary",17839,null,"8/12z",96,null,{"$f":"ROUND($H$93*$G$93/G95,2)","v":37.71},"Cs",null,{"$f":"IF(OR(ISBLANK(K95),K95=0,H93=0,ISBLANK(H93)),,ROUND(K95+$L$3,2))","v":0},{"$f":"ROUND(L95*I95,2)","v":0},0]
[36028,"Macaroni, Elbow                                    WGR","Distributor Choice",null,null,"20Lb",20,null,{"$f":"ROUND(H96*G96/G96,2)","v":0},"Cs"]
[null,"First Quality.  ","Fillable txt box ",null,null,null,null,null,{"$f":"ROUND(H96*G96/G97,2)","v":{"$error":"#DIV/0!"}},"Cs",null,{"$f":"IF(OR(ISBLANK(K97),K97=0,H96=0,ISBLANK(H96)),,ROUND(K97+$L$3,2))","v":0},{"$f":"ROUND(I97*L97,2)","v":{"$error":"#DIV/0!"}},{"$f":"ROUND(L97/G97,2)","v":{"$error":"#DIV/0!"}}]
[36029,"Macaroni , Elbow, Whole Grain ","Distributor Choice",null,null,"2/10Lb",20,20,{"$f":"ROUND(H98*G98/G98,2)","v":20},"Cs"]
[null,"Made from 51% Durum whole wheat flour, contains 28g whole grain","Fillable txt box ",null,null,null,null,null,{"$f":"ROUND(H98*G98/G99,2)","v":{"$error":"#DIV/0!"}},"Cs",null,{"$f":"IF(OR(ISBLANK(K99),K99=0,H98=0,ISBLANK(H98)),,ROUND(K99+$L$3,2))","v":0},{"$f":"ROUND(I99*L99,2)","v":{"$error":"#DIV/0!"}},{"$f":"ROUND(L99/G99,2)","v":{"$error":"#DIV/0!"}}]
[null,"per 2oz serving (1/2 c).    First Quality"]
[36030,"Mayonnaise, Reduced Calorie","Kens ","KE0892",null,"4/1g",4,10,{"$f":"ROUND(H101*G101/G101,2)","v":10},"Cs",null,{"$f":"IF(OR(ISBLANK(K101),K101=0,H101=0,ISBLANK(H101)),,ROUND(K101+$L$3,2))","v":0},{"$f":"ROUND(I101*L101,2)","v":0},{"$f":"ROUND(L101/G101,2)","v":0}]
[null,"Does not require refrigeration until opened. ","Hellmann's ",26730,null,"4/1g",4,null,{"$f":"ROUND($H$101*$G$101/G102,2)","v":10},"Cs",null,{"$f":"IF(OR(ISBLANK(K102),K102=0,H101=0,ISBLANK(H101)),,ROUND(K102+$L$3,2))","v":0},{"$f":"ROUND(L102*I102,2)","v":0},0]
[null,null,"Dukes ",6073,null,"4/1g",4,null,{"$f":"ROUND($H$101*$G$101/G103,2)","v":10},"Cs",null,{"$f":"IF(OR(ISBLANK(K103),K103=0,H101=0,ISBLANK(H101)),,ROUND(K103+$L$3,2))","v":0},{"$f":"ROUND(L103*I103,2)","v":0},0]
[null,null,"Southern Classic ",89007410,null,"4/1g",4,null,{"$f":"ROUND($H$101*$G$101/G104,2)","v":10},"Cs",0,{"$f":"IF(OR(ISBLANK(K104),K104=0,H101=0,ISBLANK(H101)),,ROUND(K104+$L$3,2))","v":0},{"$f":"ROUND(L104*I104,2)","v":0},0]
[null,null,"Kraft ",210006430100,null,"4/1g",4,null,{"$f":"ROUND($H$101*$G$101/G105,2)","v":10},"Cs",null,{"$f":"IF(OR(ISBLANK(K105),K105=0,H101=0,ISBLANK(H101)),,ROUND(K105+$L$3,2))","v":0},{"$f":"ROUND(L105*I105,2)","v":0},0]
[36031,"Mayonnaise, Regular","Kens ","KE0911",null,"4/1g",4,null,{"$f":"ROUND(H106*G106/G106,2)","v":0},"Cs",null,{"$f":"IF(OR(ISBLANK(K106),K106=0,H106=0,ISBLANK(H106)),,ROUND(K106+$L$3,2))","v":0},{"$f":"ROUND(I106*L106,2)","v":0},0]
[null,"First Quality.  Does not require refrigeration until after opening ","Hellmann's ",26530,null,"4/1g",4,null,{"$f":"ROUND($H$106*$G$106/G107,2)","v":0},"Cs",null,{"$f":"IF(OR(ISBLANK(K107),K107=0,H106=0,ISBLANK(H106)),,ROUND(K107+$L$3,2))","v":0},{"$f":"ROUND(L107*I107,2)","v":0},0]
[null,null,"Southern Classic  ",91107410,null,"4/1g",4,null,{"$f":"ROUND($H$106*$G$106/G108,2)","v":0},"Cs",null,{"$f":"IF(OR(ISBLANK(K108),K108=0,H106=0,ISBLANK(H106)),,ROUND(K108+$L$3,2))","v":0},{"$f":"ROUND(L108*I108,2)","v":0},0]
[null,null,"CF Sauer Dukes ",6003,null,"4/1g",4,null,{"$f":"ROUND($H$106*$G$106/G109,2)","v":0},"Cs",0,{"$f":"IF(OR(ISBLANK(K109),K109=0,H106=0,ISBLANK(H106)),,ROUND(K109+$L$3,2))","v":0},{"$f":"ROUND(L109*I109,2)","v":0},0]
[null,null,"Kraft ",210006421900," ","4/1g",4,null,{"$f":"ROUND($H$106*$G$106/G110,2)","v":0},"Cs",0,{"$f":"IF(OR(ISBLANK(K110),K110=0,H106=0,ISBLANK(H106)),,ROUND(K110+$L$3,2))","v":0},{"$f":"ROUND(L110*I110,2)","v":0},0]
[36032,"Milk, Non Fat Dry Powder","Distributor Choice",null,null,"6/5 Lb",6,5,{"$f":"ROUND(H111*G111/G111,2)","v":5},"Cs"]
[null,"4lbs/2 oz dry milk to 4 3/4 gal water= 5 gallons fluid milk  ","Fillable txt box ",null,null,null,null,null,{"$f":"ROUND(H111*G111/G112,2)","v":{"$error":"#DIV/0!"}},"Cs",null,{"$f":"IF(OR(ISBLANK(K112),K112=0,H111=0,ISBLANK(H111)),,ROUND(K112+$L$3,2))","v":0},{"$f":"ROUND(I112*L112,2)","v":{"$error":"#DIV/0!"}},{"$f":"ROUND(L112/G112,2)","v":{"$error":"#DIV/0!"}}]
[36033,"Mustard, Prepared","Distributor Choice",null,null,"4/1g",4,null,{"$f":"ROUND($H$113*$G$113/G113,2)","v":0},"Cs"]
[null,"Pure, net weight 8#.  Grade A.  USDA extra standard.","Fillable txt box ",null,null,null,null,null,{"$f":"ROUND(H113*G113/G114,2)","v":{"$error":"#DIV/0!"}},"Cs",null,{"$f":"IF(OR(ISBLANK(K114),K114=0,H113=0,ISBLANK(H113)),,ROUND(K114+$L$3,2))","v":0},{"$f":"ROUND(I114*L114,2)","v":{"$error":"#DIV/0!"}},{"$f":"ROUND(L114/G114,2)","v":{"$error":"#DIV/0!"}}]
[36034,"Noodles, Egg, WGR","Distributor Choice",null,null,"10Lb",10,10,{"$f":"ROUND(H115*G115/G115,2)","v":10},"Cs"]
[null,"Basic ingredients shall be Semolina Durum wheat flour,","Fillable txt box ",null,null,null,null,null,{"$f":"ROUND(H115*G115/G116,2)","v":{"$error":"#DIV/0!"}},"Cs",null,{"$f":"IF(OR(ISBLANK(K116),K116=0,H115=0,ISBLANK(H115)),,ROUND(K116+$L$3,2))","v":0},{"$f":"ROUND(I116*L116,2)","v":{"$error":"#DIV/0!"}},{"$f":"ROUND(L116/G116,2)","v":{"$error":"#DIV/0!"}}]
[null,"farina or hard wheat flour, fine or medium.  "]
[36035,"Noodles. Egg","Distributor Choice",null,null,"10Lb",10,null,{"$f":"ROUND(H118*G118/G118,2)","v":0},"Cs"]
[null,"First quality, homestyle","Fillable txt box ",null,null,null,null,null,{"$f":"ROUND(H118*G118/G119,2)","v":{"$error":"#DIV/0!"}},"Cs",null,{"$f":"IF(OR(ISBLANK(K119),K119=0,H118=0,ISBLANK(H118)),,ROUND(K119+$L$3,2))","v":0},{"$f":"ROUND(I119*L119,2)","v":{"$error":"#DIV/0!"}},{"$f":"ROUND(L119/G119,2)","v":{"$error":"#DIV/0!"}}]
[null," "]
[36036,"Noodles, Lasagna, WGR","Distributor Choice",null,null,"10Lb",10,null,{"$f":"ROUND(H121*G121/G121,2)","v":0},"Cs"]
[null,"durum wheat, dry, first quality","Fillable txt box ",null,null,null,null,null,{"$f":"ROUND(H121*G121/G122,2)","v":{"$error":"#DIV/0!"}},"Cs",null,{"$f":"IF(OR(ISBLANK(K122),K122=0,H121=0,ISBLANK(H121)),,ROUND(K122+$L$3,2))","v":0},{"$f":"ROUND(I122*L122,2)","v":{"$error":"#DIV/0!"}},{"$f":"ROUND(L122/G122,2)","v":{"$error":"#DIV/0!"}}]
[36037,"Noodles, Lasagna, ","Distributor Choice",null,null,"10Lb",10,10,{"$f":"ROUND(H123*G123/G123,2)","v":10},"Cs"]
[null,"First Qualty","Fillable txt box ",null,null,null,null,null,{"$f":"ROUND(H123*G123/G124,2)","v":{"$error":"#DIV/0!"}},"Cs",null,{"$f":"IF(OR(ISBLANK(K124),K124=0,H123=0,ISBLANK(H123)),,ROUND(K124+$L$3,2))","v":0},{"$f":"ROUND(I124*L124,2)","v":{"$error":"#DIV/0!"}},{"$f":"ROUND(L124/G124,2)","v":{"$error":"#DIV/0!"}}]
[36038,"Noodles, Spaghetti, Whole Wheat","Distributor Choice",null,null,"2/5Lb",10,null,{"$f":"ROUND(H125*G125/G125,2)","v":0},"Cs"]
[null,"100% whole wheat durum flour, 10\", first quality","Fillable txt box ",null,null,null,null,null,{"$f":"ROUND(H125*G125/G126,2)","v":{"$error":"#DIV/0!"}},"Cs",null,{"$f":"IF(OR(ISBLANK(K126),K126=0,H125=0,ISBLANK(H125)),,ROUND(K126+$L$3,2))","v":0},{"$f":"ROUND(I126*L126,2)","v":{"$error":"#DIV/0!"}},{"$f":"ROUND(L126/G126,2)","v":{"$error":"#DIV/0!"}}]
[36039,"Noodles, Spaghetti, Enriched","Distributor Choice",null,null,"2/5Lb",10,null,{"$f":"ROUND(H127*G127/G127,2)","v":0},"Cs"]
[null,"Semolina (Wheat), First Quality","Fillable txt box ",null,null,null,null,null,{"$f":"ROUND(H127*G127/G128,2)","v":{"$error":"#DIV/0!"}},"Cs",null,{"$f":"IF(OR(ISBLANK(K128),K128=0,H127=0,ISBLANK(H127)),,ROUND(K128+$L$3,2))","v":0},{"$f":"ROUND(I128*L128,2)","v":{"$error":"#DIV/0!"}},{"$f":"ROUND(L128/G128,2)","v":{"$error":"#DIV/0!"}}]
[36040,"Noodles, Spaghetti, Wholegrain","Distributor Choice",null,null,"2/10Lb",20,20,{"$f":"ROUND(H129*G129/G129,2)","v":20},"Cs"]
[null,"First Quality , 1 cup cooked = 1 Grain serving","Fillable txt box ",null,null,null,null,null,{"$f":"ROUND(H129*G129/G130,2)","v":{"$error":"#DIV/0!"}},"Cs",null,{"$f":"IF(OR(ISBLANK(K130),H129=0,ISBLANK(H129)),,ROUND(K130+$L$3,2))","v":0},{"$f":"ROUND(I130*L130,2)","v":{"$error":"#DIV/0!"}},{"$f":"ROUND(L130/G130,2)","v":{"$error":"#DIV/0!"}}]
[36041,"Oats, WG Topping Mix","Foothill Farms ","P212-D6190",null,"6/1.5#",126,null,{"$f":"ROUND(H131*G131/G131,2)","v":0},"Cs",0,{"$f":"IF(OR(ISBLANK(K131),K131=0,H131=0,ISBLANK(H131)),,ROUND(K131+$L$3,2))","v":0},{"$f":"ROUND(I131*L131,2)","v":0},{"$f":"ROUND(L131/G131,2)","v":0}]
[null,"1/4 cup dried product provides .75 OEG "]
[]
[null,"Possible Allergens:  Wheat or Wheat Derivative"," ",null,null,null,null,null," "," "," "," ","  "," "]
[36042,"Peanut Butter","Distributor Choice",null,null,"6/5Lb",30,null,{"$f":"ROUND(H135*G135/G135,2)","v":0},"Cs"]
[null,"Smooth, US Grade A.  Should have color that is medium","Fillable txt box ",null,null,null,null,null,{"$f":"ROUND(H135*G135/G136,2)","v":{"$error":"#DIV/0!"}},"Cs",null,{"$f":"IF(OR(ISBLANK(K136),K136=0,H135=0,ISBLANK(H135)),,ROUND(K136+$L$3,2))","v":0},{"$f":"ROUND(I136*L136,2)","v":{"$error":"#DIV/0!"}},{"$f":"ROUND(L136/G136,2)","v":{"$error":"#DIV/0!"}}]
[null,"brown to brown color roast.  Peanut butter should be  "]
[null,"firm set, smooth pliable, have a good spreadibility.  "]
[]
[36043,"Pickle Relish","Distributor Choice",null,null,"4/1g",4,20,{"$f":"ROUND(H140*G140/G140,2)","v":20},"Cs"]
[null,"First Quality, Sweet cucumbers, timely chopped, Grade A","Fillable txt box ",null,null,null,null,null,{"$f":"ROUND(H140*G140/G141,2)","v":{"$error":"#DIV/0!"}},"Cs",null,{"$f":"IF(OR(ISBLANK(K141),K141=0,H140=0,ISBLANK(H140)),,ROUND(K141+$L$3,2))","v":0},{"$f":"ROUND(I141*L141,2)","v":{"$error":"#DIV/0!"}},{"$f":"ROUND(L141/G141,2)","v":{"$error":"#DIV/0!"}}]
[36044,"Pickles, Dill Chips, 4/1g gallon","Bay Valley (Cates)  (430-485 chips/gal)",1282247,null,"4/1g",4,null,{"$f":"ROUND(H142*G142/G142,2)","v":0},"Cs",null,{"$f":"IF(OR(ISBLANK(K142),K142=0,H142=0,ISBLANK(H142)),,ROUND(K142+$L$3,2))","v":0},{"$f":"ROUND(I142*L142,2)","v":0},{"$f":"ROUND(L142/G142,2)","v":0}]
[null,"US Grade A, fancy, thin slices, First Quality ","Mt Olive  (640 chips/gal)",12814,null,"4/1g",4,null,{"$f":"ROUND($H$142*$G$142/G143,2)","v":0},"Cs",null,{"$f":"IF(OR(ISBLANK(K143),K143=0,H142=0,ISBLANK(H142)),,ROUND(K143+$L$3,2))","v":0},{"$f":"ROUND(L143*I143,2)","v":0},{"$f":"ROUND(L143/G143,2)","v":0}]
[null,null,"Heinz 2000 Crinkle Cut (535/pouch)",1300000658,null,"6/5.75 lb",6,null,{"$f":"ROUND($H$142*$G$142/G144,2)","v":0},"Cs",null,{"$f":"IF(OR(ISBLANK(K144),K144=0,H142=0,ISBLANK(H142)),,ROUND(K144+$L$3,2))","v":0},{"$f":"ROUND(L144*I144,2)","v":0},{"$f":"ROUND(L144/G144,2)","v":0}]
[]
[36045,"Pickles, Dill Chips, 5 gallon","Bay Valley (Schwartz) (2850-3150 chips/5 gal)",2965823,null,"1/5g",5,10,{"$f":"ROUND(H146*G146/G146,2)","v":10},"Cs",null,{"$f":"IF(OR(ISBLANK(K146),K146=0,H146=0,ISBLANK(H146)),,ROUND(K146+$L$3,2))","v":0},{"$f":"ROUND(I146*L146,2)","v":0},{"$f":"ROUND(L146/G146,2)","v":0}]
[null,"Thin, dill hamburger slices:  3000 count.  First Quality.","Mt Olive  (3072)",55506,null,"1/5g",5,null,{"$f":"ROUND($H$146*$G$146/G147,2)","v":10},"Cs",null,{"$f":"IF(OR(ISBLANK(K147),K147=0,H146=0,ISBLANK(H146)),,ROUND(K147+$L$3,2))","v":0},{"$f":"ROUND(L147*I147,2)","v":0},{"$f":"ROUND(L147/G147,2)","v":0}]
[null,null,"Bay Valley Foods (Cates)  (1420-1780 chips/5 gal)",952278,null,"1/5g",5,null,{"$f":"ROUND($H$146*$G$146/G148,2)","v":10},"Cs",null,{"$f":"IF(OR(ISBLANK(K148),K148=0,H146=0,ISBLANK(H146)),,ROUND(K148+$L$3,2))","v":0},{"$f":"ROUND(L148*I148,2)","v":0},{"$f":"ROUND(L148/G148,2)","v":0}]
[]
[36046,"Pickles, Dill Strips, 6/#10","Vlasic ",40800,null,"6/#10",6,101,{"$f":"ROUND(H150*G150/G150,2)","v":101},"Cs",null,{"$f":"IF(OR(ISBLANK(K150),K150=0,H150=0,ISBLANK(H150)),,ROUND(K150+$L$3,2))","v":0},{"$f":"ROUND(I150*L150,2)","v":0},{"$f":"ROUND(L150/G150,2)","v":0}]
[null,"US Grade A, Fancy, Kosher Style, First Quality","Bay Valley (74-100) ",981495,null,"6/#10",6,null,{"$f":"ROUND($H$150*$G$150/G151,2)","v":101},"Cs",null,{"$f":"IF(OR(ISBLANK(K151),K151=0,H150=0,ISBLANK(H150)),,ROUND(K151+$L$3,2))","v":0},{"$f":"ROUND(L151*I151,2)","v":0},{"$f":"ROUND(L151/G151,2)","v":0}]
[null,null,"Heinz (70-78) ",130006383000,null,"6/#10",6,null,{"$f":"ROUND($H$150*$G$150/G152,2)","v":101},"Cs",null,{"$f":"IF(OR(ISBLANK(K152),K152=0,H150=0,ISBLANK(H150)),,ROUND(K152+$L$3,2))","v":0},{"$f":"ROUND(L152*I152,2)","v":0},{"$f":"ROUND(L152/G152,2)","v":0}]
[]
[36047,"Pickles, Dill Strips, 5 gallon, Refrigerated ","Big Valley (Schwartz) (375-425/gal)",2965501,null,"1/5g",5,null,{"$f":"ROUND(H154*G154/G154,2)","v":0},"Cs",null,{"$f":"IF(OR(ISBLANK(K154),K154=0,H154=0,ISBLANK(H154)),,ROUND(K154+$L$3,2))","v":0},{"$f":"ROUND(I154*L154,2)","v":0},{"$f":"ROUND(L154/G154,2)","v":0}]
[null,"US Grade A, Fancy, Kosher style.  First Quality ","Bay Valley Foods (Cates) (275-325/gal)",961521,null,"1/5g",5,null,{"$f":"ROUND($H$154*$G$154/G155,2)","v":0},"Cs",null,{"$f":"IF(OR(ISBLANK(K155),K155=0,H154=0,ISBLANK(H154)),,ROUND(K155+$L$3,2))","v":0},{"$f":"ROUND(L155*I155,2)","v":0},{"$f":"ROUND(L155/G155,2)","v":0}]
[]
[36048,"Rice, Parboiled, long grain, enriched, fancy grade. ","Distributor Choice",null,null,"25Lb",25,50,{"$f":"ROUND(H157*G157/G157,2)","v":50},"Cs"]
[null,"Must meet Federal Standards, Specification SSD-S-315 ","Fillable txt box ",null,null,null,null,null,{"$f":"ROUND(H157*G157/G158,2)","v":{"$error":"#DIV/0!"}},"Cs",null,{"$f":"IF(OR(ISBLANK(K158),K158=0,H157=0,ISBLANK(H157)),,ROUND(K158+$L$3,2))","v":0},{"$f":"ROUND(I158*L158,2)","v":{"$error":"#DIV/0!"}},{"$f":"ROUND(L158/G158,2)","v":{"$error":"#DIV/0!"}}]
[36049,"Rice, Brown"," Uncle Ben's ",12111,null,"25Lb",25,50,{"$f":"ROUND(H159*G159/G159,2)","v":50},"Cs",null,{"$f":"IF(OR(ISBLANK(K159),K159=0,H159=0,ISBLANK(H159)),,ROUND(K159+$L$3,2))","v":0},{"$f":"ROUND(I159*L159,2)","v":0},{"$f":"ROUND(L159/G159,2)","v":0}]
[null,"Long grain, parboiled.   US#1"]
[]
[36050,"Sauce, Barbecue, Tomato Base","Cattleman's (St. Louis Original) ",5316,null,"4/1g",4,20,{"$f":"ROUND(H162*G162/G162,2)","v":20},"Cs",null,{"$f":"IF(OR(ISBLANK(K162),K162=0,H162=0,ISBLANK(H162)),,ROUND(K162+$L$3,2))","v":0},{"$f":"ROUND(I162*L162,2)","v":0},{"$f":"ROUND(L162/G162,2)","v":0}]
[null,"Full strength, salt, tomato puree, vinegar, sugar,","Heinz ",130005371000,null,"4/1g",4,null,{"$f":"ROUND($H$162*$G$162/G163,2)","v":20},"Cs",null,{"$f":"IF(OR(ISBLANK(K163),K163=0,H162=0,ISBLANK(H162)),,ROUND(K163+$L$3,2))","v":0},{"$f":"ROUND(L163*I163,2)","v":0},0]
[null,"mustard bran, spices, natural flavors.","Southern Classic ",78207310,null,"4/1g",4,null,{"$f":"ROUND($H$162*$G$162/G164,2)","v":20},"Cs",null,{"$f":"IF(OR(ISBLANK(K164),K164=0,H162=0,ISBLANK(H162)),,ROUND(K164+$L$3,2))","v":0},{"$f":"ROUND(L164*I164,2)","v":0},0]
[null,"Must meet Federal Standards ","CF Sauer Dukes ",6498,null,"4/1g",4,null,{"$f":"ROUND($H$162*$G$162/G165,2)","v":20},"Cs",null,{"$f":"IF(OR(ISBLANK(K165),K165=0,H162=0,ISBLANK(H162)),,ROUND(K165+$L$3,2))","v":0},{"$f":"ROUND(L165*I165,2)","v":0},0]
[36051,"Sauce, Cheese Prepared","Chef Mate (Nestles) ",5048,null,"6/106z",636,null,{"$f":"ROUND(H166*G166/G166,2)","v":0},"Cs",null,{"$f":"IF(OR(ISBLANK(K166),K166=0,H166=0,ISBLANK(H166)),,ROUND(K166+$L$3,2))","v":0},{"$f":"ROUND(I166*L166,2)","v":0},0]
[null,null,"Gehl's ",5101,null,"4/140z",256,null,{"$f":"ROUND($H$166*$G$166/G167,2)","v":0},"Cs",null,{"$f":"IF(OR(ISBLANK(K167),K167=0,H166=0,ISBLANK(H166)),,ROUND(K167+$L$3,2))","v":0},{"$f":"ROUND(L167*I167,2)","v":0},0]
[null,null,"Bay Valley ",78370591170,null,"6/107z",642,null,{"$f":"ROUND($H$166*$G$166/G168,2)","v":0},"Cs",null,{"$f":"IF(OR(ISBLANK(K168),K168=0,H166=0,ISBLANK(H166)),,ROUND(K168+$L$3,2))","v":0},{"$f":"ROUND(L168*I168,2)","v":0},0]
[36052,"Sauce, Worcestershire","Distributor Choice",null,null,"4/1g",4,10,{"$f":"ROUND(H169*G169/G169,2)","v":10},"Cs"]
[null,"First Quality.  Must meet federal standards","Fillable txt box ",null,null,null,null,null,{"$f":"ROUND(H169*G169/G170,2)","v":{"$error":"#DIV/0!"}},"Cs",null,{"$f":"IF(OR(ISBLANK(K170),K170=0,H169=0,ISBLANK(H169)),,ROUND(K170+$L$3,2))","v":0},{"$f":"ROUND(I170*L170,2)","v":{"$error":"#DIV/0!"}},{"$f":"ROUND(L170/G170,2)","v":{"$error":"#DIV/0!"}}]
[36053,"Sauce, Soy","Distributor Choice",null,null,"4/1g",4,null,{"$f":"ROUND(H171*G171/G171,2)","v":0},"Cs"]
[null,"First Quality.  Must meet federal standards","Fillable txt box ",null,null,null,null,null,{"$f":"ROUND(H171*G171/G172,2)","v":{"$error":"#DIV/0!"}},"Cs",null,{"$f":"IF(OR(ISBLANK(K172),K172=0,H171=0,ISBLANK(H171)),,ROUND(K172+$L$3,2))","v":0},{"$f":"ROUND(I172*L172,2)","v":{"$error":"#DIV/0!"}},{"$f":"ROUND(L172/G172,2)","v":{"$error":"#DIV/0!"}}]
[36054,"Sauce, Teriyaki","Distributor Choice",null,null,"4/1g",4,null,{"$f":"ROUND($H$173*$G$173/G173,2)","v":0},"Cs"]
[null,"First Quality.  Must meet federal standards","Fillable txt box ",null,null,null,null,null,{"$f":"ROUND(H173*G173/G174,2)","v":{"$error":"#DIV/0!"}},"Cs",null,{"$f":"IF(OR(ISBLANK(K174),K174=0,H173=0,ISBLANK(H173)),,ROUND(K174+$L$3,2))","v":0},{"$f":"ROUND(I174*L174,2)","v":{"$error":"#DIV/0!"}},{"$f":"ROUND(L174/G174,2)","v":{"$error":"#DIV/0!"}}]
[36055,"Shortening, Liquid","Distributor Choice",null,null,"35 Lb",35,50,{"$f":"ROUND(H175*G175/G175,2)","v":50},"Cs"]
[null,"Deep Fry.  100% vegetable oil, anti-foam, agent added.  ","Fillable txt box ",null,null,null,null,null,{"$f":"ROUND(H175*G175/G176,2)","v":{"$error":"#DIV/0!"}},"Cs",null,{"$f":"IF(OR(ISBLANK(K176),K176=0,H175=0,ISBLANK(H175)),,ROUND(K176+$L$3,2))","v":0},{"$f":"ROUND(I176*L176,2)","v":{"$error":"#DIV/0!"}},{"$f":"ROUND(L176/G176,2)","v":{"$error":"#DIV/0!"}}]
[null,"Maximum fat content .05% "]
[36056,"Soup, Condensed, Cream of Chicken","Campbells ",1036,null,"12/50 z",12,20,{"$f":"ROUND(H178*G178/G178,2)","v":20},"Cs",null,{"$f":"IF(OR(ISBLANK(K178),H178=0,ISBLANK(H178)),,ROUND(K178+$L$3,2))","v":0},{"$f":"ROUND(I178*L178,2)","v":0},{"$f":"ROUND(L178/G178,2)","v":0}]
[null," "," "]
[]
[36057,"Sugar, Confectioners, 10X","Distributor Choice",null,null,"24/1Lb",24,10,{"$f":"ROUND(H181*G181/G181,2)","v":10},"Cs"]
[null,null,"Fillable txt box ",null,null,null,null,null,{"$f":"ROUND(H181*G181/G182,2)","v":{"$error":"#DIV/0!"}},"Cs",null,{"$f":"IF(OR(ISBLANK(K182),K182=0,H181=0,ISBLANK(H181)),,ROUND(K182+$L$3,2))","v":0},{"$f":"ROUND(I182*L182,2)","v":{"$error":"#DIV/0!"}},{"$f":"ROUND(L182/G182,2)","v":{"$error":"#DIV/0!"}}]
[36058,"Sugar, Granulated","Distributor Choice",null,null,"50Lb",50,100,{"$f":"ROUND(H183*G183/G183,2)","v":100},"Cs"]
[null,"Pure Cane, Extra fine, White ","Fillable txt box ",null,null,null,null,null,{"$f":"ROUND(H183*G183/G184,2)","v":{"$error":"#DIV/0!"}},"Cs",null,{"$f":"IF(OR(ISBLANK(K184),K184=0,H183=0,ISBLANK(H183)),,ROUND(K184+$L$3,2))","v":0},{"$f":"ROUND(I184*L184,2)","v":{"$error":"#DIV/0!"}},{"$f":"ROUND(L184/G184,2)","v":{"$error":"#DIV/0!"}}]
[36059,"Sugar, Light Brown","Distributor Choice",null,null,"24/1Lb",24,30,{"$f":"ROUND(H185*G185/G185,2)","v":30},"Cs"]
[null,null,"Fillable txt box ",null,null,null,null,null,{"$f":"ROUND(H185*G185/G186,2)","v":{"$error":"#DIV/0!"}},"Cs",null,{"$f":"IF(OR(ISBLANK(K186),K186=0,H185=0,ISBLANK(H185)),,ROUND(K186+$L$3,2))","v":0},{"$f":"ROUND(I186*L186,2)","v":{"$error":"#DIV/0!"}},{"$f":"ROUND(L186/G186,2)","v":{"$error":"#DIV/0!"}}]
[36060,"Hot Sauce Bulk","Bulliards",null,null,"4/1gal",64,null,{"$f":"ROUND(H187*G187/G187,2)","v":0},"Cs",null,{"$f":"IF(OR(ISBLANK(K187),H187=0,ISBLANK(H187)),,ROUND(K187+$L$3,2))","v":0},{"$f":"ROUND(I187*L187,2)","v":0},{"$f":"ROUND(L187/G187,2)","v":0}]
[]
[36062,"Tea Bags, Caffeinated","Distributor Choice",null,null,"24/3z",24,10,{"$f":"ROUND(H189*G189/G189,2)","v":10},"Cs"]
[null,"1 tea bag makes 3 gallon of tea","Fillable txt box ",null,null,null,0,null,{"$f":"ROUND(H189*G189/G190,2)","v":{"$error":"#DIV/0!"}},"Cs",null,{"$f":"IF(OR(ISBLANK(K190),K190=0,H189=0,ISBLANK(H189)),,ROUND(K190+$L$3,2))","v":0},{"$f":"ROUND(I190*L190,2)","v":{"$error":"#DIV/0!"}},{"$f":"ROUND(L190/G190,2)","v":{"$error":"#DIV/0!"}}]
[null,"`"]
[36063,"Vanilla Wafers, Made from enriched flour","Nabisco ",193200071800,null,"2/32z",4,20,{"$f":"ROUND(H192*G192/G192,2)","v":20},"Cs",null,{"$f":"IF(OR(ISBLANK(K192),K192=0,H192=0,ISBLANK(H192)),,ROUND(K192+$L$3,2))","v":0},{"$f":"ROUND(I192*L192,2)","v":0},{"$f":"ROUND(L192/G192,2)","v":0}]
[]
[null,"Whole wafers","Keebler ",40865,null,"6/13.3z",5,null,{"$f":"ROUND($H$192*$G$192/G194,2)","v":16},"Cs",null,{"$f":"IF(OR(ISBLANK(K194),H192=0,ISBLANK(H192)),,ROUND(K194+$L$3,2))","v":0},{"$f":"ROUND(L194*I194,2)","v":0},{"$f":"ROUND(L194/G194,2)","v":0}]
[36064,"Vinegar","Distributor Choice",null,null,"4/1g",4,10,{"$f":"ROUND(H195*G195/G195,2)","v":10},"Cs"]
[null,"Distilled white. 40 grains per gallon.  USDA extra standard","Fillable txt box ",null,null,null,null,null,{"$f":"ROUND(H195*G195/G196,2)","v":{"$error":"#DIV/0!"}},"Cs",null,{"$f":"IF(OR(ISBLANK(K196),K196=0,H195=0,ISBLANK(H195)),,ROUND(K196+$L$3,2))","v":0},{"$f":"ROUND(I196*L196,2)","v":{"$error":"#DIV/0!"}},{"$f":"ROUND(L196/G196,2)","v":{"$error":"#DIV/0!"}}]
[36065,"Whipped Topping, non-dairy product, frozen, RTU ","(06-07) Rich's  \"On Top\" ",2559,null,"12/1 Lb",12,10,{"$f":"ROUND(H197*G197/G197,2)","v":10},"Cs",null,{"$f":"IF(OR(ISBLANK(K197),K197=0,H197=0,ISBLANK(H197)),,ROUND(K197+$L$3,2))","v":0},{"$f":"ROUND(I197*L197,2)","v":0},{"$f":"ROUND(L197/G197,2)","v":0}]
[null,"Packaged in disposable \"pastry bags\" for easy application"]
[36066,"Yeast, Instant","SAF ",15909,null,"20/1 lb",20,null,{"$f":"ROUND(H199*G199/G199,2)","v":0},"Cs",null,{"$f":"IF(OR(ISBLANK(K199),K199=0,H199=0,ISBLANK(H199)),,ROUND(K199+$L$3,2))","v":0},{"$f":"ROUND(I199*L199,2)","v":0},{"$f":"ROUND(L199/G199,2)","v":0}]
[null,"Must be vaccum packed, dry","Fleishman's ",2139,null,"20/1 lb",20,null,{"$f":"ROUND(H199*G199/G200,2)","v":0},"Cs",0,{"$f":"IF(OR(ISBLANK(K200),K200=0,H199=0,ISBLANK(H199)),,ROUND(K200+$L$3,2))","v":0},{"$f":"ROUND(I200*L200,2)","v":0},{"$f":"ROUND(L200/G200,2)","v":0}]
[36067,"Sauce, Thai Style Chili","Kikkoman ",1546,null,"4/5.25 lbs",336,null,{"$f":"ROUND(H201*G201/G201,2)","v":0},"Cs",0,{"$f":"IF(OR(ISBLANK(K201),K201=0,H201=0,ISBLANK(H201)),,ROUND(K201+$L$3,2))","v":0},{"$f":"ROUND(I201*L201,2)","v":0},{"$f":"ROUND(L201/G201,2)","v":0}]
[null,"Dipping sauce, topping sauce, marinade"," ",null,null," "," ",null," "," "," "," "," ","  "]
[360068]
[]
[]
[]
[null,null,null,null,null,null,null,null,null,"Page Total",null,null,{"$f":"SUMIF(M4:M206,\">0\")","v":0}]

{"sheet":"Frz Vegetables","index":22,"n_rows":68,"n_cols":14,"rows_kept":68,"cut":false,"hidden":false,"merged":[[0,5,0,13],[1,5,1,13],[2,6,2,10]]}
[null,{"$f":"'Recap Sheet'!A2","v":"School Food Authority or Agency Name:"},null,null,null,{"$f":"'Recap Sheet'!A3","v":"Bidder's Name:"}]
[38001,{"$f":"'Recap Sheet'!B2","v":"Marion County School District"},"Return to Recap Sheet",null,null,{"$f":"'Recap Sheet'!B3","v":0}]
[40000,"Description","Approved",null,null,null,"Firm Fixed Fee",null,null,null,null,{"$f":"'Recap Sheet'!B4","v":0}]
["SCPA",null,"Brand Name","Manufacturers","Distributor","Vendor","Svgs","Est.","Bid ","Bid","Unit","Unit Price","Total ","Cost per"]
[" Code",null,"or Manufacturer","Code","Code","Pack","per unit","Bid Qty","Qty","Unit","Price","plus Fee","Price","Unit"]
[null,"Frozen Vegetables"]
[]
[38001,"Beans, Green, IQF (No Imports)","Distributor Choice",null,null,"20Lb",20,50,{"$f":"ROUND($H$8*$G$8/G8,2)","v":50},"Cs"]
[null,"Grade A, Min. score 90 or above pieces to be 1\" in length and 4 sieve in dia","Fillable txt box or unprotected",null,null,null,null,null,{"$f":"ROUND(H8*G8/G9,2)","v":{"$error":"#DIV/0!"}},"Cs",null,{"$f":"IF(OR(ISBLANK(K9),K9=0,H8=0,ISBLANK(H8)),,ROUND(K9+$L$3,2))","v":0},{"$f":"ROUND(I9*L9,2)","v":{"$error":"#DIV/0!"}},{"$f":"ROUND(L9/G9,2)","v":{"$error":"#DIV/0!"}}]
[38002,"Beans. Lima (No Imports)","Distributor Choice",null,null,"20Lb",20,50,{"$f":"ROUND(H10*G10/G10,2)","v":50},"Cs"]
[null,"Small Baby lima.  Grade A fancy.  Must be certified ","Fillable txt box or unprotected",null,null,null,null,null,{"$f":"ROUND(H10*G10/G11,2)","v":{"$error":"#DIV/0!"}},"Cs",null,{"$f":"IF(OR(ISBLANK(K11),K11=0,H10=0,ISBLANK(H10)),,ROUND(K11+$L$3,2))","v":0},{"$f":"ROUND(I11*L11,2)","v":{"$error":"#DIV/0!"}},{"$f":"ROUND(L11/G11,2)","v":{"$error":"#DIV/0!"}}]
[null,"Frozen. 20Lb IQF unit. Miinimum score 90 or above "]
[38003,"Broccoli Florets (No Imports)","Distributor Choice",null,null,"12/2Lb",24,100,{"$f":"ROUND(H13*G13/G13,2)","v":100},"Cs"]
[null,"Grade A fancy.  Frozen.  Minimum score 90 or above. ","Fillable txt box or unprotected",null,null,null,null,null,{"$f":"ROUND(H13*G13/G14,2)","v":{"$error":"#DIV/0!"}},"Cs",null,{"$f":"IF(OR(ISBLANK(K14),K14=0,H13=0,ISBLANK(H13)),,ROUND(K14+$L$3,2))","v":0},{"$f":"ROUND(I14*L14,2)","v":{"$error":"#DIV/0!"}},{"$f":"ROUND(L14/G14,2)","v":{"$error":"#DIV/0!"}}]
[38004,"Broccoli Medley,  Broccoli, Cauliflower and Carrots (No Imports) ","Distributor Choice",null,null,"24Lb",24,null,{"$f":"ROUND(H15*G15/G15,2)","v":0},"Cs"]
[null,"Grade A Fancy.  Minimum score 90 or above. ","Fillable txt box or unprotected",null,null,null,null,null,{"$f":"ROUND(H15*G15/G16,2)","v":{"$error":"#DIV/0!"}},"Cs",null,{"$f":"IF(OR(ISBLANK(K16),K16=0,H15=0,ISBLANK(H15)),,ROUND(K16+$L$3,2))","v":0},{"$f":"ROUND(I16*L16,2)","v":{"$error":"#DIV/0!"}},{"$f":"ROUND(L16/G16,2)","v":{"$error":"#DIV/0!"}}]
[38005,"Broccoli Spears (No Imports)","Distributor Choice",null,null,"12/2Lb",24,null,{"$f":"ROUND(H17*G17/G17,2)","v":0},"Cs"]
[null,"US Grade A Fancy. Minimum score 90 or above.","Fillable txt box or unprotected",null,null,null,null,null,{"$f":"ROUND(H17*G17/G18,2)","v":{"$error":"#DIV/0!"}},"Cs",null,{"$f":"IF(OR(ISBLANK(K18),K18=0,H17=0,ISBLANK(H17)),,ROUND(K18+$L$3,2))","v":0},{"$f":"ROUND(I18*L18,2)","v":{"$error":"#DIV/0!"}},{"$f":"ROUND(L18/G18,2)","v":{"$error":"#DIV/0!"}}]
[null,"  Spears 5\" average length.    18-26 Spears per 2# bag."]
[38006,"Carrots, Sliced (No Imports)","Distributor Choice",null,null,"20Lb",20,10,{"$f":"ROUND(H20*G20/G20,2)","v":10},"Cs"]
[null,"US Grade A Fancy.  Frozen.  Minimum score 90 or above.  ","Fillable txt box or unprotected",null,null,null,null,null,{"$f":"ROUND(H20*G20/G21,2)","v":{"$error":"#DIV/0!"}},"Cs",null,{"$f":"IF(OR(ISBLANK(K21),K21=0,H20=0,ISBLANK(H20)),,ROUND(K21+$L$3,2))","v":0},{"$f":"ROUND(I21*L21,2)","v":{"$error":"#DIV/0!"}},{"$f":"ROUND(L21/G21,2)","v":{"$error":"#DIV/0!"}}]
[38007,"Corn, Cut (No Imports)","Distributor Choice",null,null,"20Lb",20,50,{"$f":"ROUND(H22*G22/G22,2)","v":50},"Cs"]
[null,"US Grade A Fancy.  Yellow Corn.  Minimum score 90 or above. (No Imports)","Fillable txt box or unprotected",null,null,null,null,null,{"$f":"ROUND(H22*G22/G23,2)","v":{"$error":"#DIV/0!"}},"Cs",null,{"$f":"IF(OR(ISBLANK(K23),K23=0,H22=0,ISBLANK(H22)),,ROUND(K23+$L$3,2))","v":0},{"$f":"ROUND(I23*L23,2)","v":{"$error":"#DIV/0!"}},{"$f":"ROUND(L23/G23,2)","v":{"$error":"#DIV/0!"}}]
[38008,"Corn on the Cob (No Imports)","Distributor Choice",null,null,"96 Ct",96,50,{"$f":"ROUND(H24*G24/G24,2)","v":50},"Cs"]
[null,"Cobbett, Grade A, Fancy.  Minimum score 90 or above. .  Yellow whole","Fillable txt box or unprotected",null,null,null,null,null,{"$f":"ROUND(H24*G24/G25,2)","v":{"$error":"#DIV/0!"}},"Cs",null,{"$f":"IF(OR(ISBLANK(K25),K25=0,H24=0,ISBLANK(H24)),,ROUND(K25+$L$3,2))","v":0},{"$f":"ROUND(I25*L25,2)","v":{"$error":"#DIV/0!"}},{"$f":"ROUND(L25/G25,2)","v":{"$error":"#DIV/0!"}}]
[null,"kernel. Approximately 3 inches long, no ends. "]
[]
[38009,"Okra, Breaded   Pre-cooked Oven Ready,   (No Imports)            WGR","Tasty Brand  ",33500,null,"6/5Lb",150,65,{"$f":"ROUND(H28*G28/G28,2)","v":65},"Cs",null,{"$f":"IF(OR(ISBLANK(K28),K28=0,H27=0,ISBLANK(H27)),,ROUND(K28+$L$3,2))","v":0},{"$f":"ROUND(I28*L28,2)","v":0},{"$f":"ROUND(L28/G28,2)","v":0}]
[null,"US Grade A, Minimum score 90 or above. One serving (17) meets 1 oz OEG"]
[null,"and 1/4 c other vegetable for Child Nutrition Meal Pattern Requirements."]
[38010,"Okra, Cut (No Imports)","Distributor Choice",null,null,"20Lb",20,10,{"$f":"ROUND(H31*G31/G31,2)","v":10},"Cs"]
[null,"Minimum score 90 or above.  IQF, Cut in 1/2\" slices ","Fillable txt box or unprotected",null,null,null,null,null,{"$f":"ROUND(H31*G31/G32,2)","v":{"$error":"#DIV/0!"}},"Cs",null,{"$f":"IF(OR(ISBLANK(K32),K32=0,H31=0,ISBLANK(H31)),,ROUND(K32+$L$3,2))","v":0},{"$f":"ROUND(I32*L32,2)","v":{"$error":"#DIV/0!"}},{"$f":"ROUND(L32/G32,2)","v":{"$error":"#DIV/0!"}}]
[38011,"Onions, Diced (No Imports)","Distributor Choice",null,null,"6/2Lb",12,null,{"$f":"ROUND(H33*G33/G33,2)","v":0},"Cs"]
[null,"3/8\"x3/8\" dice ","Fillable txt box or unprotected",null,null,null,null,null,{"$f":"ROUND(H33*G33/G34,2)","v":{"$error":"#DIV/0!"}},"Cs",null,{"$f":"IF(OR(ISBLANK(K34),K34=0,H33=0,ISBLANK(H33)),,ROUND(K34+$L$3,2))","v":0},{"$f":"ROUND(I34*L34,2)","v":{"$error":"#DIV/0!"}},{"$f":"ROUND(L34/G34,2)","v":{"$error":"#DIV/0!"}}]
[38012,"Peas, Black-eyed (No Imports)","Distributor Choice",null,null,"20Lb",20,null,{"$f":"ROUND($H$35*G35/G35,2)","v":0},"Cs"]
[null,"Minimum score 90 or above. , Frozen, IQF ","Fillable txt box or unprotected",null,null,null,null,null,{"$f":"ROUND(H35*G35/G36,2)","v":{"$error":"#DIV/0!"}},"Cs",null,{"$f":"IF(OR(ISBLANK(K36),K36=0,H35=0,ISBLANK(H35)),,ROUND(K36+$L$3,2))","v":0},{"$f":"ROUND(I36*L36,2)","v":{"$error":"#DIV/0!"}},{"$f":"ROUND(L36/G36,2)","v":{"$error":"#DIV/0!"}}]
[38013,"Peas, Field (No Imports)","Distributor Choice",null,null,"36Lb",36,28,{"$f":"ROUND(H37*G37/G37,2)","v":28},"Cs"]
[null,"Minimum score 90 or above. , Frozen, IQF ","Fillable txt box or unprotected",null,null,null,null,null,{"$f":"ROUND(H37*G37/G38,2)","v":{"$error":"#DIV/0!"}},"Cs",null,{"$f":"IF(OR(ISBLANK(K38),K38=0,H37=0,ISBLANK(H37)),,ROUND(K38+$L$3,2))","v":0},{"$f":"ROUND(I38*L38,2)","v":{"$error":"#DIV/0!"}},{"$f":"ROUND(L38/G38,2)","v":{"$error":"#DIV/0!"}}]
[38014,"Peas, Green (No Imports)","Distributor Choice",null,null,"20Lb",20,150,{"$f":"ROUND(H39*G39/G39,2)","v":150},"Cs"]
[null,"Minimum score 90 or above. , Frozen, IQF ","Fillable txt box or unprotected",null,null,null,null,null,{"$f":"ROUND(H39*G39/G40,2)","v":{"$error":"#DIV/0!"}},"Cs",null,{"$f":"IF(OR(ISBLANK(K40),K40=0,H39=0,ISBLANK(H39)),,ROUND(K40+$L$3,2))","v":0},{"$f":"ROUND(I40*L40,2)","v":{"$error":"#DIV/0!"}},{"$f":"ROUND(L40/G40,2)","v":{"$error":"#DIV/0!"}}]
[38015,"Peas and Carrots, Grade A, Min. score 90 or above. (No Imports)","Distributor Choice",null,null,"20Lb",20,20,{"$f":"ROUND(H41*G41/G41,2)","v":20},"Cs"]
[null,"60% Peas and 40% carrots, Peas 2-4 sieve, carrots 3/8\" dice","Fillable txt box or unprotected",null,null,null,null,null,{"$f":"ROUND(H41*G41/G42,2)","v":{"$error":"#DIV/0!"}},"Cs",null,{"$f":"IF(OR(ISBLANK(K42),K42=0,H41=0,ISBLANK(H41)),,ROUND(K42+$L$3,2))","v":0},{"$f":"ROUND(I42*L42,2)","v":{"$error":"#DIV/0!"}},{"$f":"ROUND(L42/G42,2)","v":{"$error":"#DIV/0!"}}]
[38016,"Pepper, Bell Diced (No Imports)","Distributor Choice",null,null,"12/2Lb",24,20,{"$f":"ROUND(H43*G43/G43,2)","v":20},"Cs"]
[null,"Minimum score 90 or above. Frozen. ","Fillable txt box or unprotected",null,null,null,null,null,{"$f":"ROUND(H43*G43/G44,2)","v":{"$error":"#DIV/0!"}},"Cs",null,{"$f":"IF(OR(ISBLANK(K44),K44=0,H43=0,ISBLANK(H43)),,ROUND(K44+$L$3,2))","v":0},{"$f":"ROUND(I44*L44,2)","v":{"$error":"#DIV/0!"}},{"$f":"ROUND(L44/G44,2)","v":{"$error":"#DIV/0!"}}]
[38017,"Squash, Yellow, Sliced (No Imports) ","Distributor Choice",null,null,"20Lb",20,null,{"$f":"ROUND($H$45*$G$45/G45,2)","v":0},"Cs"]
[null,"Minimum score 90 or above. , Frozen, IQF ","Fillable txt box or unprotected",null,null,null,null,null,{"$f":"ROUND(H45*G45/G46,2)","v":{"$error":"#DIV/0!"}},"Cs",null,{"$f":"IF(OR(ISBLANK(K46),K46=0,H45=0,ISBLANK(H45)),,ROUND(K46+$L$3,2))","v":0},{"$f":"ROUND(I46*L46,2)","v":{"$error":"#DIV/0!"}},{"$f":"ROUND(L46/G46,2)","v":{"$error":"#DIV/0!"}}]
[38018,"Sweet Potato Pattie (No Imports)","Distributor Choice",null,null,"224/1.5",224,176,{"$f":"ROUND(H47*G47/G47,2)","v":176},"Cs"]
[null,"Domestic sweet potatoes.  No peels or stems.  IQF. Fully cooked. ","Fillable txt box or unprotected",null,null,null,null,150,{"$f":"ROUND(H47*G47/G48,2)","v":{"$error":"#DIV/0!"}},"Cs",null,{"$f":"IF(OR(ISBLANK(K48),K48=0,H47=0,ISBLANK(H47)),,ROUND(K48+$L$3,2))","v":0},{"$f":"ROUND(I48*L48,2)","v":{"$error":"#DIV/0!"}},{"$f":"ROUND(L48/G48,2)","v":{"$error":"#DIV/0!"}}]
[38019,"Turnip Greens, Chopped (No Imports)","Distributor Choice",null,null,"36Lb",36,50,{"$f":"ROUND($H$49*$G$49/G49,2)","v":50},"Cs"]
[null,"Minimum score 90 or above. , Grade A , Frozen ","Fillable txt box or unprotected",null,null,null,null,null,{"$f":"ROUND(H49*G49/G50,2)","v":{"$error":"#DIV/0!"}},"Cs",null,{"$f":"IF(OR(ISBLANK(K50),H49=0,ISBLANK(H49)),,ROUND(K50+$L$3,2))","v":0},{"$f":"ROUND(I50*L50,2)","v":{"$error":"#DIV/0!"}},{"$f":"ROUND(L50/G50,2)","v":{"$error":"#DIV/0!"}}]
[38020,"Collard Greens, Chopped (No Imports)","Distributor Choice",null,null,"36Lb",36,20,{"$f":"ROUND(H51*G51/G51,2)","v":20},"Cs",null,{"$f":"IF(OR(ISBLANK(K51),K51=0,H50=0,ISBLANK(H50)),,ROUND(K51+$L$3,2))","v":0}]
[null,"US Grade A , Frozen  Minimum score 90 or above ","Fillable txt box or unprotected",null,null,null,null,null,{"$f":"ROUND(H51*G51/G52,2)","v":{"$error":"#DIV/0!"}},"Cs",null,{"$f":"IF(OR(ISBLANK(K52),K52=0,H51=0,ISBLANK(H51)),,ROUND(K52+$L$3,2))","v":0},{"$f":"ROUND(I52*L52,2)","v":{"$error":"#DIV/0!"}},{"$f":"ROUND(L52/G52,2)","v":{"$error":"#DIV/0!"}}]
[38021,"Kale Greens, Chopped (No Imports)","Distributor Choice",null,null,"20Lb",20,null,{"$f":"ROUND($H$53*$G$53/G53,2)","v":0},"Cs "]
[null,"US Grade A , Frozen  Minimum score 90 or above ","Fillable txt box or unprotected",null,null,null,null,null,{"$f":"ROUND(H53*G53/G54,2)","v":{"$error":"#DIV/0!"}},"Cs",null,{"$f":"IF(OR(ISBLANK(K54),K54=0,H53=0,ISBLANK(H53)),,ROUND(K54+$L$3,2))","v":0},{"$f":"ROUND(I54*L54,2)","v":{"$error":"#DIV/0!"}},{"$f":"ROUND(L54/G54,2)","v":{"$error":"#DIV/0!"}}]
[38022,"Spinach, Chopped (No Imports)","Distributor Choice",null,null,"20Lb",20,null,{"$f":"ROUND($H$55*$G$55/G55,2)","v":0},"Cs"]
[null,"US Grade A , Frozen  Minimum score 90 or above ","Fillable txt box or unprotected",null,null,null,null,null,{"$f":"ROUND(H55*G55/G56,2)","v":{"$error":"#DIV/0!"}},"Cs",null,{"$f":"IF(OR(ISBLANK(K56),K56=0,H55=0,ISBLANK(H55)),,ROUND(K56+$L$3,2))","v":0},{"$f":"ROUND(I56*L56,2)","v":{"$error":"#DIV/0!"}},{"$f":"ROUND(L56/G56,2)","v":{"$error":"#DIV/0!"}}]
[38023,"Vegetables, Mixed (No Imports)","Distributor Choice",null,null,"20Lb",20,20,{"$f":"ROUND(H57*G57/G57,2)","v":20},"Cs"]
[null,"US Grade A.  Fancy.  IQF      4 or 5 Vegetable Mix of:","Fillable txt box or unprotected",null,null,null,null,null,{"$f":"ROUND(H57*G57/G58,2)","v":{"$error":"#DIV/0!"}},"Cs",null,{"$f":"IF(OR(ISBLANK(K58),K58=0,H57=0,ISBLANK(H57)),,ROUND(K58+$L$3,2))","v":0},{"$f":"ROUND(I58*L58,2)","v":{"$error":"#DIV/0!"}},{"$f":"ROUND(L58/G58,2)","v":{"$error":"#DIV/0!"}}]
[null,"1.  Beans, Wax or Green, cut; 2.  Beans, Limas; 3.  Carrots, Diced"]
[null,"4.  Corn, Golden whole kernel; 5.  Peas, Early or Sweet"]
[null,"All vegetables should have good color for the variety and type used."]
[38024,"Vegetables, Oriental (No Imports)","Distributor Choice",null,null,"12/2Lb",24,20,{"$f":"ROUND(H62*G62/G62,2)","v":20},"Cs"]
[null,"40% French cut beans;  18-20% onions; 5% mushrooms.   Grade A Fancy.  IQF ","Fillable txt box or unprotected",null,null,null,null,null,{"$f":"ROUND(H62*G62/G63,2)","v":{"$error":"#DIV/0!"}},"Cs",null,{"$f":"IF(OR(ISBLANK(K63),K63=0,H62=0,ISBLANK(H62)),,ROUND(K63+$L$3,2))","v":0},{"$f":"ROUND(I63*L63,2)","v":{"$error":"#DIV/0!"}},{"$f":"ROUND(L63/G63,2)","v":{"$error":"#DIV/0!"}}]
[38025,"Vegetable Soup Mix (No Imports)","Distributor Choice",null,null,"20Lb",20,20,{"$f":"ROUND(H64*G64/G64,2)","v":20},"Cs"]
[null,"Grade A Fancy.  IQF Nine Vegetable mix of okra, lima beans, whole kernel ","Fillable txt box or unprotected",null,null,null,null,null,{"$f":"ROUND(H64*G64/G65,2)","v":{"$error":"#DIV/0!"}},"Cs",null,{"$f":"IF(OR(ISBLANK(K65),K65=0,H64=0,ISBLANK(H64)),,ROUND(K65+$L$3,2))","v":0},{"$f":"ROUND(I65*L65,2)","v":{"$error":"#DIV/0!"}},{"$f":"ROUND(L65/G65,2)","v":{"$error":"#DIV/0!"}}]
[null," corn, celery, onions, diced carrots, diced potatoes, green beans and "]
[null,"green peas."]
[null,null,null,null,null,null,null,null,null,"Page Total",null,null,{"$f":"SUMIF(M6:M67,\">0\")","v":0}]

{"sheet":"Spices- Flavorings","index":23,"n_rows":157,"n_cols":14,"rows_kept":157,"cut":false,"hidden":false,"merged":[[0,5,0,13],[1,5,1,13],[2,6,2,10]]}
[null,{"$f":"'Recap Sheet'!A2","v":"School Food Authority or Agency Name:"},null,null,null,{"$f":"'Recap Sheet'!A3","v":"Bidder's Name:"}]
[40001,{"$f":"'Recap Sheet'!B2","v":"Marion County School District"},"Return to Recap Sheet",null,null,{"$f":"'Recap Sheet'!B3","v":0}]
[42000,"Description","Approved",null,null,null,"Firm Fixed Fee",null,null,null,null,{"$f":"'Recap Sheet'!B4","v":0}]
["SCPA",null,"Brand Name","Manufacturers","Distributor","Vendor","Svgs","Est.","Bid ","Bid","Unit","Unit Price","Total ","Cost per"]
[" Code",null,"or Manufacturer","Code","Code","Pack","per unit","Bid Qty","Qty","Unit","Price","plus Fee","Price","Unit"]
[null,"Spices and Flavorings"]
[]
[null,"Spices should be made from the true aromatic vegetable substance, from which no portion of any volatile or other flavoring principles has"]
[null," been removed and shall be free from artificial coloring, exhausted spices, adulterates, and impurities.  The aroma and characteristic "]
[null," qualities shall be true to the name."]
[]
[40001,"Basil","McCormick ",null,null,"5z",18,10,{"$f":"ROUND(H12*G12/G12,2)","v":10},"ea",null,{"$f":"IF(OR(ISBLANK(K12),K12=0,H12=0,ISBLANK(H12)),,ROUND(K12+$L$3,2))","v":0},{"$f":"ROUND(I12*L12,2)","v":0},{"$f":"ROUND(L12/G12,2)","v":0}]
[null,"Grade A ","Sauers ",null,null,null,16,null,{"$f":"ROUND($H$12*$G$12/G13,2)","v":11.25},"ea",null,{"$f":"IF(OR(ISBLANK(K13),K13=0,H12=0,ISBLANK(H12)),,ROUND(K13+$L$3,2))","v":0},{"$f":"ROUND(L13*I13,2)","v":0},0]
[null,null,"Durkee 2003956",null,null,"12z",16,null,{"$f":"ROUND($H$12*$G$12/G14,2)","v":11.25},"ea",null,{"$f":"IF(OR(ISBLANK(K14),K14=0,H12=0,ISBLANK(H12)),,ROUND(K14+$L$3,2))","v":0},{"$f":"ROUND(L14*I14,2)","v":0},0]
[null,null,"Tones ",null,null,null,18,null,{"$f":"ROUND($H$12*$G$12/G15,2)","v":10},"ea",null,{"$f":"IF(OR(ISBLANK(K15),K15=0,H12=0,ISBLANK(H12)),,ROUND(K15+$L$3,2))","v":0},{"$f":"ROUND(L15*I15,2)","v":0},0]
[40002,"Chili Powder","McCormick 932408 ",null,null,"18z",18,10,{"$f":"ROUND(H16*G16/G16,2)","v":10},"ea",null,{"$f":"IF(OR(ISBLANK(K16),K16=0,H16=0,ISBLANK(H16)),,ROUND(K16+$L$3,2))","v":0},{"$f":"ROUND(I16*L16,2)","v":0},{"$f":"ROUND(L16/G16,2)","v":0}]
[null,"Grade A ","Sauers 01046",null,null,"16z",16,null,{"$f":"ROUND($H$16*$G$16/G17,2)","v":11.25},"ea",null,{"$f":"IF(OR(ISBLANK(K17),K17=0,H16=0,ISBLANK(H16)),,ROUND(K17+$L$3,2))","v":0},{"$f":"ROUND(L17*I17,2)","v":0},0]
[null,null,"Durkee 54170",null,null,"16z",16,null,{"$f":"ROUND($H$16*$G$16/G18,2)","v":11.25},"ea",null,{"$f":"IF(OR(ISBLANK(K18),K18=0,H16=0,ISBLANK(H16)),,ROUND(K18+$L$3,2))","v":0},{"$f":"ROUND(L18*I18,2)","v":0},0]
[null,null,"Tones 91037",null,null,"18z",18,null,{"$f":"ROUND($H$16*$G$16/G19,2)","v":10},"ea",null,{"$f":"IF(OR(ISBLANK(K19),K19=0,H16=0,ISBLANK(H16)),,ROUND(K19+$L$3,2))","v":0},{"$f":"ROUND(L19*I19,2)","v":0},0]
[40003,"Cinnamon","McCormick  900223208",null,null,"18z",18,10,{"$f":"ROUND(H20*G20/G20,2)","v":10},"ea",null,{"$f":"IF(OR(ISBLANK(K20),K20=0,H20=0,ISBLANK(H20)),,ROUND(K20+$L$3,2))","v":0},{"$f":"ROUND(I20*L20,2)","v":0},0]
[null,"Ground, Grade A","Sauers 01051",null,null,"16 z",16,null,{"$f":"ROUND($H$20*$G$20/G21,2)","v":11.25},"ea",null,{"$f":"IF(OR(ISBLANK(K21),K21=0,H20=0,ISBLANK(H20)),,ROUND(K21+$L$3,2))","v":0},{"$f":"ROUND(L21*I21,2)","v":0},0]
[null,null,"Durkee 54963",null,null,"15z",15,null,{"$f":"ROUND($H$20*$G$20/G22,2)","v":12},"ea",null,{"$f":"IF(OR(ISBLANK(K22),K22=0,H20=0,ISBLANK(H20)),,ROUND(K22+$L$3,2))","v":0},{"$f":"ROUND(L22*I22,2)","v":0},0]
[null,null,"Tones 91356",null,null,"16z",16,null,{"$f":"ROUND($H$20*$G$20/G23,2)","v":11.25},"ea",null,{"$f":"IF(OR(ISBLANK(K23),K23=0,H20=0,ISBLANK(H20)),,ROUND(K23+$L$3,2))","v":0},{"$f":"ROUND(L23*I23,2)","v":0},0]
[40004,"Cloves, Ground","McCormick    932411",null,null,"16z",16,null,{"$f":"ROUND(H24*G24/G24,2)","v":0},"ea",null,{"$f":"IF(OR(ISBLANK(K24),K24=0,H24=0,ISBLANK(H24)),,ROUND(K24+$L$3,2))","v":0},{"$f":"ROUND(I24*L24,2)","v":0},0]
[null,"Grade A","Sauers 01086",null,null,"16z",16,null,{"$f":"ROUND($H$24*$G$24/G25,2)","v":0},"ea",null,{"$f":"IF(OR(ISBLANK(K25),K25=0,H24=0,ISBLANK(H24)),,ROUND(K25+$L$3,2))","v":0},{"$f":"ROUND(L25*I25,2)","v":0},0]
[null,null,"Durkee 54240",null,null,"16z",16,null,{"$f":"ROUND($H$24*$G$24/G26,2)","v":0},"ea",null,{"$f":"IF(OR(ISBLANK(K26),K26=0,H24=0,ISBLANK(H24)),,ROUND(K26+$L$3,2))","v":0},{"$f":"ROUND(L26*I26,2)","v":0},0]
[null,null,"Tones 913594",null,null,"16z",16,null,{"$f":"ROUND($H$24*$G$24/G27,2)","v":0},"ea",null,{"$f":"IF(OR(ISBLANK(K27),K27=0,H24=0,ISBLANK(H24)),,ROUND(K27+$L$3,2))","v":0},{"$f":"ROUND(L27*I27,2)","v":0},0]
[40005,"Cumin, Ground","McCormick   900223190",null,null,"14z",14,10,{"$f":"ROUND(H28*G28/G28,2)","v":10},"ea",null,{"$f":"IF(OR(ISBLANK(K28),K28=0,H28=0,ISBLANK(H28)),,ROUND(K28+$L$3,2))","v":0},{"$f":"ROUND(I28*L28,2)","v":0},0]
[null,"Grade A","Sauers 01106",null,null,"16z",16,null,{"$f":"ROUND($H$28*$G$28/G29,2)","v":8.75},"ea",null,{"$f":"IF(OR(ISBLANK(K29),K29=0,H28=0,ISBLANK(H28)),,ROUND(K29+$L$3,2))","v":0},{"$f":"ROUND(L29*I29,2)","v":0},0]
[null,null,"Durkee 54280",null,null,"15z",15,null,{"$f":"ROUND($H$28*$G$28/G30,2)","v":9.33},"ea",null,{"$f":"IF(OR(ISBLANK(K30),K30=0,H28=0,ISBLANK(H28)),,ROUND(K30+$L$3,2))","v":0},{"$f":"ROUND(L30*I30,2)","v":0},0]
[null,null,"Tones 91364",null,null,"15z",15,null,{"$f":"ROUND($H$28*$G$28/G31,2)","v":9.33},"ea",null,{"$f":"IF(OR(ISBLANK(K31),K31=0,H28=0,ISBLANK(H28)),,ROUND(K31+$L$3,2))","v":0},{"$f":"ROUND(L31*I31,2)","v":0},0]
[40006,"Extract, Almond, Imitation","McCormick    900023555",null,null,"32z",32,10,{"$f":"ROUND(H32*G32/G32,2)","v":10},"ea",null,{"$f":"IF(OR(ISBLANK(K32),K32=0,H32=0,ISBLANK(H32)),,ROUND(K32+$L$3,2))","v":0},{"$f":"ROUND(I32*L32,2)","v":0},0]
[null,null,"Durkees 34481",null,null,"32z",32,null,{"$f":"ROUND($H$32*$G$32/G33,2)","v":10},"ea",null,{"$f":"IF(OR(ISBLANK(K33),K33=0,H32=0,ISBLANK(H32)),,ROUND(K33+$L$3,2))","v":0},{"$f":"ROUND(L33*I33,2)","v":0},0]
[null,null,"Sauers 04406",null,null,"32z",32,null,{"$f":"ROUND($H$32*$G$32/G34,2)","v":10},"ea",null,{"$f":"IF(OR(ISBLANK(K34),K34=0,H32=0,ISBLANK(H32)),,ROUND(K34+$L$3,2))","v":0},{"$f":"ROUND(L34*I34,2)","v":0},0]
[]
[40007,"Extract, Lemon, Imitation","McCormick   900023548",null,null,"16z",16,10,{"$f":"ROUND(H36*G36/G36,2)","v":10},"ea",null,{"$f":"IF(OR(ISBLANK(K36),K36=0,H36=0,ISBLANK(H36)),,ROUND(K36+$L$3,2))","v":0},{"$f":"ROUND(I36*L36,2)","v":0},{"$f":"ROUND(L36/G36,2)","v":0}]
[null,null,"Sauers 04591",null,null,"32z",32,null,{"$f":"ROUND($H$36*$G$36/G37,2)","v":5},"ea",null,{"$f":"IF(OR(ISBLANK(K37),K37=0,H36=0,ISBLANK(H36)),,ROUND(K37+$L$3,2))","v":0},{"$f":"ROUND(L37*I37,2)","v":0},{"$f":"ROUND(L37/G37,2)","v":0}]
[null,null,"Durkee 59029",null,null,"16z",16,null,{"$f":"ROUND($H$36*$G$36/G38,2)","v":10},"ea",null,{"$f":"IF(OR(ISBLANK(K38),K38=0,H36=0,ISBLANK(H36)),,ROUND(K38+$L$3,2))","v":0},{"$f":"ROUND(L38*I38,2)","v":0},{"$f":"ROUND(L38/G38,2)","v":0}]
[40008,"Lemon Juice Concentrate","Distributor Choice",null,null,"8/48z",1,10,{"$f":"ROUND(H39*G39/G39,2)","v":10},"ea",null,{"$f":"IF(OR(ISBLANK(K39),K39=0,H39=0,ISBLANK(H39)),,ROUND(K39+$L$3,2))","v":0},{"$f":"ROUND(I39*L39,2)","v":0},{"$f":"ROUND(L39/G39,2)","v":0}]
[]
[40009,"Extract, Vanilla, Imitation","McCormick     930619",null,null,"1 gal",1,10,{"$f":"ROUND(H41*G41/G41,2)","v":10},"ea",null,{"$f":"IF(OR(ISBLANK(K41),K41=0,H41=0,ISBLANK(H41)),,ROUND(K41+$L$3,2))","v":0},{"$f":"ROUND(I41*L41,2)","v":0},{"$f":"ROUND(L41/G41,2)","v":0}]
[null,"Imitation","Gold Medal 04223 (CF Sauers)",null,null,"1 gal",1,null,{"$f":"ROUND($H$41*$G$41/G42,2)","v":10},"ea",null,{"$f":"IF(OR(ISBLANK(K42),K42=0,H41=0,ISBLANK(H41)),,ROUND(K42+$L$3,2))","v":0},{"$f":"ROUND(L42*I42,2)","v":0},0]
[null,null,"Durkee 34450",null,null,"1 gal",1,null,{"$f":"ROUND($H$41*$G$41/G43,2)","v":10},"ea",null,{"$f":"IF(OR(ISBLANK(K43),K43=0,H41=0,ISBLANK(H41)),,ROUND(K43+$L$3,2))","v":0},{"$f":"ROUND(L43*I43,2)","v":0},0]
[null,null,"Tones 92096",null,null,"1/2 gal",0.5,null,{"$f":"ROUND($H$41*$G$41/G44,2)","v":20},"ea",null,{"$f":"IF(OR(ISBLANK(K44),K44=0,H41=0,ISBLANK(H41)),,ROUND(K44+$L$3,2))","v":0},{"$f":"ROUND(L44*I44,2)","v":0},0]
[40010,"Ginger, Ground","McCormick      900223230",null,null,"16z",16,10,{"$f":"ROUND(H45*G45/G45,2)","v":10},"ea",null,{"$f":"IF(OR(ISBLANK(K45),K45=0,H45=0,ISBLANK(H45)),,ROUND(K45+$L$3,2))","v":0},{"$f":"ROUND(I45*L45,2)","v":0},0]
[null,"Grade A","Sauers 01126",null,null,"16z",16,null,{"$f":"ROUND($H$45*$G$45/G46,2)","v":10},"ea",null,{"$f":"IF(OR(ISBLANK(K46),K46=0,H45=0,ISBLANK(H45)),,ROUND(K46+$L$3,2))","v":0},{"$f":"ROUND(L46*I46,2)","v":0},0]
[null,null,"Durkee 54380",null,null,"16z",16,null,{"$f":"ROUND($H$45*$G$45/G47,2)","v":10},"ea",null,{"$f":"IF(OR(ISBLANK(K47),K47=0,H45=0,ISBLANK(H45)),,ROUND(K47+$L$3,2))","v":0},0,0]
[null,null,"Tones 913768",null,null,"15z",15,null,{"$f":"ROUND($H$45*$G$45/G48,2)","v":10.67},"ea",null,{"$f":"IF(OR(ISBLANK(K48),K48=0,H45=0,ISBLANK(H45)),,ROUND(K48+$L$3,2))","v":0},0,0]
[40011,"Mustard, Dry","McCormick",null,null,null,16,10,{"$f":"ROUND(H49*G49/G49,2)","v":10},"ea",0,{"$f":"IF(OR(ISBLANK(K49),K49=0,H49=0,ISBLANK(H49)),,ROUND(K49+$L$3,2))","v":0},0,{"$f":"ROUND(L49/G49,2)","v":0}]
[null,"Grade A","Sauers",null,null,null,16,null,{"$f":"ROUND($H$49*$G$49/G50,2)","v":10},"ea",null,{"$f":"IF(OR(ISBLANK(K50),K50=0,H49=0,ISBLANK(H49)),,ROUND(K50+$L$3,2))","v":0},0,0]
[null,null,"Durkee",null,null,null,16,null,{"$f":"ROUND($H$49*$G$49/G51,2)","v":10},"ea",null,{"$f":"IF(OR(ISBLANK(K51),K51=0,H49=0,ISBLANK(H49)),,ROUND(K51+$L$3,2))","v":0},0,0]
[null,null,"Tones ",null,null,null,16,null,{"$f":"ROUND($H$49*$G$49/G52,2)","v":10},"ea",null,{"$f":"IF(OR(ISBLANK(K52),K52=0,H49=0,ISBLANK(H49)),,ROUND(K52+$L$3,2))","v":0},0,0]
[40012,"Nutmeg","McCormick    900223191",null,null,"16z",16,10,{"$f":"ROUND(H53*G53/G53,2)","v":10},"ea",null,{"$f":"IF(OR(ISBLANK(K53),K53=0,H53=0,ISBLANK(H53)),,ROUND(K53+$L$3,2))","v":0},{"$f":"ROUND(I53*L53,2)","v":0},0]
[null,"Grade A","Sauers 01171",null,null,"16z",16,null,{"$f":"ROUND($H$53*$G$53/G54,2)","v":10},"ea",null,{"$f":"IF(OR(ISBLANK(K54),K54=0,H53=0,ISBLANK(H53)),,ROUND(K54+$L$3,2))","v":0},{"$f":"ROUND(L54*I54,2)","v":0},0]
[null,null,"Durkee 54530",null,null,"16z",16,null,{"$f":"ROUND($H$53*$G$53/G55,2)","v":10},"ea",null,{"$f":"IF(OR(ISBLANK(K55),K55=0,H53=0,ISBLANK(H53)),,ROUND(K55+$L$3,2))","v":0},{"$f":"ROUND(L55*I55,2)","v":0},0]
[null,null,"Tones 913925",null,null,"16z",16,null,{"$f":"ROUND($H$53*$G$53/G56,2)","v":10},"ea",null,{"$f":"IF(OR(ISBLANK(K56),K56=0,H53=0,ISBLANK(H53)),,ROUND(K56+$L$3,2))","v":0},{"$f":"ROUND(L56*I56,2)","v":0},0]
[40013,"Oregano, Ground","McCormick     932466",null,null,"13z",13,10,{"$f":"ROUND(H57*G57/G57,2)","v":10},"ea",null,{"$f":"IF(OR(ISBLANK(K57),K57=0,H57=0,ISBLANK(H57)),,ROUND(K57+$L$3,2))","v":0},{"$f":"ROUND(I57*L57,2)","v":0},0]
[null,"Grade A","Sauers 01186",null,null,"12z",12,null,{"$f":"ROUND($H$57*$G$57/G58,2)","v":10.83},"ea",null,{"$f":"IF(OR(ISBLANK(K58),K58=0,H57=0,ISBLANK(H57)),,ROUND(K58+$L$3,2))","v":0},{"$f":"ROUND(L58*I58,2)","v":0},0]
[null,null,"Durkee 54600",null,null,"12z",12,null,{"$f":"ROUND($H$57*$G$57/G59,2)","v":10.83},"ea",null,{"$f":"IF(OR(ISBLANK(K59),K59=0,H57=0,ISBLANK(H57)),,ROUND(K59+$L$3,2))","v":0},{"$f":"ROUND(L59*I59,2)","v":0},0]
[null,null,"Tones 914006",null,null,"11z",11,null,{"$f":"ROUND($H$57*$G$57/G60,2)","v":11.82},"ea",null,{"$f":"IF(OR(ISBLANK(K60),K60=0,H57=0,ISBLANK(H57)),,ROUND(K60+$L$3,2))","v":0},{"$f":"ROUND(L60*I60,2)","v":0},0]
[40014,"Paprika, Ground","McCormick      900210218",null,null,"18z",18,10,{"$f":"ROUND(H61*G61/G61,2)","v":10},"ea",null,{"$f":"IF(OR(ISBLANK(K61),K61=0,H61=0,ISBLANK(H61)),,ROUND(K61+$L$3,2))","v":0},{"$f":"ROUND(I61*L61,2)","v":0},0]
[null,"Grade A","Sauers 01191",null,null,"16z",16,null,{"$f":"ROUND($H$61*$G$61/G62,2)","v":11.25},"ea",null,{"$f":"IF(OR(ISBLANK(K62),K62=0,H61=0,ISBLANK(H61)),,ROUND(K62+$L$3,2))","v":0},{"$f":"ROUND(L62*I62,2)","v":0},0]
[null,null,"Durkee 54620",null,null,"16z",16,null,{"$f":"ROUND($H$61*$G$61/G63,2)","v":11.25},"ea",null,{"$f":"IF(OR(ISBLANK(K63),K63=0,H61=0,ISBLANK(H61)),,ROUND(K63+$L$3,2))","v":0},{"$f":"ROUND(L63*I63,2)","v":0},0]
[null,null,"Tones 91403",null,null,"18z",18,null,{"$f":"ROUND($H$61*$G$61/G64,2)","v":10},"ea",null,{"$f":"IF(OR(ISBLANK(K64),K64=0,H61=0,ISBLANK(H61)),,ROUND(K64+$L$3,2))","v":0},{"$f":"ROUND(L64*I64,2)","v":0},0]
[40015,"Parsley Flakes","McCormick    932478",null,null,"10z",10,10,{"$f":"ROUND(H65*G65/G65,2)","v":10},"ea",null,{"$f":"IF(OR(ISBLANK(K65),K65=0,H65=0,ISBLANK(H65)),,ROUND(K65+$L$3,2))","v":0},{"$f":"ROUND(I65*L65,2)","v":0},0]
[null,"Grade A","Sauers 01202",null,null,"10z",10,null,{"$f":"ROUND($H$65*$G$65/G66,2)","v":10},"ea",null,{"$f":"IF(OR(ISBLANK(K66),K66=0,H65=0,ISBLANK(H65)),,ROUND(K66+$L$3,2))","v":0},{"$f":"ROUND(L66*I66,2)","v":0},0]
[null,null,"Durkee 55650",null,null,"11z",11,null,{"$f":"ROUND($H$65*$G$65/G67,2)","v":9.09},"ea",null,{"$f":"IF(OR(ISBLANK(K67),K67=0,H65=0,ISBLANK(H65)),,ROUND(K67+$L$3,2))","v":0},{"$f":"ROUND(L67*I67,2)","v":0},0]
[null,null,"Tones 91549",null,null,"11z",11,null,{"$f":"ROUND($H$65*$G$65/G68,2)","v":9.09},"ea",null,{"$f":"IF(OR(ISBLANK(K68),K68=0,H65=0,ISBLANK(H65)),,ROUND(K68+$L$3,2))","v":0},{"$f":"ROUND(L68*I68,2)","v":0},0]
[40016,"Pepper, Black, Ground, 16-18 oz.","McCormick       900223221",null,null,"18z",18,null,{"$f":"ROUND(H69*G69/G69,2)","v":0},"ea",null,{"$f":"IF(OR(ISBLANK(K69),K69=0,H69=0,ISBLANK(H69)),,ROUND(K69+$L$3,2))","v":0},{"$f":"ROUND(I69*L69,2)","v":0},0]
[null,"Grade A","Sauers 00936",null,null,"16z",16,null,{"$f":"ROUND($H$69*$G$69/G70,2)","v":0},"ea",null,{"$f":"IF(OR(ISBLANK(K70),K70=0,H69=0,ISBLANK(H69)),,ROUND(K70+$L$3,2))","v":0},{"$f":"ROUND(L70*I70,2)","v":0},0]
[null,null,"Durkee 54961",null,null,"18z",18,null,{"$f":"ROUND($H$69*$G$69/G71,2)","v":0},"ea",null,{"$f":"IF(OR(ISBLANK(K71),K71=0,H69=0,ISBLANK(H69)),,ROUND(K71+$L$3,2))","v":0},{"$f":"ROUND(L71*I71,2)","v":0},0]
[null,null,"Tones 91463",null,null,"18z",18,null,{"$f":"ROUND($H$69*$G$69/G72,2)","v":0},"ea",null,{"$f":"IF(OR(ISBLANK(K72),K72=0,H69=0,ISBLANK(H69)),,ROUND(K72+$L$3,2))","v":0},{"$f":"ROUND(L72*I72,2)","v":0},0]
[40017,"Pepper, Black, Ground, 5#","McCormick       932456",null,null,"5Lb",5,20,{"$f":"ROUND(H73*G73/G73,2)","v":20},"ea",null,{"$f":"IF(OR(ISBLANK(K73),K73=0,H73=0,ISBLANK(H73)),,ROUND(K73+$L$3,2))","v":0},{"$f":"ROUND(I73*L73,2)","v":0},0]
[null,"Grade A","Sauers 00937",null,null,"5Lb",5,null,{"$f":"ROUND($H$73*$G$73/G74,2)","v":20},"ea",null,{"$f":"IF(OR(ISBLANK(K74),K74=0,H73=0,ISBLANK(H73)),,ROUND(K74+$L$3,2))","v":0},{"$f":"ROUND(L74*I74,2)","v":0},0]
[null,null,"Durkee 55660",null,null,"5Lb",5,null,{"$f":"ROUND($H$73*$G$73/G75,2)","v":20},"ea",null,{"$f":"IF(OR(ISBLANK(K75),K75=0,H73=0,ISBLANK(H73)),,ROUND(K75+$L$3,2))","v":0},{"$f":"ROUND(L75*I75,2)","v":0},0]
[null,null,"Tones 51844",null,null,"5Lb",5,null,{"$f":"ROUND($H$73*$G$73/G76,2)","v":20},"ea",null,{"$f":"IF(OR(ISBLANK(K76),K76=0,H73=0,ISBLANK(H73)),,ROUND(K76+$L$3,2))","v":0},{"$f":"ROUND(L76*I76,2)","v":0},0]
[40018,"Pepper, Lemon, Seasoning","McCormick 2150080350",null,null,"20.5z",20.5,null,{"$f":"ROUND(H77*G77/G77,2)","v":0},"ea",null,{"$f":"IF(OR(ISBLANK(K77),K77=0,H77=0,ISBLANK(H77)),,ROUND(K77+$L$3,2))","v":0},{"$f":"ROUND(I77*L77,2)","v":0},{"$f":"ROUND(L77/G77,2)","v":0}]
[null,"Grade A","Durkee 54966",null,null,"28z",28,null,{"$f":"ROUND($H$77*$G$77/G78,2)","v":0},"ea",null,{"$f":"IF(OR(ISBLANK(K78),K78=0,H77=0,ISBLANK(H77)),,ROUND(K78+$L$3,2))","v":0},{"$f":"ROUND(L78*I78,2)","v":0},0]
[null,null,"Sauers 01137",null,null,"23z",23,null,{"$f":"ROUND($H$77*$G$77/G79,2)","v":0},"ea",null,{"$f":"IF(OR(ISBLANK(K79),K79=0,H77=0,ISBLANK(H77)),,ROUND(K79+$L$3,2))","v":0},{"$f":"ROUND(L79*I79,2)","v":0},0]
[null,null,"Tones 91461",null,null,"28z",28,null,{"$f":"ROUND($H$77*$G$77/G80,2)","v":0},"ea",null,{"$f":"IF(OR(ISBLANK(K80),K80=0,H77=0,ISBLANK(H77)),,ROUND(K80+$L$3,2))","v":0},{"$f":"ROUND(L80*I80,2)","v":0},0]
[40019,"Pepper, Lemon, Seasoning SALT FREE","Mrs. Dash, J060-S6900 ",null,null,"21z ",21,10,{"$f":"ROUND(H81*G81/G81,2)","v":10},"ea",null,{"$f":"IF(OR(ISBLANK(K81),K81=0,H81=0,ISBLANK(H81)),,ROUND(K81+$L$3,2))","v":0},{"$f":"ROUND(I81*L81,2)","v":0},0]
[null,"No MSG","Lawry's 900513940",null,null,"19z",19,null,{"$f":"ROUND($H$81*$G$81/G82,2)","v":11.05},"ea",null,{"$f":"IF(OR(ISBLANK(K82),K82=0,H81=0,ISBLANK(H81)),,ROUND(K82+$L$3,2))","v":0},{"$f":"ROUND(L82*I82,2)","v":0},0]
[40020,"Pepper, White, Ground","McCormick    900223212",null,null,"18z",18,10,{"$f":"ROUND(H83*G83/G83,2)","v":10},"ea",null,{"$f":"IF(OR(ISBLANK(K83),K83=0,H83=0,ISBLANK(H83)),,ROUND(K83+$L$3,2))","v":0},{"$f":"ROUND(I83*L83,2)","v":0},0]
[null,"Grade A","Sauers 01231",null,null,"16z",16,null,{"$f":"ROUND($H$83*$G$83/G84,2)","v":11.25},"ea",null,{"$f":"IF(OR(ISBLANK(K84),K84=0,H83=0,ISBLANK(H83)),,ROUND(K84+$L$3,2))","v":0},{"$f":"ROUND(L84*I84,2)","v":0},0]
[null,null,"Durkee 54750",null,null,"17z",17,null,{"$f":"ROUND($H$83*$G$83/G85,2)","v":10.59},"ea",null,{"$f":"IF(OR(ISBLANK(K85),K85=0,H83=0,ISBLANK(H83)),,ROUND(K85+$L$3,2))","v":0},{"$f":"ROUND(L85*I85,2)","v":0},0]
[null,null,"Tones 91416",null,null,"18z",18,null,{"$f":"ROUND($H$83*$G$83/G86,2)","v":10},"ea",null,{"$f":"IF(OR(ISBLANK(K86),K86=0,H83=0,ISBLANK(H83)),,ROUND(K86+$L$3,2))","v":0},{"$f":"ROUND(L86*I86,2)","v":0},0]
[40021,"Powder, Garlic","McCormick       900223224",null,null,"21z",21,10,{"$f":"ROUND(H87*G87/G87,2)","v":10},"ea",null,{"$f":"IF(OR(ISBLANK(K87),K87=0,H87=0,ISBLANK(H87)),,ROUND(K87+$L$3,2))","v":0},{"$f":"ROUND(I87*L87,2)","v":0},0]
[null,"Ground, Powder Grade A","Sauers 01816",null,null,"19z",19,null,{"$f":"ROUND($H$87*$G$87/G88,2)","v":11.05},"ea",null,{"$f":"IF(OR(ISBLANK(K88),K88=0,H87=0,ISBLANK(H87)),,ROUND(K88+$L$3,2))","v":0},{"$f":"ROUND(L88*I88,2)","v":0},0]
[null,null,"Durkee 54360",null,null,"21z",21,null,{"$f":"ROUND($H$87*$G$87/G89,2)","v":10},"ea",null,{"$f":"IF(OR(ISBLANK(K89),K89=0,H87=0,ISBLANK(H87)),,ROUND(K89+$L$3,2))","v":0},{"$f":"ROUND(L89*I89,2)","v":0},0]
[null,null,"Tones 91374",null,null,"21z",21,null,{"$f":"ROUND($H$87*$G$87/G90,2)","v":10},"ea",null,{"$f":"IF(OR(ISBLANK(K90),K90=0,H87=0,ISBLANK(H87)),,ROUND(K90+$L$3,2))","v":0},{"$f":"ROUND(L90*I90,2)","v":0},0]
[40022,"Garlic and Herb Seasoning , SALT FREE ","Mrs. Dash J058-S6900 ",null,null,"21z ",21,20,{"$f":"ROUND(H91*G91/G91,2)","v":20},"ea",null,{"$f":"IF(OR(ISBLANK(K91),K91=0,H91=0,ISBLANK(H91)),,ROUND(K91+$L$3,2))","v":0},{"$f":"ROUND(I91*L91,2)","v":0},{"$f":"ROUND(L91/G91,2)","v":0}]
[null,"No MSG","Lawry's 900498766",null,null,"20z",20,null,{"$f":"ROUND($H$91*$G$91/G92,2)","v":21},"ea",null,{"$f":"IF(OR(ISBLANK(K92),K92=0,H91=0,ISBLANK(H91)),,ROUND(K92+$L$3,2))","v":0},{"$f":"ROUND(L92*I92,2)","v":0},{"$f":"ROUND(L92/G92,2)","v":0}]
[null,null,"Durkee 59282",null,null,"18z ",18,null,{"$f":"ROUND($H$91*$G$91/G93,2)","v":23.33},"ea",null,{"$f":"IF(OR(ISBLANK(K93),K93=0,H91=0,ISBLANK(H91)),,ROUND(K93+$L$3,2))","v":0},{"$f":"ROUND(L93*I93,2)","v":0},{"$f":"ROUND(L93/G93,2)","v":0}]
[null,null,"Sauers 01874",null,null,"21z",21,null,{"$f":"ROUND($H$91*$G$91/G94,2)","v":20},"ea",null,{"$f":"IF(OR(ISBLANK(K94),K94=0,H91=0,ISBLANK(H91)),,ROUND(K94+$L$3,2))","v":0},{"$f":"ROUND(L94*I94,2)","v":0},{"$f":"ROUND(L94/G94,2)","v":0}]
[40023,"Garlic, Roasted ","Minor's 74826142060USL",null,null,"6/1 lb",480,null,{"$f":"ROUND(H95*G95/G95,2)","v":0},"ea",null,{"$f":"IF(OR(ISBLANK(K95),K95=0,H95=0,ISBLANK(H95)),,ROUND(K95+$L$3,2))","v":0},{"$f":"ROUND(I95*L95,2)","v":0},0]
[null,"Concentrate, Gluten Free, 0 Trans Fat, 0 Saturated Fat, "," "]
[null,null," "]
[null,null," "]
[40024,"Italian Seasoning","Distributor Choice",null,null,"6.25z",6.25,10,{"$f":"ROUND(H99*G99/G99,2)","v":10},"ea"]
[null,null,"Fillable txt box ",null,null,null,null,null,{"$f":"ROUND(H99*G99/G100,2)","v":{"$error":"#DIV/0!"}},"ea",null,{"$f":"IF(OR(ISBLANK(K100),K100=0,H99=0,ISBLANK(H99)),,ROUND(K100+$L$3,2))","v":0},{"$f":"ROUND(I100*L100,2)","v":{"$error":"#DIV/0!"}},{"$f":"ROUND(L100/G100,2)","v":{"$error":"#DIV/0!"}}]
[40025,"Sage, Ground","McCormick     932373",null,null,"11z",11,10,{"$f":"ROUND(H101*G101/G101,2)","v":10},"ea",null,{"$f":"IF(OR(ISBLANK(K101),K101=0,H101=0,ISBLANK(H101)),,ROUND(K101+$L$3,2))","v":0},{"$f":"ROUND(I101*L101,2)","v":0},0]
[null,"Grade A","Sauers 01250",null,null,"8z",8,null,{"$f":"ROUND($H$101*$G$101/G102,2)","v":13.75},"ea",null,{"$f":"IF(OR(ISBLANK(K102),K102=0,H101=0,ISBLANK(H101)),,ROUND(K102+$L$3,2))","v":0},{"$f":"ROUND(L102*I102,2)","v":0},0]
[null,null,"Durkee 54800",null,null,"6z",6,null,{"$f":"ROUND($H$101*$G$101/G103,2)","v":18.329999999999998},"ea",null,{"$f":"IF(OR(ISBLANK(K103),K103=0,H101=0,ISBLANK(H101)),,ROUND(K103+$L$3,2))","v":0},{"$f":"ROUND(L103*I103,2)","v":0},0]
[null,null,"Tones 914295",null,null,"6z",6,null,{"$f":"ROUND($H$101*$G$101/G104,2)","v":18.329999999999998},"ea",null,{"$f":"IF(OR(ISBLANK(K104),K104=0,H101=0,ISBLANK(H101)),,ROUND(K104+$L$3,2))","v":0},{"$f":"ROUND(L104*I104,2)","v":0},0]
[40026,"Salt, Celery","McCormick       932437",null,null,"30z",30,10,{"$f":"ROUND(H105*G105/G105,2)","v":10},"ea",null,{"$f":"IF(OR(ISBLANK(K105),K105=0,H105=0,ISBLANK(H105)),,ROUND(K105+$L$3,2))","v":0},{"$f":"ROUND(I105*L105,2)","v":0},0]
[null,"Grade A ","Sauers 01036",null,null,"36z",36,null,{"$f":"ROUND($H$105*$G$105/G106,2)","v":8.33},"ea",null,{"$f":"IF(OR(ISBLANK(K106),K106=0,H105=0,ISBLANK(H105)),,ROUND(K106+$L$3,2))","v":0},{"$f":"ROUND(L106*I106,2)","v":0},0]
[null,null,"Durkee 54110",null,null,"32z",32,null,{"$f":"ROUND($H$105*$G$105/G107,2)","v":9.3800000000000008},"ea",null,{"$f":"IF(OR(ISBLANK(K107),K107=0,H105=0,ISBLANK(H105)),,ROUND(K107+$L$3,2))","v":0},{"$f":"ROUND(L107*I107,2)","v":0},0]
[null,null,"Tones 913438",null,null,"35z",35,null,{"$f":"ROUND($H$105*$G$105/G108,2)","v":8.57},"ea",null,{"$f":"IF(OR(ISBLANK(K108),K108=0,H105=0,ISBLANK(H105)),,ROUND(K108+$L$3,2))","v":0},{"$f":"ROUND(L108*I108,2)","v":0},0]
[40027,"Salt, Garlic","McCormick      900210227",null,null,"41.25 z",41.25,null,{"$f":"ROUND(H109*G109/G109,2)","v":0},"ea",null,{"$f":"IF(OR(ISBLANK(K109),K109=0,H109=0,ISBLANK(H109)),,ROUND(K109+$L$3,2))","v":0},{"$f":"ROUND(I109*L109,2)","v":0},0]
[null,"Grade A","Sauers 01121",null,null,"40 z",40,null,{"$f":"ROUND($H$109*$G$109/G110,2)","v":0},"ea",null,{"$f":"IF(OR(ISBLANK(K110),K110=0,H109=0,ISBLANK(H109)),,ROUND(K110+$L$3,2))","v":0},{"$f":"ROUND(L110*I110,2)","v":0},0]
[null,null,"Durkee 54965",null,null,"40 z",40,null,{"$f":"ROUND($H$109*$G$109/G111,2)","v":0},"ea",null,{"$f":"IF(OR(ISBLANK(K111),K111=0,H109=0,ISBLANK(H109)),,ROUND(K111+$L$3,2))","v":0},{"$f":"ROUND(L111*I111,2)","v":0},0]
[null,null,"Tones 91375",null,null,"40 z",40,null,{"$f":"ROUND($H$109*$G$109/G112,2)","v":0},"ea",null,{"$f":"IF(OR(ISBLANK(K112),K112=0,H109=0,ISBLANK(H109)),,ROUND(K112+$L$3,2))","v":0},{"$f":"ROUND(L112*I112,2)","v":0},0]
[40028,"Salt, Iodized","Distributor Choice",null,null,"24/26z",624,10,{"$f":"ROUND(H113*G113/G113,2)","v":10},"ea"]
[null,"Fine, Grade A","Fillable txt box ",null,null,null,null,null,{"$f":"ROUND(H113*G113/G114,2)","v":{"$error":"#DIV/0!"}},"ea",null,{"$f":"IF(OR(ISBLANK(K114),K114=0,H113=0,ISBLANK(H113)),,ROUND(K114+$L$3,2))","v":0},{"$f":"ROUND(I114*L114,2)","v":{"$error":"#DIV/0!"}},{"$error":"#DIV/0!"}]
[40029,"Salt, Onion","McCormick      932440",null,null,"36 z",36,null,{"$f":"ROUND(H115*G115/G115,2)","v":0},"ea",null,{"$f":"IF(OR(ISBLANK(K115),K115=0,H115=0,ISBLANK(H115)),,ROUND(K115+$L$3,2))","v":0},{"$f":"ROUND(I115*L115,2)","v":0},{"$f":"ROUND(L115/G115,2)","v":0}]
[null,"Grade A, Granulated","Sauers 01176",null,null,"36 z",36,null,{"$f":"ROUND($H$115*$G$115/G116,2)","v":0},"ea",null,{"$f":"IF(OR(ISBLANK(K116),K116=0,H115=0,ISBLANK(H115)),,ROUND(K116+$L$3,2))","v":0},{"$f":"ROUND(L116*I116,2)","v":0},0]
[null,null,"Durkee 54580",null,null,"36 z",36,null,{"$f":"ROUND($H$115*$G$115/G117,2)","v":0},"ea",null,{"$f":"IF(OR(ISBLANK(K117),K117=0,H115=0,ISBLANK(H115)),,ROUND(K117+$L$3,2))","v":0},{"$f":"ROUND(L117*I117,2)","v":0},0]
[null,null,"Tones 913982",null,null,"36 z",36,null,{"$f":"ROUND($H$115*$G$115/G118,2)","v":0},"ea",null,{"$f":"IF(OR(ISBLANK(K118),K118=0,H115=0,ISBLANK(H115)),,ROUND(K118+$L$3,2))","v":0},{"$f":"ROUND(L118*I118,2)","v":0},0]
[40030,"Salt, Season","McCormick      900018589",null,null,"4.5Lb",72,null,{"$f":"ROUND(H119*G119/G119,2)","v":0},"ea",null,{"$f":"IF(OR(ISBLANK(K119),K119=0,H119=0,ISBLANK(H119)),,ROUND(K119+$L$3,2))","v":0},{"$f":"ROUND(I119*L119,2)","v":0},0]
[null,"Grade A","Sauers 01267",null,null,"9Lb",144,null,{"$f":"ROUND($H$119*$G$119/G120,2)","v":0},"ea",null,{"$f":"IF(OR(ISBLANK(K120),K120=0,H119=0,ISBLANK(H119)),,ROUND(K120+$L$3,2))","v":0},{"$f":"ROUND(L120*I120,2)","v":0},0]
[null,null,"Durkee 54830",null,null,"37 z",37,null,{"$f":"ROUND($H$119*$G$119/G121,2)","v":0},"ea",null,{"$f":"IF(OR(ISBLANK(K121),K121=0,H119=0,ISBLANK(H119)),,ROUND(K121+$L$3,2))","v":0},{"$f":"ROUND(L121*I121,2)","v":0},0]
[null,null,"Tones 914345",null,null,"33 z",33,null,{"$f":"ROUND($H$119*$G$119/G122,2)","v":0},"ea",null,{"$f":"IF(OR(ISBLANK(K122),K122=0,H119=0,ISBLANK(H119)),,ROUND(K122+$L$3,2))","v":0},{"$f":"ROUND(L122*I122,2)","v":0},0]
[null,null,"Lawry's 2150080623",null,null,"40 z",40,null,{"$f":"ROUND($H$119*$G$119/G123,2)","v":0},"ea",null,{"$f":"IF(OR(ISBLANK(K123),H119=0,ISBLANK(H119)),,ROUND(K123+$L$3,2))","v":0},{"$f":"ROUND(L123*I123,2)","v":0},0]
[null,null,"(04-05) Stax 6001",null,null,"38 z",38,null,{"$f":"ROUND($H$119*$G$119/G124,2)","v":0},"ea",null,{"$f":"IF(OR(ISBLANK(K124),H119=0,ISBLANK(H119)),,ROUND(K124+$L$3,2))","v":0},{"$f":"ROUND(L124*I124,2)","v":0},0]
[40031,"SALT FREE Seasoning ","Mrs Dash J017 S696900",null,null,"21 z ",21,10,{"$f":"ROUND(H125*G125/G125,2)","v":10},"ea",null,{"$f":"IF(OR(ISBLANK(K125),K125=0,H125=0,ISBLANK(H125)),,ROUND(K125+$L$3,2))","v":0},{"$f":"ROUND(I125*L125,2)","v":0},0]
[null,"All Purpose Ingredient, No MSG","Lawry's SaltFree 17 2150080606",null,null,"20 z",20,null,{"$f":"ROUND($H$125*$G$125/G126,2)","v":10.5},"ea",null,{"$f":"IF(OR(ISBLANK(K126),K126=0,H125=0,ISBLANK(H125)),,ROUND(K126+$L$3,2))","v":0},{"$f":"ROUND(L126*I126,2)","v":0},0]
[null,null,"Sauer, Chef Shake 01003",null,null,"18 oz",18,null,{"$f":"ROUND($H$125*$G$125/G127,2)","v":11.67},"ea",null,{"$f":"IF(OR(ISBLANK(K127),K127=0,H125=0,ISBLANK(H125)),,ROUND(K127+$L$3,2))","v":0},{"$f":"ROUND(L127*I127,2)","v":0},0]
[40032,"Seasoning Mix, Spaghetti","Spatini, Lawry's 900276804  ",null,null,"12/15 z",180,null,{"$f":"ROUND(H128*G128/G128,2)","v":0},"Cs",null,{"$f":"IF(OR(ISBLANK(K128),K128=0,H128=0,ISBLANK(H128)),,ROUND(K128+$L$3,2))","v":0},{"$f":"ROUND(I128*L128,2)","v":0},0]
[null,null,"Atlantic Seasonings 06404",null,null,"12/15 z",180,null,{"$f":"ROUND($H$128*$G$128/G129,2)","v":0},"Cs",null,{"$f":"IF(OR(ISBLANK(K129),K129=0,H128=0,ISBLANK(H128)),,ROUND(K129+$L$3,2))","v":0},{"$f":"ROUND(L129*I129,2)","v":0},0]
[null," ","Precision Foods V415-AN190, Red Sodium",null,null,"6/11.2z",67.5,null,{"$f":"ROUND($H$128*$G$128/G130,2)","v":0},"Cs",null,{"$f":"IF(OR(ISBLANK(K130),K130=0,H128=0,ISBLANK(H128)),,ROUND(K130+$L$3,2))","v":0},{"$f":"ROUND(L130*I130,2)","v":0},0]
[null,null,"CF Sauer 09093",null,null,"6/14 z",84,null,{"$f":"ROUND($H$128*$G$128/G131,2)","v":0},"CS",null,{"$f":"IF(OR(ISBLANK(K131),K131=0,H128=0,ISBLANK(H128)),,ROUND(K131+$L$3,2))","v":0},{"$f":"ROUND(L131*I131,2)","v":0},0]
[]
[40033,"Seasoning Mix, Stir-Fry Rice, Asian","Foothill Farms,S140-G1190",null,null,"10/6.82z",460,null,{"$f":"ROUND(H133*G133/G133,2)","v":0},"Cs",null,{"$f":"IF(OR(ISBLANK(K133),K133=0,H133=0,ISBLANK(H133)),,ROUND(K133+$L$3,2))","v":0},{"$f":"ROUND(I133*L133,2)","v":0},{"$f":"ROUND(L133/G133,2)","v":0}]
[null,"460/4 oz per case,  No preservatives, no artificial flavors."]
[]
[40034,"Seasoning Mix, Taco","Lawry (Unilever) 2150080110",null,null,"6/9z",54,10,{"$f":"ROUND(H136*G136/G136,2)","v":10},"Cs",null,{"$f":"IF(OR(ISBLANK(K136),K136=0,H136=0,ISBLANK(H136)),,ROUND(K136+$L$3,2))","v":0},{"$f":"ROUND(I136*L136,2)","v":0},{"$f":"ROUND(L136/G136,2)","v":0}]
[null,null,"Rosarita 10381 ",null,null,"6/9z",54,null,{"$f":"ROUND($H$136*$G$136/G137,2)","v":10},"Cs",null,{"$f":"IF(OR(ISBLANK(K137),K137=0,H136=0,ISBLANK(H136)),,ROUND(K137+$L$3,2))","v":0},{"$f":"ROUND(L137*I137,2)","v":0},0]
[null,null,"Atlantic Seasonings 06301",null,null,"6/9z",54,null,{"$f":"ROUND($H$136*$G$136/G138,2)","v":10},"Cs",null,{"$f":"IF(OR(ISBLANK(K138),K138=0,H136=0,ISBLANK(H136)),,ROUND(K138+$L$3,2))","v":0},{"$f":"ROUND(L138*I138,2)","v":0},0]
[null,null,"Casa Fiesta 01828",null,null,"6/9z",54,null,{"$f":"ROUND($H$136*$G$136/G139,2)","v":10},"Cs",null,{"$f":"IF(OR(ISBLANK(K139),K139=0,H136=0,ISBLANK(H136)),,ROUND(K139+$L$3,2))","v":0},{"$f":"ROUND(L139*I139,2)","v":0},0]
[null,null,"PrecisionFoods V413-D9190,Red Sodium",null,null,"6/6.6z",39.6,null,{"$f":"ROUND($H$136*$G$136/G140,2)","v":13.64},"Cs",null,{"$f":"IF(OR(ISBLANK(K140),K140=0,H136=0,ISBLANK(H136)),,ROUND(K140+$L$3,2))","v":0},{"$f":"ROUND(L140*I140,2)","v":0},0]
[null,null,"CF Sauer 09094",null,null,"6/14 z",84,null,{"$f":"ROUND($H$136*$G$136/G141,2)","v":6.43},"Cs",null,{"$f":"IF(OR(ISBLANK(K141),K141=0,H136=0,ISBLANK(H136)),,ROUND(K141+$L$3,2))","v":0},{"$f":"ROUND(L141*I141,2)","v":0},0]
[null,null," ",null,null," "," ",null," "," "," "," "," "," "]
[]
[40035,"Seasoning, French Fry","Sauers 01271",null,null,"36 z",36,20,{"$f":"ROUND(H144*G144/G144,2)","v":20},"ea",null,{"$f":"IF(OR(ISBLANK(K144),K144=0,H144=0,ISBLANK(H144)),,ROUND(K144+$L$3,2))","v":0},{"$f":"ROUND(I144*L144,2)","v":0},{"$f":"ROUND(L144/G144,2)","v":0}]
[null,"Grade A","Lawry's 2150080621",null,null,"6/16z",96,null,{"$f":"ROUND($H$144*$G$144/G145,2)","v":7.5},"ea",null,{"$f":"IF(OR(ISBLANK(K145),K145=0,H144=0,ISBLANK(H144)),,ROUND(K145+$L$3,2))","v":0},{"$f":"ROUND(L145*I145,2)","v":0},{"$f":"ROUND(L145/G145,2)","v":0}]
[null,null," ",null,null," "," ",null," "," "," "," ","  "," "]
[]
[40036,"Seasoning, Poultry","McCormick 932422",null,null,"12 z",12,10,{"$f":"ROUND(H148*G148/G148,2)","v":10},"ea",null,{"$f":"IF(OR(ISBLANK(K148),K148=0,H148=0,ISBLANK(H148)),,ROUND(K148+$L$3,2))","v":0},{"$f":"ROUND(I148*L148,2)","v":0},{"$f":"ROUND(L148/G148,2)","v":0}]
[null,"Grade A","Durkee 54775",null,null,"10 z",10,null,{"$f":"ROUND($H$148*$G$148/G149,2)","v":12},"ea",null,{"$f":"IF(OR(ISBLANK(K149),K149=0,H148=0,ISBLANK(H148)),,ROUND(K149+$L$3,2))","v":0},{"$f":"ROUND(L149*I149,2)","v":0},0]
[null,null,"Sauers 1236",null,null,"12 z",12,null,{"$f":"ROUND($H$148*$G$148/G150,2)","v":10},"ea",null,{"$f":"IF(OR(ISBLANK(K150),K150=0,H148=0,ISBLANK(H148)),,ROUND(K150+$L$3,2))","v":0},{"$f":"ROUND(L150*I150,2)","v":0},0]
[null,null,"Tones 914246",null,null,"10 z",10,null,{"$f":"ROUND($H$148*$G$148/G151,2)","v":12},"ea",null,{"$f":"IF(OR(ISBLANK(K151),K151=0,H148=0,ISBLANK(H148)),,ROUND(K151+$L$3,2))","v":0},{"$f":"ROUND(L151*I151,2)","v":0},0]
[40037,"Thyme, Dried leaf","Distributor Choice",null,null,"7z",7,10,{"$f":"ROUND(H152*G152/G152,2)","v":10},"ea"]
[null,"Grade A","Fillable txt box ",null,null,null,null,null,{"$f":"ROUND(H152*G152/G153,2)","v":{"$error":"#DIV/0!"}},"ea",null,{"$f":"IF(OR(ISBLANK(K153),K153=0,H152=0,ISBLANK(H152)),,ROUND(K153+$L$3,2))","v":0},{"$f":"ROUND(I153*L153,2)","v":{"$error":"#DIV/0!"}},{"$error":"#DIV/0!"}]
[40038,"Onion Powder ","Distributor Choice",null,null,"21 z ",21,10,{"$f":"ROUND(H154*G154/G154,2)","v":10},"ea"]
[null,"Grade A ","Fillable txt box ",null,null,null,null,null,{"$f":"ROUND(H154*G154/G155,2)","v":{"$error":"#DIV/0!"}},"ea",null,{"$f":"IF(OR(ISBLANK(K155),K155=0,H154=0,ISBLANK(H154)),,ROUND(K155+$L$3,2))","v":0},{"$f":"ROUND(I155*L155,2)","v":{"$error":"#DIV/0!"}},{"$error":"#DIV/0!"}]
[]
[null,null,null,null,null,null,null,null,null,"Page Total",null,null,{"$f":"SUMIF(M6:M156,\">0\")","v":0}]

{"sheet":"Special Diet Foods","index":24,"n_rows":62,"n_cols":14,"rows_kept":62,"cut":false,"hidden":false,"merged":[[0,5,0,13],[1,5,1,13],[2,6,2,10]]}
[null,{"$f":"'Recap Sheet'!A2","v":"School Food Authority or Agency Name:"},null,null,null,{"$f":"'Recap Sheet'!A3","v":"Bidder's Name:"}]
[44001,{"$f":"'Recap Sheet'!B2","v":"Marion County School District"},"Return to Recap Sheet",null,null,{"$f":"'Recap Sheet'!B3","v":0}]
[46000,"Description","Approved",null,null,null,"Firm Fixed Fee",null,null,null,null,{"$f":"'Recap Sheet'!B4","v":0}]
["SCPA",null,"Brand Name","Manufacturers","Distributor","Vendor","Svgs","Est.","Bid ","Bid","Unit","Unit Price","Total ","Cost per"]
[" Code",null,"or Manufacturer","Code","Code","Pack","per unit","Bid Qty","Qty","Unit","Price","plus Fee","Price","Unit"]
[null,"Category: Special Diet Foods"]
[]
[44001,"Beef Puree Roast Sliced Frozen ","Thick and Easy",null,null,"24/3.0z",24,null,{"$f":"ROUND(H8*G8/G8,2)","v":0},"Cs",0,{"$f":"IF(OR(ISBLANK(K8),K8=0,H8=0,ISBLANK(H8)),,ROUND(K8+$L$3,2))","v":0},{"$f":"ROUND(L8*I8,2)","v":0},{"$f":"ROUND(L8/G8,4)","v":0}]
[null," ","Hormel Labs #10837",null,null," "," ",null," "," ",null," "," "," "]
[null," "," ",null,null," "," ",null," "," ",null," "," "," "]
[44002,"Berry Mix, Puree Frozen ","Thick and Easy",null,null,"24/2.50z",24,null,{"$f":"ROUND(H11*G11/G11,2)","v":0},"Cs",null,{"$f":"IF(OR(ISBLANK(K11),K11=0,H11=0,ISBLANK(H11)),,ROUND(K11+$L$3,2))","v":0},{"$f":"ROUND(L11*I11,2)","v":0},{"$f":"ROUND(L11/G11,4)","v":0}]
[null," ","Hormel Labs #13883",null,null," "," "]
[44003,"Broccoli Puree Frozen","Thick and Easy",null,null,"24/3.0z",24,null,{"$f":"ROUND(H13*G13/G13,2)","v":0},"Cs",null,{"$f":"IF(OR(ISBLANK(K13),K13=0,H13=0,ISBLANK(H13)),,ROUND(K13+$L$3,2))","v":0},{"$f":"ROUND(L13*I13,2)","v":0},{"$f":"ROUND(L13/G13,4)","v":0}]
[null," ","Hormel Labs #26522"]
[null,null," ",null,null,null,null,null," "," ",null," "," "," "]
[44004,"Carrot, Puree Frozen","Thick and Easy",null,null,"24/3.0z",24,null,{"$f":"ROUND(H16*G16/G16,2)","v":0},"Cs",null,{"$f":"IF(OR(ISBLANK(K16),K16=0,H16=0,ISBLANK(H16)),,ROUND(K16+$L$3,2))","v":0},{"$f":"ROUND(L16*I16,2)","v":0},{"$f":"ROUND(L16/G16,4)","v":0}]
[null," ","Hormel Labs #39312",null,null," "]
[44005,"Chicken Puree, White ","Thick and Easy",null,null,"24/3.0z",24,null,{"$f":"ROUND(H18*G18/G18,2)","v":0},"Cs",null,{"$f":"IF(OR(ISBLANK(K18),K18=0,H18=0,ISBLANK(H18)),,ROUND(K18+$L$3,2))","v":0},{"$f":"ROUND(L18*I18,2)","v":0},{"$f":"ROUND(L18/G18,4)","v":0}]
[null," ","Hormel Labs #37954"]
[44006,"Corn, Puree Frozen","Thick and Easy",null,null,"24/3.0z",24,null,{"$f":"ROUND(H20*G20/G20,2)","v":0},"Cs",null,{"$f":"IF(OR(ISBLANK(K20),K20=0,H20=0,ISBLANK(H20)),,ROUND(K20+$L$3,2))","v":0},{"$f":"ROUND(L20*I20,2)","v":0},{"$f":"ROUND(L20/G20,4)","v":0}]
[null," ","Hormel Labs #27074"]
[44007,"Egg, Puree, Omlet Frozen Breakfast","Thick and Easy",null,null,"24/2.50z",24,null,{"$f":"ROUND(H22*G22/G22,2)","v":0},"Cs",null,{"$f":"IF(OR(ISBLANK(K22),K22=0,H22=0,ISBLANK(H22)),,ROUND(K22+$L$3,2))","v":0},{"$f":"ROUND(L22*I22,2)","v":0},{"$f":"ROUND(L22/G22,4)","v":0}]
[null," ","Hormel Labs #72475"]
[44008,"Supplement, Boost Breeze Assorted","Boost Breeze Assorted",null,null,"27/237 ML",27,null,{"$f":"ROUND(H24*G24/G24,2)","v":0},"Cs",null,{"$f":"IF(OR(ISBLANK(K24),K24=0,H24=0,ISBLANK(H24)),,ROUND(K24+$L$3,2))","v":0},{"$f":"ROUND(L24*I24,2)","v":0},{"$f":"ROUND(L24/G24,4)","v":0}]
[null,null,"#043900186006270",null,null," "," ",null," "," ",null," "," "," "]
[44009,"Supplement, Ensure and Vinyl Liquid RTU","Ensure Plus",null,null,"24/8.0z",24,6,{"$f":"ROUND(H26*G26/G26,2)","v":6},"Cs",null,{"$f":"IF(OR(ISBLANK(K26),K26=0,H26=0,ISBLANK(H26)),,ROUND(K26+$L$3,2))","v":0},{"$f":"ROUND(L26*I26,2)","v":0},{"$f":"ROUND(L26/G26,4)","v":0}]
[null,null,"#50464",null,null," "," ",null," "," "," "," "," "," "]
[44010,"Supplement, Pediasure Vinyl Carton","Pediasure",null,null,"24/8.0z",24,38,{"$f":"ROUND(H28*G28/G28,2)","v":38},"Cs",null,{"$f":"IF(OR(ISBLANK(K28),K28=0,H28=0,ISBLANK(H28)),,ROUND(K28+$L$3,2))","v":0},{"$f":"ROUND(L28*I28,2)","v":0},{"$f":"ROUND(L28/G28,4)","v":0}]
[null,null,"#51804",null,null," "," ",null," "," "," "," "," "," "]
[44011,"Soy Milk, Vanilla","Distributor Choice",null,null,"18/8 oz.",18,6," "," "]
[null,"All natural fluid product, Self-serve container, calcium","Fillable txt box ",null,null,null,null,null,{"$f":"ROUND(H30*G30/G31,2)","v":{"$error":"#DIV/0!"}},"Cs"," ",{"$f":"IF(OR(ISBLANK(K31),K31=0,H30=0,ISBLANK(H30)),,ROUND(K31+$L$3,2))","v":{"$error":"#VALUE!"}},{"$f":"ROUND(I31*L31,2)","v":{"$error":"#DIV/0!"}},{"$f":"ROUND(L31/G31,2)","v":{"$error":"#VALUE!"}}]
[null,"enriched Aseptic Package Preferred"]
[44012,"Soy Milk, Chocolate","Distributor Choice",null,null,"18/8 oz.",18,null," "," "]
[null,"All natural fluid product, Self-serve container, calcium","Fillable txt box ",null,null,null,null,null,{"$f":"ROUND(H33*G33/G34,2)","v":{"$error":"#DIV/0!"}},"Cs"," ",{"$f":"IF(OR(ISBLANK(K34),K34=0,H33=0,ISBLANK(H33)),,ROUND(K34+$L$3,2))","v":0},{"$f":"ROUND(I34*L34,2)","v":{"$error":"#DIV/0!"}},{"$f":"ROUND(L34/G34,2)","v":{"$error":"#DIV/0!"}}]
[null,"enriched Aseptic Package Preferred"]
[44013,"Almond Milk, Vanilla","Distributor Choice",null,null,"18/8 oz.",18,null," "," "]
[null,"All natural fluid product, Self-serve container, calcium","Fillable txt box ",null,null,null,null,null,{"$f":"ROUND(H36*G36/G37,2)","v":{"$error":"#DIV/0!"}},"Cs"," ",{"$f":"IF(OR(ISBLANK(K37),K37=0,H36=0,ISBLANK(H36)),,ROUND(K37+$L$3,2))","v":0},{"$f":"ROUND(I37*L37,2)","v":{"$error":"#DIV/0!"}},{"$f":"ROUND(L37/G37,2)","v":{"$error":"#DIV/0!"}}]
[null,"enriched Aseptic Package Preferred"]
[44014,"Almond Milk, Chocolate","Distributor Choice",null,null,"18/8 oz.",18,null," "," "]
[null,"All natural fluid product, Self-serve container, ","Fillable txt box ",null,null,null,null,null,{"$f":"ROUND(H39*G39/G40,2)","v":{"$error":"#DIV/0!"}},"Cs"," ",{"$f":"IF(OR(ISBLANK(K40),K40=0,H39=0,ISBLANK(H39)),,ROUND(K40+$L$3,2))","v":0},{"$f":"ROUND(I40*L40,2)","v":{"$error":"#DIV/0!"}},{"$f":"ROUND(L40/G40,2)","v":{"$error":"#DIV/0!"}}]
[null,"calcium enriched Aseptic Package Preferred"]
[44015,"Milk, Lactose-Free 1% milk fat, Vit A&D fort.","Distributor Choice",null,null,"18/8 oz.",18,10," "," "]
[null,"fluid milk product, self serve container","Fillable txt box ",null,null,null,0,null,{"$f":"ROUND(H42*G42/G43,2)","v":{"$error":"#DIV/0!"}},"Cs"," ",{"$f":"IF(OR(ISBLANK(K43),K43=0,H42=0,ISBLANK(H42)),,ROUND(K43+$L$3,2))","v":{"$error":"#VALUE!"}},{"$f":"ROUND(I43*L43,2)","v":{"$error":"#DIV/0!"}},{"$f":"ROUND(L43/G43,2)","v":{"$error":"#VALUE!"}}]
[null,"Asceptic Package  Preferred "]
[44016,"Taco Tubs, WGR Gluten Free","Smokewood RR01011",null,null,"200/1 ea.",200,null,{"$f":"ROUND(H45*G45/G45,2)","v":0},"Cs",null,{"$f":"IF(OR(ISBLANK(K45),K45=0,H45=0,ISBLANK(H45)),,ROUND(K45+$L$3,2))","v":0},{"$f":"ROUND(L45*I45,2)","v":0},{"$f":"ROUND(L45/G45,4)","v":0}]
[null,"No sodium, 0 trans fats, "]
[null,"One tub meets 1 0z. OEG "]
[44017,"Cooking Pan Spray (Buttery Flavor)","Vegalene 17260",null,null,"6/17 oz.",6,13,{"$f":"ROUND(H48*G48/G48,2)","v":13},"Cs",null,{"$f":"IF(OR(ISBLANK(K48),K48=0,H48=0,ISBLANK(H48)),,ROUND(K48+$L$3,2))","v":0},{"$f":"ROUND(L48*I48,2)","v":0},{"$f":"ROUND(L48/G48,4)","v":0}]
[null,"Contains no soy, dairy, trans fats and is "]
[null,"Gluten Free"]
[]
[44018,"Buns, Hamburger, Gluten Free","Distributor Choice",null,null,"30/3.5z",30,null," "," "]
[null,"Frozen","Fillable txt box or unprotected",null,null,null,null,null,{"$f":"ROUND(H52*G52/G53,2)","v":{"$error":"#DIV/0!"}},"Cs",null,{"$f":"IF(OR(ISBLANK(K53),K53=0,H52=0,ISBLANK(H52)),,ROUND(K53+$L$3,2))","v":0},{"$f":"ROUND(I53*L53,2)","v":{"$error":"#DIV/0!"}},{"$f":"ROUND(L53/G53,2)","v":{"$error":"#DIV/0!"}}]
[44019,"Buns, Hot Dog, Gluten Free","Distributor Choice",null,null,"30/3.5z",30,null," "," "]
[null,"Frozen","Fillable txt box or unprotected",null,null,null,0,null,{"$f":"ROUND(H54*G54/G55,2)","v":{"$error":"#DIV/0!"}},"Cs",null,{"$f":"IF(OR(ISBLANK(K55),K55=0,H54=0,ISBLANK(H54)),,ROUND(K55+$L$3,2))","v":0},{"$f":"ROUND(I55*L55,2)","v":{"$error":"#DIV/0!"}},{"$f":"ROUND(L55/G55,2)","v":{"$error":"#DIV/0!"}}]
[]
[44020,"Bread, White Gluten Free","Distributor Choice",null,null,"32/3.0z",30,null," "," "]
[null,"Frozen","Fillable txt box or unprotected",null,null,null,null,null,{"$f":"ROUND(H57*G57/G58,2)","v":{"$error":"#DIV/0!"}},"Cs",null,{"$f":"IF(OR(ISBLANK(K58),K58=0,H57=0,ISBLANK(H57)),,ROUND(K58+$L$3,2))","v":0},{"$f":"ROUND(I58*L58,2)","v":{"$error":"#DIV/0!"}},{"$f":"ROUND(L58/G58,2)","v":{"$error":"#DIV/0!"}}]
[null," "]
[]
[]
[null,null,null,null,null,null,null,null,null,null,"Lot A SP Diet",null,{"$f":"SUMIF(M8:M61,\">0\")","v":0}]

{"sheet":"Disposables","index":25,"n_rows":233,"n_cols":23,"rows_kept":233,"cut":false,"hidden":false,"merged":[[0,5,0,13],[1,5,1,13],[2,6,2,10]]}
[null,{"$f":"'Recap Sheet'!A2","v":"School Food Authority or Agency Name:"},null,null,null,{"$f":"'Recap Sheet'!A3","v":"Bidder's Name:"}]
[46001,{"$f":"'Recap Sheet'!B2","v":"Marion County School District"},"Return to Recap Sheet",null,null,{"$f":"'Recap Sheet'!B3","v":0}]
[48000,"Description","Approved",null,null,null,"Firm Fixed Fee",null,null,null,null,{"$f":"'Recap Sheet'!B4","v":0}]
["SCPA",null,"Brand Name","Manufacturers","Distributor","Vendor","Svgs","Est.","Bid ","Bid","Unit","Unit Price","Total ","Cost per"]
[" Code",null,"or Manufacturer","Code","Code","Pack","per unit","Bid Qty","Qty","Unit","Price","plus Fee","Price","Unit"]
[null,"Category: Disposables/Paper"]
[]
[46001,"Aluminum Foil  (FOIL)","Distributor Choice",null,null,"18x1000",1000,20," "," "]
[null,"18 inches wide x 1000 ft roll with metal cutting edge. ","Fillable txt box ",null,null,null,0,null,{"$f":"ROUND(H8*G8/G9,2)","v":{"$error":"#DIV/0!"}},"Cs",0,{"$f":"IF(OR(ISBLANK(K9),K9=0,H8=0,ISBLANK(H8)),,ROUND(K9+$L$3,2))","v":0},{"$f":"ROUND(I9*L9,2)","v":{"$error":"#DIV/0!"}},{"$f":"ROUND(L9/G9,4)","v":{"$error":"#DIV/0!"}}]
[null,"Support ends.  10% roll dispenser carton.  Heavy Duty.   "]
[null,"3 gauge .001 weight"]
[46002,"Aprons, Disposable","Handgard EME",null,null,"100 ct",100,20,{"$f":"ROUND(H12*G12/G12,2)","v":20},"Cs",null,{"$f":"IF(OR(ISBLANK(K12),K12=0,H12=0,ISBLANK(H12)),,ROUND(K12+$L$3,2))","v":0},{"$f":"ROUND(L12*I12,2)","v":0},{"$f":"ROUND(L12/G12,4)","v":0}]
[null,"Plastic, size 28\"x46\", 3 gauge dispenser box.  Full size bib"]
[46003,"Bags, Food Storage, 10 x 14","Handgard FB-14 RM","FB-14 RM",null,"1000 Ct",1000,20,{"$f":"ROUND(H14*G14/G14,2)","v":20},"Cs",0,{"$f":"IF(OR(ISBLANK(K14),K14=0,H14=0,ISBLANK(H14)),,ROUND(K14+$L$3,2))","v":0},{"$f":"ROUND(L14*I14,2)","v":0},{"$f":"ROUND(L14/G14,4)","v":0}]
[null,null,"Distributor Choice"]
[null,null,"Fillable txt box ",null,null,null,null,null,{"$f":"ROUND(H14*G14/G16,2)","v":{"$error":"#DIV/0!"}},"Cs",null,{"$f":"IF(OR(ISBLANK(K16),K16=0,H14=0,ISBLANK(H14)),,ROUND(K16+$L$3,2))","v":0},{"$f":"ROUND(I16*L16,2)","v":{"$error":"#DIV/0!"}},{"$f":"ROUND(L16/G16,4)","v":{"$error":"#DIV/0!"}}]
[46004,"Bags, Food Storage, 18 x 24","Handgard FB-24 RM","FB-24 RM",null,"250 Ct",250,500,{"$f":"ROUND(H17*G17/G17,2)","v":500},"Cs",null,{"$f":"IF(OR(ISBLANK(K17),K17=0,H17=0,ISBLANK(H17)),,ROUND(K17+$L$3,2))","v":0},{"$f":"ROUND(L17*I17,2)","v":0},{"$f":"ROUND(L17/G17,4)","v":0}]
[null,null,"Distributor Choice"]
[null,null,"Fillable txt box ",null,null,null,null,null,{"$f":"ROUND(H17*G17/G19,2)","v":{"$error":"#DIV/0!"}},"Cs",null,{"$f":"IF(OR(ISBLANK(K19),K19=0,H17=0,ISBLANK(H17)),,ROUND(K19+$L$3,2))","v":0},{"$f":"ROUND(I19*L19,2)","v":{"$error":"#DIV/0!"}},{"$f":"ROUND(L19/G19,4)","v":{"$error":"#DIV/0!"}}]
[46005,"Bags, Sandwich","Handguard SB 8.5","SB 8.5",null,2000,2000,10,{"$f":"ROUND(H20*G20/G20,2)","v":10},"Cs",null,{"$f":"IF(OR(ISBLANK(K20),K20=0,H20=0,ISBLANK(H20)),,ROUND(K20+$L$3,2))","v":0},{"$f":"ROUND(L20*I20,2)","v":0},{"$f":"ROUND(L20/G20,4)","v":0}]
[null,null,"Distributor Choice"]
[null,"Flip-lock, double saddle pack.  6\" x 7\"","Fillable txt box ",null,null,null,null,null,{"$f":"ROUND(H20*G20/G22,2)","v":{"$error":"#DIV/0!"}},"Cs",null,{"$f":"IF(OR(ISBLANK(K22),K22=0,H20=0,ISBLANK(H20)),,ROUND(K22+$L$3,2))","v":0},{"$f":"ROUND(I22*L22,2)","v":{"$error":"#DIV/0!"}},{"$f":"ROUND(L22/G22,4)","v":{"$error":"#DIV/0!"}}]
[46006,"Bowl, 5 oz. , with flared lip","GenPak 80500",80500,null,"1000 Ct",1000,30,{"$f":"ROUND(H23*G23/G23,2)","v":30},"Cs",null,{"$f":"IF(OR(ISBLANK(K23),K23=0,H23=0,ISBLANK(H23)),,ROUND(K23+$L$3,2))","v":0},{"$f":"ROUND(L23*I23,2)","v":0},{"$f":"ROUND(L23/G23,4)","v":0}]
[null,"Styrofoam, Must not contain CFC's"," "]
[46007,6,"Dart 5B20","5B20",null,"1000 ct",1000,null,{"$f":"ROUND(H25*G25/G25,2)","v":0},"Cs",null,{"$f":"IF(OR(ISBLANK(K25),K25=0,H25=0,ISBLANK(H25)),,ROUND(K25+$L$3,2))","v":0},{"$f":"ROUND(L25*I25,2)","v":0},{"$f":"ROUND(L25/G25,4)","v":0}]
[null,"Styrofoam, Must not contain CFC's"]
[46008,"Bowl, Styrofoam, 8 oz, without flared lip","Dart 8B20","8B20",null,"1000 Ct",1000,17,{"$f":"ROUND(H27*G27/G27,2)","v":17},"Cs",null,{"$f":"IF(OR(ISBLANK(K27),K27=0,H27=0,ISBLANK(H27)),,ROUND(K27+$L$3,2))","v":0},{"$f":"ROUND(L27*I27,2)","v":0},{"$f":"ROUND(L27/G27,4)","v":0}]
[null,"Must not contain CFC's "]
[46009,"Bowl, Styrofoam, 12 oz, with flared lip","GenPak82100",82100,null,1000,1000,null,{"$f":"ROUND(H29*G29/G29,2)","v":0},"Cs",null,{"$f":"IF(OR(ISBLANK(K29),K29=0,H29=0,ISBLANK(H29)),,ROUND(K29+$L$3,2))","v":0},{"$f":"ROUND(L29*I29,2)","v":0},{"$f":"ROUND(L29/G29,4)","v":0}]
[null,"Must not contain CFC's ",null,null,null," "," "]
[46010,"Bowl, Styrofoam, 12 oz, without flared lip","Dart 12B32","12B32",null,1000,1000,20,{"$f":"ROUND(H31*G31/G31,2)","v":20},"Cs",null,{"$f":"IF(OR(ISBLANK(K31),K31=0,H31=0,ISBLANK(H31)),,ROUND(K31+$L$3,2))","v":0},{"$f":"ROUND(L31*I31,2)","v":0},{"$f":"ROUND(L31/G31,4)","v":0}]
[null,"Must not contain CFC's ",null,null,null," "," "]
[46011,"Brooms","Distributor Choice",null,null,1,1,10,{"$f":"ROUND(H33*G33/G33,2)","v":10},"Cs"]
[null,"Warehouse.  32% corn, lightweight, heavy duty","Fillable txt box ",null,null,null,null,null,{"$f":"ROUND(H33*G33/G34,2)","v":{"$error":"#DIV/0!"}},"Cs",null,{"$f":"IF(OR(ISBLANK(K34),K34=0,H33=0,ISBLANK(H33)),,ROUND(K34+$L$3,2))","v":0},{"$f":"ROUND(I34*L34,2)","v":{"$error":"#DIV/0!"}},{"$f":"ROUND(L34/G34,4)","v":{"$error":"#DIV/0!"}}]
[46012,"Container, FM 8 oz Squat","Dart 8SJ20","8SJ20",null,1000,1000,null,{"$f":"ROUND(H35*G35/G35,2)","v":0},"Cs",null,{"$f":"IF(OR(ISBLANK(K35),K35=0,H35=0,ISBLANK(H35)),,ROUND(K35+$L$3,2))","v":0},{"$f":"ROUND(L35*I35,2)","v":0},{"$f":"ROUND(L35/G35,4)","v":0}]
[null,"Must not contain CFC's "," "]
[46013,"Container, FM 12 oz Squat","(15) Dart 12SJ20",null,null,500,500,2,{"$f":"ROUND(H37*G37/G37,2)","v":2},"Cs",null,{"$f":"IF(OR(ISBLANK(K37),K37=0,H37=0,ISBLANK(H37)),,ROUND(K37+$L$3,2))","v":0},{"$f":"ROUND(L37*I37,2)","v":0},{"$f":"ROUND(L37/G37,4)","v":0}]
[null,"Must not contain CFC's "," ","12SJ20",null,500,500]
[46014,"Container, w/Hinged Lid, Styro foam","Pactiv YTD 19903",19903,null,150,150,null,{"$f":"ROUND(H39*G39/G39,2)","v":0},"Cs",null,{"$f":"IF(OR(ISBLANK(K39),K39=0,H39=0,ISBLANK(H39)),,ROUND(K39+$L$3,2))","v":0},{"$f":"ROUND(L39*I39,2)","v":0},{"$f":"ROUND(L39/G39,4)","v":0}]
[null,"3 compartment, white, carryout tray","Gen Pak 20310",20310,null,200,200,null,{"$f":"ROUND($H$39*$G$39/G40,2)","v":0},"Cs",null,{"$f":"IF(OR(ISBLANK(K40),K40=0,H39=0,ISBLANK(H39)),,ROUND(K40+$L$3,2))","v":0},{"$f":"ROUND(L40*I40,2)","v":0},{"$f":"ROUND(L40/G40,4)","v":0}]
[null,"Must not contain CFC's ","Dart 90HTPF3","90HTPF3",null,200,200,null,{"$f":"ROUND($H$39*$G$39/G41,2)","v":0},"Cs",null,{"$f":"IF(OR(ISBLANK(K41),K41=0,H39=0,ISBLANK(H39)),,ROUND(K41+$L$3,2))","v":0},{"$f":"ROUND(L41*I41,2)","v":0},{"$f":"ROUND(L41/G41,4)","v":0}]
[46015,"Container, w/Hinged Lid, Clear","Dart C90PST1","C90PST1",null,"2/125",250,10,{"$f":"ROUND(H42*G42/G42,2)","v":10},"Cs",null,{"$f":"IF(OR(ISBLANK(K42),K42=0,H42=0,ISBLANK(H42)),,ROUND(K42+$L$3,2))","v":0},{"$f":"ROUND(L42*I42,2)","v":0},{"$f":"ROUND(L42/G42,4)","v":0}]
[null,"1 section.  8.25\" x 8.25\" x 3\"","Distributor Choice"]
[null," ","Fillable txt box ",null,null,null,null,null,{"$f":"ROUND(H42*G42/G44,2)","v":{"$error":"#DIV/0!"}},"Cs",null,{"$f":"IF(OR(ISBLANK(K44),K44=0,H42=0,ISBLANK(H42)),,ROUND(K44+$L$3,2))","v":0},{"$f":"ROUND(L44*I44,2)","v":{"$error":"#DIV/0!"}},{"$f":"ROUND(L44/G44,4)","v":{"$error":"#DIV/0!"}}]
[46016,"Container w/Hinged Lid, Plastic, Clear","Dart C57PST1","C57PST1",null,"4/125",500,10,{"$f":"ROUND(H45*G45/G45,2)","v":10},"Cs",null,{"$f":"IF(OR(ISBLANK(K45),K45=0,H45=0,ISBLANK(H45)),,ROUND(K45+$L$3,2))","v":0},{"$f":"ROUND(L45*I45,2)","v":0},{"$f":"ROUND(L45/G45,4)","v":0}]
[null,"1 section.  6\" x 5.75\" x 3\"","Distributor Choice"]
[null,null,"Fillable txt box ",null,null,null,null,null,{"$f":"ROUND(H45*G45/G47,2)","v":{"$error":"#DIV/0!"}},"Cs",null,{"$f":"IF(OR(ISBLANK(K47),K47=0,H45=0,ISBLANK(H45)),,ROUND(K47+$L$3,2))","v":0},{"$f":"ROUND(L47*I47,2)","v":{"$error":"#DIV/0!"}},{"$f":"ROUND(L47/G47,4)","v":{"$error":"#DIV/0!"}}]
[46017,"Container, 4 oz w/Hinged Lid, Clear, ","Par-Pak 21959",21959,null,"1500",1500,null,{"$f":"ROUND(H48*G48/G48,2)","v":0},"Cs",null,{"$f":"IF(OR(ISBLANK(K48),K48=0,H48=0,ISBLANK(H48)),,ROUND(K48+$L$3,2))","v":0},{"$f":"ROUND(L48*I48,2)","v":0},{"$f":"ROUND(L48/G48,4)","v":0}]
[null,"can be used for hot or cold offer versus serve ","Distributor Choice"]
[null," ","Fillable txt box ",null,null,null,null,null,{"$f":"ROUND(H48*G48/G50,2)","v":{"$error":"#DIV/0!"}},"Cs",null,{"$f":"IF(OR(ISBLANK(K50),K50=0,H48=0,ISBLANK(H48)),,ROUND(K50+$L$3,2))","v":0},{"$f":"ROUND(L50*I50,2)","v":{"$error":"#DIV/0!"}},{"$f":"ROUND(L50/G50,4)","v":{"$error":"#DIV/0!"}}]
[46018,"Container, 6 oz w/Hinged Lid, Clear, ","Par-Pak 21961",21961,null,"1500",1500,null,{"$f":"ROUND(H51*G51/G51,2)","v":0},"Cs",null,{"$f":"IF(OR(ISBLANK(K51),K51=0,H51=0,ISBLANK(H51)),,ROUND(K51+$L$3,2))","v":0},{"$f":"ROUND(L51*I51,2)","v":0},{"$f":"ROUND(L51/G51,4)","v":0}]
[null,"can be used for hot or cold offer versus serve ","Distributor Choice"]
[null," ","Fillable txt box ",null,null,null,null,null,{"$f":"ROUND(H51*G51/G53,2)","v":{"$error":"#DIV/0!"}},"Cs",null,{"$f":"IF(OR(ISBLANK(K53),K53=0,H51=0,ISBLANK(H51)),,ROUND(K53+$L$3,2))","v":0},{"$f":"ROUND(L53*I53,2)","v":{"$error":"#DIV/0!"}},{"$f":"ROUND(L53/G53,4)","v":{"$error":"#DIV/0!"}}]
[46019,"Cups, Portion, 1 oz, paper","Sweetheart 100",100,null,5000,5000,5,{"$f":"ROUND(H54*G54/G54,2)","v":5},"Cs",null,{"$f":"IF(OR(ISBLANK(K54),K54=0,H54=0,ISBLANK(H54)),,ROUND(K54+$L$3,2))","v":0},{"$f":"ROUND(L54*I54,2)","v":0},{"$f":"ROUND(L54/G54,4)","v":0}]
[null,null,"Solo 45",45,null,5000,5000,null,{"$f":"ROUND($H$54*$G$54/G55,2)","v":5},"Cs",null,{"$f":"IF(OR(ISBLANK(H54),H54=0,K55=0,ISBLANK(K55)),,ROUND(K55+$L$3,2))","v":0},{"$f":"ROUND(L55*I55,2)","v":0},{"$f":"ROUND(L55/G55,4)","v":0}]
[null,null,"Distributor Choice"]
[null," ","Fillable txt box ",null,null,null," ",null,{"$f":"ROUND(H54*G54/G57,2)","v":{"$error":"#VALUE!"}},"Cs",null,{"$f":"IF(OR(ISBLANK(H54),H54=0,K57=0,ISBLANK(K57)),,ROUND(K57+$L$3,2))","v":0},{"$f":"ROUND(I57*L57,2)","v":{"$error":"#VALUE!"}},{"$f":"ROUND(L57/G57,4)","v":{"$error":"#VALUE!"}}]
[46020,"Cups, Portion, 2 oz. Paper","Sweetheart 200",200,null,5000,5000,null,{"$f":"ROUND(H58*G58/G58,2)","v":0},"Cs",null,{"$f":"IF(OR(ISBLANK(K58),K58=0,H58=0,ISBLANK(H58)),,ROUND(K58+$L$3,2))","v":0},{"$f":"ROUND(L58*I58,2)","v":0},{"$f":"ROUND(L58/G58,4)","v":0}]
[null,null,"Solo 48",48,null,5000,5000,null,{"$f":"ROUND(H58*G58/G59,2)","v":0},"Cs",null,{"$f":"IF(OR(ISBLANK(H58),H58=0,K59=0,ISBLANK(K59)),,ROUND(K59+$L$3,2))","v":0},{"$f":"ROUND(L59*I59,2)","v":0},{"$f":"ROUND(L59/G59,4)","v":0}]
[null,null,"Distributor Choice"]
[null,null,"Fillable txt box ",null,null,null,null,null,{"$f":"ROUND(H58*G58/G61,2)","v":{"$error":"#DIV/0!"}},"Cs",null,{"$f":"IF(OR(ISBLANK(H58),H58=0,K61=0,ISBLANK(K61)),,ROUND(K61+$L$3,2))","v":0},{"$f":"ROUND(I61*L61,2)","v":{"$error":"#DIV/0!"}},{"$f":"ROUND(L61/G61,4)","v":{"$error":"#DIV/0!"}}]
[46021,"Cups, Portion, 4 oz, Paper","Sweetheart 400",400,null,5000,5000,null,{"$f":"ROUND(H62*G62/G62,2)","v":0},"Cs",null,{"$f":"IF(OR(ISBLANK(K62),K62=0,H62=0,ISBLANK(H62)),,ROUND(K62+$L$3,2))","v":0},{"$f":"ROUND(L62*I62,2)","v":0},{"$f":"ROUND(L62/G62,4)","v":0}]
[null,null,"Solo 51",51,null,5000,5000,null,{"$f":"ROUND($H$62*$G$62/G63,2)","v":0},"Cs",null,{"$f":"IF(OR(ISBLANK(H62),H62=0,K63=0,ISBLANK(K63)),,ROUND(K63+$L$3,2))","v":0},{"$f":"ROUND(L63*I63,2)","v":0},{"$f":"ROUND(L63/G63,4)","v":0}]
[null,null,"Distributor Choice"]
[null,null,"Fillable txt box ",null,null,null,null,null,{"$f":"ROUND(H62*G62/G65,2)","v":{"$error":"#DIV/0!"}},"Cs",null,{"$f":"IF(OR(ISBLANK(H62),H62=0,K65=0,ISBLANK(K65)),,ROUND(K65+$L$3,2))","v":0},{"$f":"ROUND(I65*L65,2)","v":{"$error":"#DIV/0!"}},{"$f":"ROUND(L65/G65,4)","v":{"$error":"#DIV/0!"}}]
[46022,"Cups, Portion, 2 oz. Plastic","Sweetheart UR2H","UR2H",null,2500,2500,200,{"$f":"ROUND(H66*G66/G66,2)","v":200},"Cs",null,{"$f":"IF(OR(ISBLANK(K66),K66=0,H66=0,ISBLANK(H66)),,ROUND(K66+$L$3,2))","v":0},{"$f":"ROUND(L66*I66,2)","v":0},{"$f":"ROUND(L66/G66,4)","v":0}]
[null,"Lids on line 34","Solo B200","B200",null,2500,2500,null,{"$f":"ROUND($H$66*$G$66/G67,2)","v":200},"Cs",null,{"$f":"IF(OR(ISBLANK(H66),H66=0,K67=0,ISBLANK(K67)),,ROUND(K67+$L$3,2))","v":0},0,{"$f":"ROUND(L67/G67,4)","v":0}]
[null,null,"Dart 200PC","200PC",null,2500,2500,null,{"$f":"ROUND($H$66*$G$66/G68,2)","v":200},"Cs",null,{"$f":"IF(OR(ISBLANK(K68),K68=0,H66=0,ISBLANK(H66)),,ROUND(K68+$L$3,2))","v":0},0,{"$f":"ROUND(L68/G68,4)","v":0}]
[null,null,"Dixie","PP20CLEAR",null,2400,2400,null,{"$f":"ROUND($H$66*$G$66/G69,2)","v":208.33},"Cs",null,{"$f":"IF(OR(ISBLANK(H66),H66=0,K69=0,ISBLANK(K69)),,ROUND(K69+$L$3,2))","v":0},0,{"$f":"ROUND(L69/G69,4)","v":0}]
[46023,"Cups, Portion, 4 oz., Plastic","Sweetheart UR4","UR4",null,2500,2500,60,{"$f":"ROUND(H70*G70/G70,2)","v":60},"Cs",null,{"$f":"IF(OR(ISBLANK(K70),K70=0,H70=0,ISBLANK(H70)),,ROUND(K70+$L$3,2))","v":0},0,0]
[null,"Lids on line 35","Dixie PO40 translucent","PP40CLEAR",null,2400,2400,null,{"$f":"ROUND($H$70*$G$70/G71,2)","v":62.5},"Cs",null,{"$f":"IF(OR(ISBLANK(H70),H70=0,K71=0,ISBLANK(K71)),,ROUND(K71+$L$3,2))","v":0},0,0]
[null,null,"Solo P400","P400",null,2500,2500,null,{"$f":"ROUND($H$70*$G$70/G72,2)","v":60},"Cs",null,{"$f":"IF(OR(ISBLANK(K72),K72=0,H70=0,ISBLANK(H70)),,ROUND(K72+$L$3,2))","v":0},0,0]
[null,null,"Dart 400PC","400PC",null,2500,2500,null,{"$f":"ROUND($H$70*$G$70/G73,2)","v":60},"Cs",null,{"$f":"IF(OR(ISBLANK(H70),H70=0,K73=0,ISBLANK(K73)),,ROUND(K73+$L$3,2))","v":0},0,0]
[46024,"Cups, Portion, 5.5 oz., Plastic","Dixie PO55 translucent","PO55CLEAR",null,2400,2400,30,null,"Cs",null,{"$f":"IF(OR(ISBLANK(K74),K74=0,H74=0,ISBLANK(H74)),,ROUND(K74+$L$3,2))","v":0},0,0]
[null,null,"Solo P550","P550",null,2500,2500,null,{"$f":"ROUND($H$74*$G$74/G75,2)","v":28.8},"Cs",null,{"$f":"IF(OR(ISBLANK(H74),H74=0,K75=0,ISBLANK(K75)),,ROUND(K75+$L$3,2))","v":0},0,0]
[null,"Lids on line 36","Dart 550PC","550PC",null,2500,2500,null,{"$f":"ROUND($H$74*$G$74/G76,2)","v":28.8},"Cs",null,{"$f":"IF(OR(ISBLANK(K76),K76=0,H74=0,ISBLANK(H74)),,ROUND(K76+$L$3,2))","v":0},0,0]
[46025,"Cups, Drinking, Styrofoam, 8 oz","Dart 8J8","8J8",null,"40/25",1000,100,{"$f":"ROUND(H77*G77/G77,2)","v":100},"Cs",null,{"$f":"IF(OR(ISBLANK(K77),K77=0,H77=0,ISBLANK(H77)),,ROUND(K77+$L$3,2))","v":0},0,0]
[null,"Must not contain CFC's ","Distributor Choice"]
[null,null,"Fillable txt box ",null,null,null,null,null,{"$f":"ROUND(H77*G77/G79,2)","v":{"$error":"#DIV/0!"}},"Cs",null,{"$f":"IF(OR(ISBLANK(K79),K79=0,H77=0,ISBLANK(H77)),,ROUND(K79+$L$3,2))","v":0},{"$f":"ROUND(I79*L79,2)","v":{"$error":"#DIV/0!"}},{"$f":"ROUND(L79/G79,4)","v":{"$error":"#DIV/0!"}}]
[46026,"Cups, Drinking, Styrofoam, 12 oz","Dart 12J12","12J12",null,"40/25",1000,null,{"$f":"ROUND(H80*G80/G80,2)","v":0},"Cs",null,{"$f":"IF(OR(ISBLANK(K80),K80=0,H80=0,ISBLANK(H80)),,ROUND(K80+$L$3,2))","v":0},{"$f":"ROUND(L80*I80,2)","v":0},{"$f":"ROUND(L80/G80,4)","v":0}]
[null,null,"Distributor Choice"]
[null,"Must not contain CFC's ","Fillable txt box ",null,null,null,null,null,{"$f":"ROUND(H80*G80/G82,2)","v":{"$error":"#DIV/0!"}},"Cs",null,{"$f":"IF(OR(ISBLANK(K82),K82=0,H80=0,ISBLANK(H80)),,ROUND(K82+$L$3,2))","v":0},{"$f":"ROUND(I82*L82,2)","v":{"$error":"#DIV/0!"}},{"$f":"ROUND(L82/G82,4)","v":{"$error":"#DIV/0!"}}]
[46027,"Forks, Plastic","D&W Finepack Senate P1001","P1001",null,1000,1000,1200,{"$f":"ROUND(H83*G83/G83,2)","v":1200},"Cs",null,{"$f":"IF(OR(ISBLANK(K83),K83=0,H83=0,ISBLANK(H83)),,ROUND(K83+$L$3,2))","v":0},{"$f":"ROUND(L83*I83,2)","v":0},0]
[null,"Medium weight","Dixie PFM 22",null,null,2000,2000,null,{"$f":"ROUND($H$83*$G$83/G84,2)","v":600},"Cs",null,{"$f":"IF(OR(ISBLANK(H83),H83=0,K84=0,ISBLANK(K84)),,ROUND(K84+$L$3,2))","v":0},{"$f":"ROUND(L84*I84,2)","v":0},0]
[null,null,"Dart F6BW",null,null,1000,1000,null,{"$f":"ROUND($H$83*$G$83/G85,2)","v":1200},"Cs",0,{"$f":"IF(OR(ISBLANK(K85),K85=0,H83=0,ISBLANK(H83)),,ROUND(K85+$L$3,2))","v":0},{"$f":"ROUND(L85*I85,2)","v":0},0]
[null,null,"Distributor Choice"]
[null,null,"Fillable txt box ",null,null,0,0,null,{"$f":"ROUND(H83*G83/G87,2)","v":{"$error":"#DIV/0!"}},"Cs",0,{"$f":"IF(OR(ISBLANK(K87),K87=0,H83=0,ISBLANK(H83)),,ROUND(K87+$L$3,2))","v":0},{"$f":"ROUND(L87*I87,2)","v":{"$error":"#DIV/0!"}},{"$f":"ROUND(L87/G87,4)","v":{"$error":"#DIV/0!"}}]
[null,null,"Max Packaging",null,null,1000,1000,null,{"$f":"ROUND($H$83*$G$83/G88,2)","v":1200},"CS",null,{"$f":"IF(OR(ISBLANK(K88),K88=0,H83=0,ISBLANK(H83)),,ROUND(K88+$L$3,2))","v":0},{"$f":"ROUND(L88*I88,2)","v":0},0]
[46028,"Forks, MW Black Plastic, Disposable, Dispen Type","Smart Stack SSF51",null,null,960,960,null,{"$f":"ROUND(H89*G89/G89,2)","v":0},"Cs",null,{"$f":"IF(OR(ISBLANK(K89),K89=0,H89=0,ISBLANK(H89)),,ROUND(K89+$L$3,2))","v":0},{"$f":"ROUND(L89*I89,2)","v":0},{"$f":"ROUND(L89/G89,4)","v":0}]
[]
[46029,"Gloves, Lined","Handgards LTX ",null,null,144,144,null,{"$f":"ROUND(H91*G91/G91,2)","v":0},"Cs",null,{"$f":"IF(OR(ISBLANK(K91),K91=0,H91=0,ISBLANK(H91)),,ROUND(K91+$L$3,2))","v":0},{"$f":"ROUND(L91*I91,2)","v":0},0]
[null,"One Pair.  Latex, medium weight.  Size:  Large","Distributor Choice"]
[null,null,"Fillable txt box ",null,null,null,null,null,{"$f":"ROUND(H91*G91/G93,2)","v":{"$error":"#DIV/0!"}},"Cs",null,{"$f":"IF(OR(ISBLANK(K93),K93=0,H91=0,ISBLANK(H91)),,ROUND(K93+$L$3,2))","v":0},{"$f":"ROUND(I93*L93,2)","v":{"$error":"#DIV/0!"}},{"$f":"ROUND(L93/G93,4)","v":{"$error":"#DIV/0!"}}]
[46030,"Gloves, Plastic","Distributor Choice",null,null,"10/100",1000,6,{"$f":"ROUND(H94*G94/G94,2)","v":6},"Cs"]
[null,"Cuff Length.  Dispenser Box.  Embossed.","Fillable txt box ",null,null,null,null,null,{"$f":"ROUND(H94*G94/G95,2)","v":{"$error":"#DIV/0!"}},"Cs",null,{"$f":"IF(OR(ISBLANK(H94),H94=0,G95=0,ISBLANK(G95)),,ROUND(K95+$L$3,2))","v":0},{"$f":"ROUND(I95*L95,2)","v":{"$error":"#DIV/0!"}},{"$f":"ROUND(L95/G95,4)","v":{"$error":"#DIV/0!"}}]
[46031,"Kit, Spork with Napkin Kit","D&W Finepack Senate P1005Kit",null,null,1000,1000,65,{"$f":"ROUND(H96*G96/G96,2)","v":65},"Cs",null,{"$f":"IF(OR(ISBLANK(K96),K96=0,H96=0,ISBLANK(H96)),,ROUND(K96+$L$3,2))","v":0},{"$f":"ROUND(L96*I96,2)","v":0},{"$f":"ROUND(L96/G96,4)","v":0}]
[null,"Medium Weight White Spork with  ","Distributor Choice"]
[null,"10x10 1-ply Napkin, wrapped","Fillable txt box ",null,null,null,null,null,{"$f":"ROUND(H96*G96/G98,2)","v":{"$error":"#DIV/0!"}},"Cs",null,{"$f":"IF(OR(ISBLANK(K98),K98=0,H96=0,ISBLANK(H96)),,ROUND(K98+$L$3,2))","v":0},{"$f":"ROUND(I98*L98,2)","v":{"$error":"#DIV/0!"}},{"$f":"ROUND(L98/G98,4)","v":{"$error":"#DIV/0!"}}]
[46032,"Kit, Fork MW, with Napkin (No Straw)","Distributor Choice",null,null,1000,1000,null,{"$f":"ROUND(H99*G99/G99,2)","v":0},"Cs"]
[null,null,"Fillable txt box ",null,null,null,null,null,{"$f":"ROUND(H99*G99/G100,2)","v":{"$error":"#DIV/0!"}},"Cs",null,{"$f":"IF(OR(ISBLANK(H99),H99=0,G100=0,ISBLANK(G100)),,ROUND(K100+$L$3,2))","v":0},{"$f":"ROUND(I100*L100,2)","v":{"$error":"#DIV/0!"}},{"$f":"ROUND(L100/G100,4)","v":{"$error":"#DIV/0!"}}]
[null,"Medium Weight White Fork "]
[46033,"Kit, Fork MW, Milk Straw with Napkin","D&W Finepack Senate P1001MSKIT",null,null,1000,1000,20,{"$f":"ROUND(H102*G102/G102,2)","v":20},"Cs",null,{"$f":"IF(OR(ISBLANK(K102),K102=0,H102=0,ISBLANK(H102)),,ROUND(K102+$L$3,2))","v":0},{"$f":"ROUND(L102*I102,2)","v":0},{"$f":"ROUND(L102/G102,4)","v":0}]
[null,null,"Distributor Choice"]
[null,"Medium Weight White Fork ","Fillable txt box ",null,null,null,null,null,{"$f":"ROUND(H102*G102/G104,2)","v":{"$error":"#DIV/0!"}},"Cs",null,{"$f":"IF(OR(ISBLANK(K104),K104=0,H102=0,ISBLANK(H102)),,ROUND(K104+$L$3,2))","v":0},{"$f":"ROUND(I104*L104,2)","v":{"$error":"#DIV/0!"}},{"$f":"ROUND(L104/G104,4)","v":{"$error":"#DIV/0!"}},null,null,null,null,null,null,null,null,3]
[46034,"Lids, 2 oz ","Dart",null,null,"20/125",2500,200,{"$f":"ROUND(H105*G105/G105,2)","v":200},"Cs",null,{"$f":"IF(OR(ISBLANK(K105),K105=0,H105=0,ISBLANK(H105)),,ROUND(K105+$L$3,2))","v":0},{"$f":"ROUND(L105*I105,2)","v":0},{"$f":"ROUND(L105/G105,4)","v":0}]
[null,null,"Dixie","PL20CLEAR",null,"24/100",2400,null,{"$f":"ROUND(H105*G105/G106,2)","v":208.33},"Cs",null,{"$f":"IF(OR(ISBLANK(K106),K106=0,H105=0,ISBLANK(H105)),,ROUND(K106+$L$3,2))","v":0},{"$f":"ROUND(L106*I106,2)","v":0},{"$f":"ROUND(L106/G106,4)","v":0}]
[null,null,"Distributor Choice"]
[null,"Fits 2 oz plastic portion cup , see Line 22","Fillable txt box ",null,null,null,null,null,{"$f":"ROUND(H105*G105/G108,2)","v":{"$error":"#DIV/0!"}},"Cs",null,{"$f":"IF(OR(ISBLANK(K108),K108=0,H105=0,ISBLANK(H105)),,ROUND(K108+$L$3,2))","v":0},{"$f":"ROUND(I108*L108,2)","v":{"$error":"#DIV/0!"}},{"$f":"ROUND(L108/G108,4)","v":{"$error":"#DIV/0!"}}]
[46035,"Lids, 4 oz","Dixie PL4C","PL40CLEAR",null,2400,2400,200,{"$f":"ROUND(H109*G109/G109,2)","v":200},"Cs",null,{"$f":"IF(OR(ISBLANK(K109),K109=0,H109=0,ISBLANK(H109)),,ROUND(K109+$L$3,2))","v":0},{"$f":"ROUND(L109*I109,2)","v":0},{"$f":"ROUND(L109/G109,4)","v":0}]
[null,null,"Dart 400 PCL","400 PCL",null,2500,2500,null,{"$f":"ROUND($H$109*$G$109/G110,2)","v":192},"Cs",null,{"$f":"IF(OR(ISBLANK(H109),H109=0,K110=0,ISBLANK(K110)),,ROUND(K110+$L$3,2))","v":0},{"$f":"ROUND(L110*I110,2)","v":0},{"$f":"ROUND(L110/G110,4)","v":0}]
[null,"Fits 4 oz. plastic portion cup, see line 23","Solo PL4","PL4",null,2500,2500,null,{"$f":"ROUND($H$109*$G$109/G111,2)","v":192},"Cs",null,{"$f":"IF(OR(ISBLANK(K111),K111=0,H109=0,ISBLANK(H109)),,ROUND(K111+$L$3,2))","v":0},{"$f":"ROUND(L111*I111,2)","v":0},{"$f":"ROUND(L111/G111,4)","v":0}]
[46036,"Lids, 5 oz","Dart 400PCl",null,null,2500,2500,10,{"$f":"ROUND(H112*G112/G112,2)","v":10},"Cs",null,{"$f":"IF(OR(ISBLANK(K112),K112=0,H112=0,ISBLANK(H112)),,ROUND(K112+$L$3,2))","v":0},{"$f":"ROUND(L112*I112,2)","v":0},{"$f":"ROUND(L112/G112,4)","v":0}]
[null,null,"Distributor Choice"]
[null,"Fits 5.5 oz. plastic portion cup see line 24","Fillable txt box ",null,null,null,null,null,{"$f":"ROUND(H112*G112/G114,2)","v":{"$error":"#DIV/0!"}},"Cs",null,{"$f":"IF(OR(ISBLANK(K114),K114=0,H112=0,ISBLANK(H112)),,ROUND(K114+$L$3,2))","v":0},{"$f":"ROUND(I114*L114,2)","v":{"$error":"#DIV/0!"}},{"$f":"ROUND(L114/G114,4)","v":{"$error":"#DIV/0!"}}]
[46037,"Lids, 5 oz bowl with flared lip","Genpak",null,null,500,500,100,{"$f":"ROUND(H115*G115/G115,2)","v":100},"Cs",null,{"$f":"IF(OR(ISBLANK(K115),K115=0,H115=0,ISBLANK(H115)),,ROUND(K115+$L$3,2))","v":0},{"$f":"ROUND(L115*I115,2)","v":0},{"$f":"ROUND(L115/G115,4)","v":0}]
[null,"see line 7"]
[46038,"Lids, 12 oz bowl with flared lip","Genpak 94012",null,null,500,500,100,{"$f":"ROUND(H117*G117/G117,2)","v":100},"Cs",null,{"$f":"IF(OR(ISBLANK(K117),K117=0,H117=0,ISBLANK(H117)),,ROUND(K117+$L$3,2))","v":0},{"$f":"ROUND(L117*I117,2)","v":0},{"$f":"ROUND(L117/G117,4)","v":0}]
[null,"OPS dome fits all 12 oz bows, clear, with .88 lid height"]
[46039,"Lid, Container, 8-32 oz Non Vented Plastic","Dart 20JLNV",null,null,"10/100",1000,null,{"$f":"ROUND(H119*G119/G119,2)","v":0},"Cs",null,{"$f":"IF(OR(ISBLANK(K119),K119=0,H119=0,ISBLANK(H119)),,ROUND(K119+$L$3,2))","v":0},{"$f":"ROUND(L119*I119,2)","v":0},{"$f":"ROUND(L119/G119,4)","v":0}]
[null,null,"Distributor Choice"]
[null,"Fits 8SJ20, 12SJ20, 5B20, 8B20 see line 26, 27","Fillable txt box ",null,null,null,null,null,{"$f":"ROUND(H119*G119/G121,2)","v":{"$error":"#DIV/0!"}},"Cs",null,{"$f":"IF(OR(ISBLANK(K121),K121=0,H119=0,ISBLANK(H119)),,ROUND(K121+$L$3,2))","v":0},{"$f":"ROUND(I121*L121,2)","v":{"$error":"#DIV/0!"}},{"$f":"ROUND(L121/G121,4)","v":{"$error":"#DIV/0!"}}]
[46040,"Lid, Container, 6-14 oz Vented Plastic, White","Dart 12JL",null,null,"10/100",1000,null,{"$f":"ROUND(H122*G122/G122,2)","v":0},"Cs",null,{"$f":"IF(OR(ISBLANK(K122),K122=0,H122=0,ISBLANK(H122)),,ROUND(K122+$L$3,2))","v":0},{"$f":"ROUND(L122*I122,2)","v":0},{"$f":"ROUND(L122/G122,4)","v":0}]
[null,null,"Distributor Choice"]
[null,"see line 27","Fillable txt box ",null,null,null,null,null,{"$f":"ROUND(H122*G122/G124,2)","v":{"$error":"#DIV/0!"}},"Cs",null,{"$f":"IF(OR(ISBLANK(K124),K124=0,H122=0,ISBLANK(H122)),,ROUND(K124+$L$3,2))","v":0},{"$f":"ROUND(I124*L124,2)","v":{"$error":"#DIV/0!"}},{"$f":"ROUND(L124/G124,4)","v":{"$error":"#DIV/0!"}}]
[46041,"Lid, Container, 8-20 oz Vented Plastic, Translucent","Dart 20JL ",null,null,"10/100",1000,null,{"$f":"ROUND(H125*G125/G125,2)","v":0},"Cs",null,{"$f":"IF(OR(ISBLANK(K125),K125=0,H125=0,ISBLANK(H125)),,ROUND(K125+$L$3,2))","v":0},{"$f":"ROUND(L125*I125,2)","v":0},{"$f":"ROUND(L125/G125,4)","v":0}]
[null,null,"Distributor Choice"]
[null,"see line 8,9,14,15","Fillable txt box ",null,null,null,null,null,{"$f":"ROUND(H125*G125/G127,2)","v":{"$error":"#DIV/0!"}},"Cs",null,{"$f":"IF(OR(ISBLANK(K127),K127=0,H125=0,ISBLANK(H125)),,ROUND(K127+$L$3,2))","v":0},{"$f":"ROUND(I127*L127,2)","v":{"$error":"#DIV/0!"}},{"$f":"ROUND(L127/G127,4)","v":{"$error":"#DIV/0!"}}]
[46042,"Lid, Plate, 10.25\", fits all plates.  10.25\" x 1.38\", clear,","Distributor Choice",null,null,200,200,null,{"$f":"ROUND(H128*G128/G128,2)","v":0},"Cs"]
[null,"vented see ln 50","Fillable txt box ",null,null,null,null,null,{"$f":"ROUND(H128*G128/G129,2)","v":{"$error":"#DIV/0!"}},"Cs",null,{"$f":"IF(OR(ISBLANK(H128),H128=0,G129=0,ISBLANK(G129)),,ROUND(K129+$L$3,2))","v":0},{"$f":"ROUND(I129*L129,2)","v":{"$error":"#DIV/0!"}},{"$f":"ROUND(L129/G129,4)","v":{"$error":"#DIV/0!"}}]
[46043,"Liners, Pan","Dixie LO10",null,null,1000,1000,56,{"$f":"ROUND(H130*G130/G130,2)","v":56},"Cs",null,{"$f":"IF(OR(ISBLANK(K130),K130=0,H130=0,ISBLANK(H130)),,ROUND(K130+$L$3,2))","v":0},{"$f":"ROUND(L130*I130,2)","v":0},{"$f":"ROUND(L130/G130,4)","v":0}]
[null,null,"Distributor Choice"]
[null,"Silicon sheets 16.5\" x 24.5\" standard","Fillable txt box ",null,null,null,null,null,{"$f":"ROUND(H130*G130/G132,2)","v":{"$error":"#DIV/0!"}},"Cs",null,{"$f":"IF(OR(ISBLANK(K132),K132=0,H130=0,ISBLANK(H130)),,ROUND(K132+$L$3,2))","v":0},{"$f":"ROUND(L132*I132,2)","v":{"$error":"#DIV/0!"}},{"$f":"ROUND(L132/G132,4)","v":{"$error":"#DIV/0!"}}]
[46044,"Liners, Pan, Unbleached Natural","EcoCraft 030025",null,null,1000,1000,10,{"$f":"ROUND(H133*G133/G133,2)","v":10},"Cs",null,{"$f":"IF(OR(ISBLANK(K133),K133=0,H133=0,ISBLANK(H133)),,ROUND(K133+$L$3,2))","v":0},{"$f":"ROUND(L133*I133,2)","v":0},{"$f":"ROUND(L133/G133,4)","v":0}]
[null,"Eco-friendly"," "]
[null,"16 3/8\" x 24 3/8 \""]
[46045,"Liners, Trash Cans","Distributor Choice",null,null,100,100,170,{"$f":"ROUND(H136*G136/G136,2)","v":170},"Cs"]
[null,"60 gallon trash liners.Linear Low Density Resin 38\" ","Fillable txt box ",null,null,null,null,null,{"$f":"ROUND(H136*G136/G137,2)","v":{"$error":"#DIV/0!"}},"Cs",null,{"$f":"IF(OR(ISBLANK(H136),H136=0,G137=0,ISBLANK(G137)),,ROUND(K137+$L$3,2))","v":0},{"$f":"ROUND(I137*L137,2)","v":{"$error":"#DIV/0!"}},{"$f":"ROUND(L137/G137,4)","v":{"$error":"#DIV/0!"}}]
[null,"x 58\" 9 mil, New poly weight 13.2 pounds (minus 0).  ",null,null,null," "," "]
[null,"Minimum tear. 240 grams/md/td.   ",null,null,null," "," "]
[null,"Minimum dart drop 150 gms.  No reprocessed resins",null,null,null," "," "]
[46046,"Napkins, White, 8\" x 13.5\"","Georgia Pacific 332-01",null,null,10000,10000,10,{"$f":"ROUND(H141*G141/G141,2)","v":10},"Cs",null,{"$f":"IF(OR(ISBLANK(K141),K141=0,H141=0,ISBLANK(H141)),,ROUND(K141+$L$3,2))","v":0},{"$f":"ROUND(L141*I141,2)","v":0},{"$f":"ROUND(L141/G141,4)","v":0}]
[null,null,"Distributor Choice",null,null,null," "]
[null,null,"Fillable txt box ",null,null," "," ",null,{"$f":"ROUND(H141*G141/G143,2)","v":{"$error":"#VALUE!"}},"Cs",null,{"$f":"IF(OR(ISBLANK(K143),K143=0,H141=0,ISBLANK(H141)),,ROUND(K143+$L$3,2))","v":0},{"$f":"ROUND(I143*L143,2)","v":{"$error":"#VALUE!"}},{"$f":"ROUND(L143/G143,4)","v":{"$error":"#VALUE!"}}]
[null,"Double fold, tail dispenser","Papercraft, Inc",null,null,10000,10000,null,{"$f":"ROUND(H141*G141/G144,2)","v":10},"Cs",null,{"$f":"IF(OR(ISBLANK(H141),H141=0,K144=0,ISBLANK(K144)),,ROUND(K144+$L$3,2))","v":0},0,0]
[46047,"Napkins, White, 12\" x 13\"","Georgia Pacific 370-00",null,null,6000,6000,null,{"$f":"ROUND(H145*G145/G145,2)","v":0},"Cs",null,{"$f":"IF(OR(ISBLANK(K145),K145=0,H145=0,ISBLANK(H145)),,ROUND(K145+$L$3,2))","v":0},0,0]
[null,null,"Distributor Choice",null,null,null," "]
[null,null,"Fillable txt box ",null,null," "," ",null,{"$f":"ROUND(H145*G145/G147,2)","v":{"$error":"#VALUE!"}},"Cs",null,{"$f":"IF(OR(ISBLANK(K147),K147=0,H145=0,ISBLANK(H145)),,ROUND(K147+$L$3,2))","v":0},{"$f":"ROUND(I147*L147,2)","v":{"$error":"#VALUE!"}},{"$f":"ROUND(L147/G147,4)","v":{"$error":"#VALUE!"}}]
[null,"1 ply.  Dispenser ID 51302","SCA D780",null,null,6000,6000,null,{"$f":"ROUND(H145*G145/G148,2)","v":0},"Cs",null,{"$f":"IF(OR(ISBLANK(H145),H145=0,K148=0,ISBLANK(K148)),,ROUND(K148+$L$3,2))","v":0},0,0]
[46048,"Napkins, White, 13\" x 8.5\", Dispenser","Tork Expressnap DX900",null,null,1,1,null,{"$f":"ROUND(H149*G149/G149,2)","v":0},"Cs",null,{"$f":"IF(OR(ISBLANK(K149),K149=0,H149=0,ISBLANK(H149)),,ROUND(K149+$L$3,2))","v":0},0,0]
[46049,"Panhandlers/Pan Holder (hot)","Panhandler PG-1",null,null,1,1,null,{"$f":"ROUND(H150*G150/G150,2)","v":0},"Cs",null,{"$f":"IF(OR(ISBLANK(K150),K150=0,H150=0,ISBLANK(H150)),,ROUND(K150+$L$3,2))","v":0},0,0]
[null,null,"Distributor Choice"]
[null,"Insulated 11.5\" x 8.5\"","Fillable txt box ",null,null,null,null,null,{"$f":"ROUND(H150*G150/G152,2)","v":{"$error":"#DIV/0!"}},"Cs",null,{"$f":"IF(OR(ISBLANK(K152),K152=0,H150=0,ISBLANK(H150)),,ROUND(K152+$L$3,2))","v":0},{"$f":"ROUND(I152*L152,2)","v":{"$error":"#DIV/0!"}},{"$f":"ROUND(L152/G152,4)","v":{"$error":"#DIV/0!"}}]
[46050,"Plate","Pactiv TK1-0044",null,null,500,500,null,{"$f":"ROUND(H153*G153/G153,2)","v":0},"Cs",null,{"$f":"IF(OR(ISBLANK(K153),K153=0,H153=0,ISBLANK(H153)),,ROUND(K153+$L$3,2))","v":0},{"$f":"ROUND(L153*I153,2)","v":0},{"$f":"ROUND(L153/G153,4)","v":0}]
[null,"Divided, foam laminated 10.25\"","Dart 10CPWQ",null,null,500,500,null,{"$f":"ROUND($H$153*$G$153/G154,2)","v":0},"Cs",null,{"$f":"IF(OR(ISBLANK(H153),H153=0,K154=0,ISBLANK(K154)),,ROUND(K154+$L$3,2))","v":0},{"$f":"ROUND(L154*I154,2)","v":0},{"$f":"ROUND(L154/G154,4)","v":0}]
[null,null,"Distributor Choice"]
[null," ","Fillable txt box ",null,null,null,null,null,{"$f":"ROUND(H153*G153/G156,2)","v":{"$error":"#DIV/0!"}},"Cs",null,{"$f":"IF(OR(ISBLANK(H153),H153=0,K156=0,ISBLANK(K156)),,ROUND(K156+$L$3,2))","v":0},{"$f":"ROUND(I156*L156,2)","v":{"$error":"#DIV/0!"}},{"$f":"ROUND(L156/G156,4)","v":{"$error":"#DIV/0!"}}]
[46051,"Plate, FM, 6 inch (snack size)","GenPak 80600",null,null,1000,1000,null,{"$f":"ROUND(H157*G157/G157,2)","v":0},"Cs",null,{"$f":"IF(OR(ISBLANK(K157),K157=0,H157=0,ISBLANK(H157)),,ROUND(K157+$L$3,2))","v":0},{"$f":"ROUND(L157*I157,2)","v":0},{"$f":"ROUND(L157/G157,4)","v":0}]
[null,null,"Distributor Choice"]
[null,null,"Fillable txt box ",null,null,null,null,null,{"$f":"ROUND(H157*G157/G159,2)","v":{"$error":"#DIV/0!"}},"Cs",null,{"$f":"IF(OR(ISBLANK(K159),K159=0,H157=0,ISBLANK(H157)),,ROUND(K159+$L$3,2))","v":0},{"$f":"ROUND(I159*L159,2)","v":{"$error":"#DIV/0!"}},{"$f":"ROUND(L159/G159,4)","v":{"$error":"#DIV/0!"}}]
[46052,"Sponges, Metal","Distributor Choice",null,null,12,12,null,{"$f":"ROUND(H160*G160/G160,2)","v":0},"Cs"]
[null,"Stainless steel, commercial 300 series. Type 1.5 oz","Fillable txt box ",null,null,null,null,null,{"$f":"ROUND(H160*G160/G161,2)","v":{"$error":"#DIV/0!"}},"Cs",null,{"$f":"IF(OR(ISBLANK(H160),H160=0,K161=0,ISBLANK(K161)),,ROUND(K161+$L$3,2))","v":0},{"$f":"ROUND(I161*L161,2)","v":{"$error":"#DIV/0!"}},{"$error":"#DIV/0!"}]
[46053,"Spoons, Plastic","D&W Finepack Senate P1003",null,null,1000,1000,248,{"$f":"ROUND(H162*G162/G162,2)","v":248},"Cs",null,{"$f":"IF(OR(ISBLANK(K162),K162=0,H162=0,ISBLANK(H162)),,ROUND(K162+$L$3,2))","v":0},{"$f":"ROUND(L162*I162,2)","v":0},0]
[null,"Medium weight","Dixie PTM 22",null,null,2000,2000,null,{"$f":"ROUND($H$162*$G$162/G163,2)","v":124},"Cs",null,{"$f":"IF(OR(ISBLANK(H162),H162=0,K163=0,ISBLANK(K163)),,ROUND(K163+$L$3,2))","v":0},{"$f":"ROUND(L163*I163,2)","v":0},0]
[null,null,"Distributor Choice",null,null," "," ",null," "," "]
[null,null,"Fillable txt box ",null,null,null,0,null,{"$f":"ROUND($H$162*$G$162/G165,2)","v":{"$error":"#DIV/0!"}},"Cs",0,{"$f":"IF(OR(ISBLANK(H162),H162=0,K165=0,ISBLANK(K165)),,ROUND(K165+$L$3,2))","v":0},{"$f":"ROUND(L165*I165,2)","v":{"$error":"#DIV/0!"}},{"$f":"ROUND(L165/G165,4)","v":{"$error":"#DIV/0!"}}]
[null,null,"Dart S6BW",null,null,1000,1000,null,{"$f":"ROUND($H$162*$G$162/G166,2)","v":248},"Cs",null,{"$f":"IF(OR(ISBLANK(K166),K166=0,H162=0,ISBLANK(H162)),,ROUND(K166+$L$3,2))","v":0},{"$f":"ROUND(L166*I166,2)","v":0},0]
[46054,"Spoons, MW, Black Plastic, Dispenser","Smart Stack SSS51",null,null,960,960,null,{"$f":"ROUND(H167*G167/G167,2)","v":0},"Cs",null,{"$f":"IF(OR(ISBLANK(K167),K167=0,H167=0,ISBLANK(H167)),,ROUND(K167+$L$3,2))","v":0},{"$f":"ROUND(L167*I167,2)","v":0},0]
[46055,"Spoons, Soup, MW, Plastic","Max Packaging",null,null,1000,1000,null,{"$f":"ROUND(H168*G168/G168,2)","v":0},"Cs",null,{"$f":"IF(OR(ISBLANK(K168),K168=0,H168=0,ISBLANK(H168)),,ROUND(K168+$L$3,2))","v":0},{"$f":"ROUND(L168*I168,2)","v":0},{"$f":"ROUND(L168/G168,4)","v":0}]
[null,null,"Distributor Choice"]
[null,null,"Fillable txt box ",null,null,null,0,null,{"$f":"ROUND(H168*G168/G170,2)","v":{"$error":"#DIV/0!"}},"Cs",null,{"$f":"IF(OR(ISBLANK(K170),K170=0,H168=0,ISBLANK(H168)),,ROUND(K170+$L$3,2))","v":0},{"$f":"ROUND(I170*L170,2)","v":{"$error":"#DIV/0!"}},{"$f":"ROUND(L170/G170,4)","v":{"$error":"#DIV/0!"}}]
[46056,"Sporks","Distributor Choice",null,null,1000,1000,456,{"$f":"ROUND(H171*G171/G171,2)","v":456},"Cs"]
[null,"Combination of spoon and fork. medium weight","Fillable txt box ",null,null,null,0,null,{"$f":"ROUND(H171*G171/G172,2)","v":{"$error":"#DIV/0!"}},"Cs",0,{"$f":"IF(OR(ISBLANK(H171),H171=0,G172=0,ISBLANK(G172)),,ROUND(K172+$L$3,2))","v":0},{"$f":"ROUND(I172*L172,2)","v":{"$error":"#DIV/0!"}},{"$f":"ROUND(L172/G172,4)","v":{"$error":"#DIV/0!"}}]
[46057,"Straws","Monogram 718462",null,null,"10/500",5000,null,{"$f":"ROUND(H173*G173/G173,2)","v":0},"Cs",null,{"$f":"IF(OR(ISBLANK(K173),K173=0,H173=0,ISBLANK(H173)),,ROUND(K173+$L$3,2))","v":0},{"$f":"ROUND(L173*I173,2)","v":0},{"$f":"ROUND(L173/G173,4)","v":0}]
[null,"Individually wrapped.  Plastic.  7.75\" to 8\"","Sweetheart 822TH",null,null,"12/500",6000,null,{"$f":"ROUND($H$173*$G$173/G174,2)","v":0},"Cs",null,{"$f":"IF(OR(ISBLANK(H173),H173=0,K174=0,ISBLANK(K174)),,ROUND(K174+$L$3,2))","v":0},{"$f":"ROUND(L174*I174,2)","v":0},{"$f":"ROUND(L174/G174,4)","v":0}]
[null,null,"Distributor Choice"]
[null,null,"Fillable txt box ",null,null,null,null,null,{"$f":"ROUND(H173*G173/G176,2)","v":{"$error":"#DIV/0!"}},"Cs",null,{"$f":"IF(OR(ISBLANK(H173),H173=0,K176=0,ISBLANK(K176)),,ROUND(K176+$L$3,2))","v":0},{"$f":"ROUND(I176*L176,2)","v":{"$error":"#DIV/0!"}},{"$f":"ROUND(L176/G176,4)","v":{"$error":"#DIV/0!"}}]
[46058,"Towel, Paper 11 x 8.8, Roll, Perforated, White","Distributor Choice",null,null,1,30,null,{"$f":"ROUND(H177*G177/G177,2)","v":0},"Cs"]
[null,null,"Fillable txt box ",null,null,null,null,null,{"$f":"ROUND(H177*G177/G178,2)","v":{"$error":"#DIV/0!"}},"Cs",null,{"$f":"IF(OR(ISBLANK(H177),H177=0,K178=0,ISBLANK(K178)),,ROUND(K178+$L$3,2))","v":0},{"$f":"ROUND(I178*L178,2)","v":{"$error":"#DIV/0!"}},{"$f":"ROUND(L178/G178,4)","v":{"$error":"#DIV/0!"}}]
[46059,"Towel, Brown or Natural Hardwood Roll Paper","Distributor Choice",null,null,1,6,null,{"$f":"ROUND(H179*G179/G179,2)","v":0},"Cs"]
[null,"8\" x 800'","Fillable txt box ",null,null,null,null,null,{"$f":"ROUND(H179*G179/G180,2)","v":{"$error":"#DIV/0!"}},"Cs",null,{"$f":"IF(OR(ISBLANK(H179),H179=0,K180=0,ISBLANK(K180)),,ROUND(K180+$L$3,2))","v":0},{"$f":"ROUND(I180*L180,2)","v":{"$error":"#DIV/0!"}},{"$f":"ROUND(L180/G180,4)","v":{"$error":"#DIV/0!"}}]
[46060,"Towel, Paper Multifold Brown 9.2\" x 9.5\"","Distributor Choice",null,null,4000,4000,null,{"$f":"ROUND(H181*G181/G181,2)","v":0},"Cs"]
[null,"800'","Fillable txt box ",null,null,null,null,null,{"$f":"ROUND(H181*G181/G182,2)","v":{"$error":"#DIV/0!"}},"Cs",null,{"$f":"IF(OR(ISBLANK(H181),H181=0,K182=0,ISBLANK(K182)),,ROUND(K182+$L$3,2))","v":0},{"$f":"ROUND(I182*L182,2)","v":{"$error":"#DIV/0!"}},{"$f":"ROUND(L182/G182,4)","v":{"$error":"#DIV/0!"}}]
[46061,"Tissue, Jumbo Toilet Tissue","Distributor Choice",null,null,12,12,null,{"$f":"ROUND(H183*G183/G183,2)","v":0},"Cs"]
[null,"2 ply, ","Fillable txt box ",null,null,null,null,null,{"$f":"ROUND(H183*G183/G184,2)","v":{"$error":"#DIV/0!"}},"Cs",null,{"$f":"IF(OR(ISBLANK(H183),H183=0,K184=0,ISBLANK(K184)),,ROUND(K184+$L$3,2))","v":0},{"$f":"ROUND(I184*L184,2)","v":{"$error":"#DIV/0!"}},{"$error":"#DIV/0!"}]
[46062,"Towels, Terry Cloth","Intedge 313SP-22306 ",null,null,12,12,28,{"$f":"ROUND(H185*G185/G185,2)","v":28},"Cs",null,{"$f":"IF(OR(ISBLANK(K185),K185=0,H185=0,ISBLANK(H185)),,ROUND(K185+$L$3,2))","v":0},{"$f":"ROUND(L185*I185,2)","v":0},0]
[null,"20\" x 17\" per cloth.  White.  Bar Mop","Benhar 003945",null,null,12,12,null,{"$f":"ROUND(H185*G185/G186,2)","v":28},"Cs",null,{"$f":"IF(OR(ISBLANK(H185),H185=0,K186=0,ISBLANK(K186)),,ROUND(K186+$L$3,2))","v":0},{"$f":"ROUND(L186*I186,2)","v":0},0]
[46063,"Trays, Food, #25","Dixie RP 25",null,null,1000,1000,null,{"$f":"ROUND(H187*G187/G187,2)","v":0},"Cs",null,{"$f":"IF(OR(ISBLANK(K187),K187=0,H187=0,ISBLANK(H187)),,ROUND(K187+$L$3,2))","v":0},{"$f":"ROUND(L187*I187,2)","v":0},0]
[null,null,"Southern Champion 0401",null,null,1000,1000,null,{"$f":"ROUND($H$187*$G$187/G188,2)","v":0},"CS",null,{"$f":"IF(OR(ISBLANK(H187),H187=0,K188=0,ISBLANK(K188)),,ROUND(K188+$L$3,2))","v":0},{"$f":"ROUND(L188*I188,2)","v":0},0]
[null,null,"Distributor Choice"]
[null,null,"Fillable txt box ",null,null,null,0,null,{"$f":"ROUND(H187*G187/G190,2)","v":{"$error":"#DIV/0!"}},"Cs",null,{"$f":"IF(OR(ISBLANK(H187),H187=0,K190=0,ISBLANK(K190)),,ROUND(K190+$L$3,2))","v":0},{"$f":"ROUND(I190*L190,2)","v":{"$error":"#DIV/0!"}},{"$f":"ROUND(L190/G190,4)","v":{"$error":"#DIV/0!"}}]
[46064,"Trays, Food, 6 oz /#40","Dixie RP 40",null,null,1000,1000,null,{"$f":"ROUND(H191*G191/G191,2)","v":0},"Cs",null,{"$f":"IF(OR(ISBLANK(K191),K191=0,H191=0,ISBLANK(H191)),,ROUND(K191+$L$3,2))","v":0},{"$f":"ROUND(L191*I191,2)","v":0},{"$f":"ROUND(L191/G191,4)","v":0}]
[null,null,"Southern Champion 0405",null,null,1000,1000,null,{"$f":"ROUND($H$191*$G$191/G192,2)","v":0},"Cs",null,{"$f":"IF(OR(ISBLANK(H191),H191=0,K192=0,ISBLANK(K192)),,ROUND(K192+$L$3,2))","v":0},{"$f":"ROUND(L192*I192,2)","v":0},{"$f":"ROUND(L192/G192,4)","v":0}]
[null,null,"Distributor Choice"]
[null,null,"Fillable txt box ",null,null,null,null,null,{"$f":"ROUND(H191*G191/G194,2)","v":{"$error":"#DIV/0!"}},"Cs",null,{"$f":"IF(OR(ISBLANK(H191),H191=0,K194=0,ISBLANK(K194)),,ROUND(K194+$L$3,2))","v":0},{"$f":"ROUND(I194*L194,2)","v":{"$error":"#DIV/0!"}},{"$f":"ROUND(L194/G194,4)","v":{"$error":"#DIV/0!"}}]
[46065,"Trays, Food, 1/2lb /#50","Dixie RP 50",null,null,1000,1000,1,{"$f":"ROUND(H195*G195/G195,2)","v":1},"Cs",null,{"$f":"IF(OR(ISBLANK(K195),K195=0,H195=0,ISBLANK(H195)),,ROUND(K195+$L$3,2))","v":0},{"$f":"ROUND(L195*I195,2)","v":0},{"$f":"ROUND(L195/G195,4)","v":0}]
[null,null,"Southern Champion 0409",null,null,1000,1000,null,{"$f":"ROUND(H195*G195/G196,2)","v":1},"Cs",null,{"$f":"IF(OR(ISBLANK(H195),H195=0,K196=0,ISBLANK(K196)),,ROUND(K196+$L$3,2))","v":0},{"$f":"ROUND(L196*I196,2)","v":0},{"$f":"ROUND(L196/G196,4)","v":0}]
[null,null,"Distributor Choice"]
[null,null,"Fillable txt box ",null,null,null,null,null,{"$f":"ROUND(H195*G195/G198,2)","v":{"$error":"#DIV/0!"}},"Cs",null,{"$f":"IF(OR(ISBLANK(H195),H195=0,K198=0,ISBLANK(K198)),,ROUND(K198+$L$3,2))","v":0},{"$f":"ROUND(I198*L198,2)","v":{"$error":"#DIV/0!"}},{"$f":"ROUND(L198/G198,4)","v":{"$error":"#DIV/0!"}}]
[46066,"Trays, Food, 1/2 lb/#50","EcoCraft 300695",null,null,1000,1000,null,{"$f":"ROUND(H199*G199/G199,2)","v":0},"Cs",null,{"$f":"IF(OR(ISBLANK(K199),K199=0,H199=0,ISBLANK(H199)),,ROUND(K199+$L$3,2))","v":0},{"$f":"ROUND(L199*I199,2)","v":0},{"$f":"ROUND(L199/G199,4)","v":0}]
[null,"Eco-friendly","Southern Champion 0509",null,null,1000,1000,null,{"$f":"ROUND(H199*G199/G200,2)","v":0},"Cs",null,{"$f":"IF(OR(ISBLANK(H199),H199=0,K200=0,ISBLANK(K200)),,ROUND(K200+$L$3,2))","v":0},{"$f":"ROUND(L200*I200,2)","v":0},{"$f":"ROUND(L200/G200,4)","v":0}]
[null,"Unbleached paper"]
[46067,"Tray, Food, 3lb, Red Pld","Dixie RP 3008",null,null,"2/250",500,1,{"$f":"ROUND(H202*G202/G202,2)","v":1},"Cs",null,{"$f":"IF(OR(ISBLANK(K202),K202=0,H202=0,ISBLANK(H202)),,ROUND(K202+$L$3,2))","v":0},{"$f":"ROUND(L202*I202,2)","v":0},{"$f":"ROUND(L202/G202,4)","v":0}]
[null,null,"Distributor Choice"]
[null,null,"Fillable txt box ",null,null,null,null,null,{"$f":"ROUND($H$202*$G$202/G204,2)","v":{"$error":"#DIV/0!"}},"Cs",null,{"$f":"IF(OR(ISBLANK(K204),K204=0,H202=0,ISBLANK(H202)),,ROUND(K204+$L$3,2))","v":0},{"$f":"ROUND(L204*I204,2)","v":{"$error":"#DIV/0!"}},{"$f":"ROUND(L204/G204,4)","v":{"$error":"#DIV/0!"}}]
[46068,"Trays, Plastic, Clear","Ivex 4296",null,null,2500,2500,null,{"$f":"ROUND(H205*G205/G205,2)","v":0},"Cs",null,{"$f":"IF(OR(ISBLANK(K205),K205=0,H205=0,ISBLANK(H205)),,ROUND(K205+$L$3,2))","v":0},{"$f":"ROUND(L205*I205,2)","v":0},{"$f":"ROUND(L205/G205,4)","v":0}]
[null,"Plastic square 3.5\" x 3.5\""," ",null,null," "," "]
[46069,"Tray, Plastic, Black, Square Extra Deep","ParPak 21935",null,null,2000,2000,null,{"$f":"ROUND(H207*G207/G207,2)","v":0},"Cs",null,{"$f":"IF(OR(ISBLANK(K207),K207=0,H207=0,ISBLANK(H207)),,ROUND(K207+$L$3,2))","v":0},{"$f":"ROUND(L207*I207,2)","v":0},{"$f":"ROUND(L207/G207,4)","v":0}]
[null,"Plastic square 3.5\" x 3.5\" x 1.5\""]
[46070,"Trays, School Styrofoam","Pactiv TH1-0500",null,null,500,500,937,{"$f":"ROUND(H209*G209/G209,2)","v":937},"Cs",null,{"$f":"IF(OR(ISBLANK(K209),K209=0,H209=0,ISBLANK(H209)),,ROUND(K209+$L$3,2))","v":0},{"$f":"ROUND(L209*I209,2)","v":0},{"$f":"ROUND(L209/G209,4)","v":0}]
[null,"8 1/2\" x 10 3/4\".  Laminated, white, 5 compartment","Gen Pak 10500",null,null,500,500,null,{"$f":"ROUND($H$209*$G$209/G210,2)","v":937},"Cs",null,{"$f":"IF(OR(ISBLANK(H209),H209=0,K210=0,ISBLANK(K210)),,ROUND(K210+$L$3,2))","v":0},{"$f":"ROUND(L210*I210,2)","v":0},{"$f":"ROUND(L210/G210,4)","v":0}]
[null,null,"D&W Finepack FTS500-CMP",null,null,"4/125",500,null,{"$f":"ROUND($H$209*$G$209/G211,2)","v":937},"Cs",null,{"$f":"IF(OR(ISBLANK(K211),K211=0,H209=0,ISBLANK(H209)),,ROUND(K211+$L$3,2))","v":0},{"$f":"ROUND(L211*I211,2)","v":0},{"$f":"ROUND(L211/G211,4)","v":0}]
[null,null,"Republic Plastics-98015",null,null,500,500,null,{"$f":"ROUND($H$209*$G$209/G212,2)","v":937},"Cs",null,{"$f":"IF(OR(ISBLANK(H209),H209=0,K212=0,ISBLANK(K212)),,ROUND(K212+$L$3,2))","v":0},{"$f":"ROUND(L212*I212,2)","v":0},{"$f":"ROUND(L212/G212,4)","v":0}]
[46071,"Trays, School Styrofoam","Pactiv YTHBO500SGBX",null,null,"500",500,null,{"$f":"ROUND(H213*G213/G213,2)","v":0},"Cs",null,{"$f":"IF(OR(ISBLANK(K213),K213=0,H213=0,ISBLANK(H213)),,ROUND(K213+$L$3,2))","v":0},{"$f":"ROUND(L213*I213,2)","v":0},{"$f":"ROUND(L213/G213,4)","v":0}]
[null,"8 1/2\" x 10 3/4\".  Laminated, Black, 5 compartment"," ",null,null," ",null,null," "," "," "," "," "," "]
[46072,"Wax Paper","110 Ponyroll",null,null,"12/750",9000,10,{"$f":"ROUND(H215*G215/G215,2)","v":10},"Cs",null,{"$f":"IF(OR(ISBLANK(K215),K215=0,H215=0,ISBLANK(H215)),,ROUND(K215+$L$3,2))","v":0},{"$f":"ROUND(L215*I215,2)","v":0},{"$f":"ROUND(L215/G215,4)","v":0}]
[null,null,"Marcel 5093 ",null,null,"12/250",3000,null,{"$f":"ROUND($H$215*$G$215/G216,2)","v":30},"Cs",null,{"$f":"IF(OR(ISBLANK(H215),H215=0,K216=0,ISBLANK(K216)),,ROUND(K216+$L$3,2))","v":0},{"$f":"ROUND(L216*I216,2)","v":0},{"$f":"ROUND(L216/G216,4)","v":0}]
[null,null,"Distributor Choice"]
[null,null,"Fillable txt box ",null,null,null,null,null,{"$f":"ROUND(H215*G215/G218,2)","v":{"$error":"#DIV/0!"}},"Cs",null,{"$f":"IF(OR(ISBLANK(H215),H215=0,K218=0,ISBLANK(K218)),,ROUND(K218+$L$3,2))","v":0},{"$f":"ROUND(I218*L218,2)","v":{"$error":"#DIV/0!"}},{"$f":"ROUND(L218/G218,4)","v":{"$error":"#DIV/0!"}}]
[46073,"Wipes, Foodservice, 13 x 21","Brawny Max 29416",null,null,150,150,null,{"$f":"ROUND(H219*G219/G219,2)","v":0},"Cs",null,{"$f":"IF(OR(ISBLANK(K219),K219=0,H219=0,ISBLANK(H219)),,ROUND(K219+$L$3,2))","v":0},{"$f":"ROUND(L219*I219,2)","v":0},{"$f":"ROUND(L219/G219,4)","v":0}]
[null,null,"Distributor Choice"]
[null,null,"Fillable txt box ",null,null,null,null,null,{"$f":"ROUND(H219*G219/G221,2)","v":{"$error":"#DIV/0!"}},"Cs",null,{"$f":"IF(OR(ISBLANK(K221),K221=0,H219=0,ISBLANK(H219)),,ROUND(K221+$L$3,2))","v":0},{"$f":"ROUND(I221*L221,2)","v":{"$error":"#DIV/0!"}},{"$f":"ROUND(L221/G221,4)","v":{"$error":"#DIV/0!"}}]
[46074,"Wrap, Clear, Plastic, Film, 12x2000","Distributor Choice",null,null,"1 each",150,null,{"$f":"ROUND(H222*G222/G222,2)","v":0},"Cs"]
[null,null,"Fillable txt box ",null,null,null,null,null,{"$f":"ROUND(H222*G222/G223,2)","v":{"$error":"#DIV/0!"}},"Cs",null,{"$f":"IF(OR(ISBLANK(H222),H222=0,K223=0,ISBLANK(K223)),,ROUND(K223+$L$3,2))","v":0},{"$f":"ROUND(I223*L223,2)","v":{"$error":"#DIV/0!"}},{"$error":"#DIV/0!"}]
[46075,"Wrap, Clear, Plastic, Film 18x2000","Distributor Choice",null,null,"1 each",2000,42,{"$f":"ROUND(H224*G224/G224,2)","v":42},"Cs"]
[null,null,"Fillable txt box ",null,null,null,null,null,{"$f":"ROUND(H224*G224/G225,2)","v":{"$error":"#DIV/0!"}},"Cs",null,{"$f":"IF(OR(ISBLANK(H224),H224=0,K225=0,ISBLANK(K225)),,ROUND(K225+$L$3,2))","v":0},{"$f":"ROUND(I225*L225,2)","v":{"$error":"#DIV/0!"}},{"$error":"#DIV/0!"}]
[46076,"Wrap, Clear, Plastic, Film 24x2000","Distributor Choice",null,null,"1 each",2000,51,{"$f":"ROUND(H226*G226/G226,2)","v":51},"Cs"]
[null,null,"Fillable txt box ",null,null,null,null,null,{"$f":"ROUND(H226*G226/G227,2)","v":{"$error":"#DIV/0!"}},"Cs",null,{"$f":"IF(OR(ISBLANK(H226),H226=0,K227=0,ISBLANK(K227)),,ROUND(K227+$L$3,2))","v":0},{"$f":"ROUND(I227*L227,2)","v":{"$error":"#DIV/0!"}},{"$error":"#DIV/0!"}]
[46077,"Wrap, Deli, Waxed paper, 6 x 10.75","Distributor Choice",null,null,"1 each",500,3,{"$f":"ROUND(H228*G228/G228,2)","v":3},"Cs"]
[null,null,"Fillable txt box ",null,null,null,null,null,{"$f":"ROUND(H228*G228/G229,2)","v":{"$error":"#DIV/0!"}},"Cs",null,{"$f":"IF(OR(ISBLANK(H228),H228=0,K229=0,ISBLANK(K229)),,ROUND(K229+$L$3,2))","v":0},{"$f":"ROUND(I229*L229,2)","v":{"$error":"#DIV/0!"}},{"$error":"#DIV/0!"}]
[46078,"Wrap, Foil,  Potato, ","Pactiv W72",null,null,"6/500",3000,5,{"$f":"ROUND(H230*G230/G230,2)","v":5},"Cs",null,{"$f":"IF(OR(ISBLANK(K230),K230=0,H230=0,ISBLANK(H230)),,ROUND(K230+$L$3,2))","v":0},{"$f":"ROUND(L230*I230,2)","v":0},0]
[null,"9\" x 10.75\", Aluminum Foil","Distributor Choice"]
[null,null,"Fillable txt box ",null,null,null,null,null,{"$f":"ROUND(H230*G230/G232,2)","v":{"$error":"#DIV/0!"}},"Cs",null,{"$f":"IF(OR(ISBLANK(K232),K232=0,H230=0,ISBLANK(H230)),,ROUND(K232+$L$3,2))","v":0},{"$f":"ROUND(I232*L232,2)","v":{"$error":"#DIV/0!"}},{"$f":"ROUND(L232/G232,4)","v":{"$error":"#DIV/0!"}}]
[null,null,null,null,null,null,null,null,null,null,"Lot A Paper & Paper Supplies",null,{"$f":"SUMIF(M8:M232,\">0\")","v":0}]

{"sheet":"Chemicals","index":26,"n_rows":17,"n_cols":14,"rows_kept":17,"cut":false,"hidden":false,"merged":[[0,5,0,13],[1,5,1,13],[2,6,2,10]]}
[null,{"$f":"'Recap Sheet'!A2","v":"School Food Authority or Agency Name:"},null,null,null,{"$f":"'Recap Sheet'!A3","v":"Bidder's Name:"}]
["48001-",{"$f":"'Recap Sheet'!B2","v":"Marion County School District"},"Return to Recap Sheet",null,null,{"$f":"'Recap Sheet'!B3","v":0}]
[50000,"Description","Approved",null,null,null,"Firm Fixed Fee",null,null,null,null,{"$f":"'Recap Sheet'!B4","v":0}]
["SCPA",null,"Brand Name","Manufacturers","Distributor","Vendor","Svgs","Est.","Bid ","Bid","Unit","Unit Price","Total ","Cost per"]
[" Code",null,"or Manufacturer","Code","Code","Pack","per unit","Bid Qty","Qty","Unit","Price","plus Fee","Price","Unit"]
[null,"Chemicals"]
[]
[48001,"Bleach","Distributor Choice",null,null,"6/96 z",576,35,{"$f":"ROUND(H8*G8/G8,2)","v":35},"Cs"]
[null,"Must contain 6% sodium hypochlorite"]
[null,"Must be EPA approved and have MSDS information.","Fillable txt box ",null,null,null,null,null,{"$f":"ROUND(H8*G8/G10,2)","v":{"$error":"#DIV/0!"}},null,0,{"$f":"IF(OR(ISBLANK(K10),K10=0,H8=0,ISBLANK(H8)),,ROUND(K10+$L$3,2))","v":0},{"$f":"ROUND(I10*L10,2)","v":{"$error":"#DIV/0!"}},{"$f":"ROUND(L10/G10,2)","v":{"$error":"#DIV/0!"}}]
[48002,"Cleaner","Distributor Choice",null,null,"24/21 z",504,10,{"$f":"ROUND(H11*G11/G11,2)","v":10},"Cs"]
[null,"Scouring Powder, Must have MSDS information","Fillable txt box ",null,null,null,null,null,{"$f":"ROUND(H11*G11/G12,2)","v":{"$error":"#DIV/0!"}},null,0,{"$f":"IF(OR(ISBLANK(K12),K12=0,H11=0,ISBLANK(H11)),,ROUND(K12+$L$3,2))","v":0},{"$f":"ROUND(I12*L12,2)","v":{"$error":"#DIV/0!"}},{"$f":"ROUND(L12/G12,2)","v":{"$error":"#DIV/0!"}}]
[48003,"Liquid Detergent","Distributor Choice",null,null,"5 gal",5,10,{"$f":"ROUND($H$13*$G$13/G13,2)","v":10},"Cs"]
[null,"Must have MSDS information","Fillable txt box ",null,null,null,null,null,{"$f":"ROUND(H13*G13/G14,2)","v":{"$error":"#DIV/0!"}},null,0,{"$f":"IF(OR(ISBLANK(K14),K14=0,H13=0,ISBLANK(H13)),,ROUND(K14+$L$3,2))","v":0},{"$f":"ROUND(I14*L14,2)","v":{"$error":"#DIV/0!"}},{"$f":"ROUND(L14/G14,2)","v":{"$error":"#DIV/0!"}}]
[]
[]
[null,null,null,null,null,null,null,0,null,"Page Total",null,null,{"$f":"SUMIF(M8:M15,\">0\")","v":0}]

{"sheet":"Sheet2","index":27,"n_rows":31,"n_cols":4,"rows_kept":31,"cut":false,"hidden":true,"merged":[]}
[1,{"$f":"IFERROR(INDEX(ListSheets,ROWS($A$1:A1)),\"\")","v":"Recap Sheet"}]
[2,{"$f":"IFERROR(INDEX(ListSheets,ROWS($A$1:A2)),\"\")","v":"Instructions"},100,2000]
[3,{"$f":"IFERROR(INDEX(ListSheets,ROWS($A$1:A3)),\"\")","v":"Beef"},2001,4000]
[4,{"$f":"IFERROR(INDEX(ListSheets,ROWS($A$1:A4)),\"\")","v":"Chicken"},4001,6000]
[5,{"$f":"IFERROR(INDEX(ListSheets,ROWS($A$1:A5)),\"\")","v":"Turkey"},6001,8000]
[6,{"$f":"IFERROR(INDEX(ListSheets,ROWS($A$1:A6)),\"\")","v":"Fish"},8001,10000]
[7,{"$f":"IFERROR(INDEX(ListSheets,ROWS($A$1:A7)),\"\")","v":"Pork"},10001,12000]
[8,{"$f":"IFERROR(INDEX(ListSheets,ROWS($A$1:A8)),\"\")","v":"Pizza "},12001,14000]
[9,{"$f":"IFERROR(INDEX(ListSheets,ROWS($A$1:A9)),\"\")","v":"Frozen Entrees"},14001,16000]
[10,{"$f":"IFERROR(INDEX(ListSheets,ROWS($A$1:A10)),\"\")","v":"Dairy & Yogurt"},16001,18000]
[11,{"$f":"IFERROR(INDEX(ListSheets,ROWS($A$1:A11)),\"\")","v":"Franks & Corn Dogs"},18001,20000]
[12,{"$f":"IFERROR(INDEX(ListSheets,ROWS($A$1:A12)),\"\")","v":"Eggs"},20001,22000]
[13,{"$f":"IFERROR(INDEX(ListSheets,ROWS($A$1:A13)),\"\")","v":"Frozen Potato "},22001,24000]
[14,{"$f":"IFERROR(INDEX(ListSheets,ROWS($A$1:A14)),\"\")","v":"Fruit"},24001,26000]
[15,{"$f":"IFERROR(INDEX(ListSheets,ROWS($A$1:A15)),\"\")","v":"Shelf-stable Vegetables"},26001,28000]
[16,{"$f":"IFERROR(INDEX(ListSheets,ROWS($A$1:A16)),\"\")","v":"Breakfast Products"},28001,30000]
[17,{"$f":"IFERROR(INDEX(ListSheets,ROWS($A$1:A17)),\"\")","v":"Smart Snacks"},30001,32000]
[18,{"$f":"IFERROR(INDEX(ListSheets,ROWS($A$1:A18)),\"\")","v":"Beverages"},32001,34000]
[19,{"$f":"IFERROR(INDEX(ListSheets,ROWS($A$1:A19)),\"\")","v":"Condiments Portion Control"},34001,36000]
[20,{"$f":"IFERROR(INDEX(ListSheets,ROWS($A$1:A20)),\"\")","v":"Frz Bread"},36001,38000]
[21,{"$f":"IFERROR(INDEX(ListSheets,ROWS($A$1:A21)),\"\")","v":"Frz Juice"},38001,40000]
[22,{"$f":"IFERROR(INDEX(ListSheets,ROWS($A$1:A22)),\"\")","v":"Groceries"},40001,42000]
[23,{"$f":"IFERROR(INDEX(ListSheets,ROWS($A$1:A23)),\"\")","v":"Frz Vegetables"},42001,44000]
[24,{"$f":"IFERROR(INDEX(ListSheets,ROWS($A$1:A24)),\"\")","v":"Spices- Flavorings"},44001,46000]
[25,{"$f":"IFERROR(INDEX(ListSheets,ROWS($A$1:A25)),\"\")","v":"Special Diet Foods"},46001,48000]
[26,{"$f":"IFERROR(INDEX(ListSheets,ROWS($A$1:A26)),\"\")","v":"Disposables"},48001,50000]
[27,{"$f":"IFERROR(INDEX(ListSheets,ROWS($A$1:A27)),\"\")","v":"Chemicals"},50001,52000]
[null,{"$f":"IFERROR(INDEX(ListSheets,ROWS($A$1:A28)),\"\")","v":"Sheet2"}]
[null,{"$f":"IFERROR(INDEX(ListSheets,ROWS($A$1:A29)),\"\")","v":""}]
[null,{"$f":"IFERROR(INDEX(ListSheets,ROWS($A$1:A30)),\"\")","v":""}]
[null,{"$f":"IFERROR(INDEX(ListSheets,ROWS($A$1:A31)),\"\")","v":""}]